{"text_format":"1","workbook":"xlsx","n_sheets":4,"sheets":["Information","Panel Calculations","Path Calculations","Guides"],"not_rendered":{"charts":3,"images":0,"macros":1,"external_links":0,"defined_names":5,"comments":0,"pivot_tables":0},"unopened":[],"bounds":{"document_bytes":16777216,"sheet_cells":100000,"rows_first":2000,"rows_last":500,"rows_between":2000,"halvings":0,"cell_chars":16384,"cell_head_chars":4096},"cells_cut":0,"cells_raw":0,"read":"whole","date_system":"1900"}

{"sheet":"Information","index":0,"n_rows":105,"n_cols":11,"rows_kept":105,"cut":false,"hidden":false,"merged":[[101,3,101,7],[102,3,102,7],[103,3,103,7],[104,3,104,7],[96,3,96,7],[97,3,97,7],[98,3,98,7],[99,3,99,7],[100,3,100,7],[91,3,91,7],[92,3,92,7],[93,3,93,7],[94,3,94,7],[95,3,95,7],[86,3,86,7],[87,3,87,7],[88,3,88,7],[89,3,89,7],[90,3,90,7],[81,3,81,7],[82,3,82,7],[83,3,83,7],[84,3,84,7],[85,3,85,7],[76,3,76,7],[77,3,77,7],[78,3,78,7],[79,3,79,7],[80,3,80,7],[71,3,71,7],[72,3,72,7],[73,3,73,7],[74,3,74,7],[75,3,75,7],[65,3,65,17],[67,3,67,7],[68,3,68,7],[69,3,69,7],[70,3,70,7],[11,8,11,10],[9,8,9,10],[6,8,6,10],[4,8,4,10],[5,8,5,10],[7,8,7,10],[8,8,8,10]]}
[null,"TQWT","=",0.1]
[]
[null,"Driver Dimensions"]
[null,"Frame Width","=",31,"cm",{"$f":"D4/2.54","v":12.204724409448819},"in",null,"Plot"]
[null,"Mounting Width","=",28,"cm",{"$f":"D5/2.54","v":11.023622047244094},"in","x",{"$f":"CONCATENATE('Panel Calculations'!B31,\" \",'Panel Calculations'!C31)","v":"Panel A (baffle)"}]
[null,"Mounting Depth","=",13.2,"cm",{"$f":"D6/2.54","v":5.1968503937007871},"in","x",{"$f":"CONCATENATE('Panel Calculations'!B37,\" \",'Panel Calculations'!C37)","v":"Panel B (top)"}]
[null,"Magnet Width","=",19,"cm",{"$f":"D7/2.54","v":7.4803149606299213},"in","x",{"$f":"CONCATENATE('Panel Calculations'!B43,\" \",'Panel Calculations'!C43)","v":"Panel C (bottom)"}]
[null,"Magnet Height","=",2.5,"cm",{"$f":"D8/2.54","v":0.98425196850393704},"in","x",{"$f":"CONCATENATE('Panel Calculations'!B49,\" \",'Panel Calculations'!C49)","v":"Panel D (back)"}]
[null,null,null,null,null,null,null,"x",{"$f":"CONCATENATE('Panel Calculations'!B55,\" \",'Panel Calculations'!C55)","v":"Panel E (1st inside)"}]
[null,"Box Dimensions",null,null,null,null,null,"x",{"$f":"CONCATENATE('Panel Calculations'!B61,\" \",'Panel Calculations'!C61)","v":"Panel F (2nd inside)"}]
[null,"Depth","=",{"$f":"14*2.54","v":35.56},"cm",{"$f":"D11/2.54","v":14},"in","x",{"$f":"CONCATENATE('Panel Calculations'!B67,\" \",'Panel Calculations'!C67)","v":"Panel G (sides)"}]
[null,"Height","=",{"$f":"34*2.54","v":86.36},"cm",{"$f":"D12/2.54","v":34},"in","x",{"$f":"CONCATENATE('Panel Calculations'!B73,\" \",'Panel Calculations'!C73)","v":"Panel H (port separator)"}]
[null,"Width","=",{"$f":"14*2.54","v":35.56},"cm",{"$f":"D13/2.54","v":14},"in"]
[null,null,null,null,null,null,null,"x","Profile View"]
[null,"Box Parameters"]
[null,"Panel Thickness","=",2,"cm",{"$f":"D16/2.54","v":0.78740157480314954},"in",null,"Plot"]
[null,"Baffle Offset","=",2,"cm",{"$f":"D17/2.54","v":0.78740157480314954},"in","x","Advanced Centerline"]
[null,"Driver Offset","=",5,"cm",{"$f":"D18/2.54","v":1.9685039370078741},"in","x","Sample points"]
[null,null,null,null,null,null,null,"x","Guide lines"]
[null,"Baffle Width","=",{"$f":"D13-2*D50","v":31.560000000000002},"cm",{"$f":"D20/2.54","v":12.425196850393702},"in","x","Driver"]
[]
[]
[null,"HornResp Params"]
[null,"S1","=",{"$f":"ROUND('Path Calculations'!P8,0)","v":0},"cm^2"]
[null,"S2","=",{"$f":"ROUND('Path Calculations'!P63,0)","v":575},"cm^2"]
[null,"S3","=",{"$f":"'Path Calculations'!E67","v":934.45067963614429},"cm^2"]
[null,"S4","=",300,"cm^2"]
[null,"S5","=",{"$f":"'Path Calculations'!P59","v":300},"cm^2"]
[null,"L12","=",{"$f":"ROUND('Path Calculations'!O63,1)","v":78.900000000000006},"cm"]
[null,"L23","=",{"$f":"'Path Calculations'!G67","v":49.191172440307525},"cm"]
[null,"L34","=",{"$f":"'Path Calculations'!G68","v":3.4249785962964268},"cm"]
[null,"L45","=",{"$f":"'Path Calculations'!G69","v":32.073735357847823},"cm"]
[]
[null,"L (actual)","=",{"$f":"SUM(D29:D31)","v":131.51615103660396},"cm"]
[]
[]
[null,"Box Design"]
[null,"Vol. (net)","=",{"$f":"D39-I54","v":74.70314696016942},"l.",{"$f":"(D38*1000/2.54^3)/1728","v":2.6381167379447672},"cu.ft."]
[null,"Vol. (gross)","=",{"$f":"D11*D12*D13/1000","v":109.203394496},"l.",{"$f":"D39*0.0353","v":3.8548798257087999},"cu.ft."]
[]
[null,"Expansion","=",null,null,13.168700163604557,{"$f":"'Path Calculations'!S32","v":1.3538114421862701E-4}]
[]
[null,"Panels",null,"p","x","y","Goals","#","v"]
[null,{"$f":"I5","v":"Panel A (baffle)"},null,{"$f":"$D$16","v":2},{"$f":"D20","v":31.560000000000002},{"$f":"'Panel Calculations'!L32","v":70.211150202976995},null,1,{"$f":"F44*E44*D44*H44/10^3","v":4.4317278008119079}]
[null,{"$f":"I6","v":"Panel B (top)"},null,2,{"$f":"D20","v":31.560000000000002},{"$f":"'Panel Calculations'!L38","v":35.56},null,1,2.2445472000000004]
[null,{"$f":"I7","v":"Panel C (bottom)"},null,2,{"$f":"D20","v":31.560000000000002},{"$f":"'Panel Calculations'!L44","v":35.56},null,1,2.2445472000000004]
[null,{"$f":"I8","v":"Panel D (back)"},null,2,{"$f":"D20","v":31.560000000000002},{"$f":"'Panel Calculations'!L51","v":82.36},null,1,5.1985632000000006]
[null,{"$f":"I9","v":"Panel E (1st inside)"},null,2,{"$f":"D20","v":31.560000000000002},47.724574421013855,{"$f":"'Path Calculations'!S23","v":6.8585222834371962E-8},1,3.012375137454395]
[null,{"$f":"I10","v":"Panel F (2nd inside)"},null,2,{"$f":"D20","v":31.560000000000002},{"$f":"'Panel Calculations'!L62","v":23.411150202976998},null,1,1.4777118008119083]
[null,{"$f":"I11","v":"Panel G (sides)"},null,2,{"$f":"'Panel Calculations'!L68","v":35.56},{"$f":"'Panel Calculations'!L71","v":86.36},null,2,{"$f":"F50*E50*D50*H50/10^3","v":12.2838464}]
[null,{"$f":"I12","v":"Panel H (port separator)"},null,2,{"$f":"'Panel Calculations'!L74","v":33.56},{"$f":"'Panel Calculations'!L75","v":10.148849797023002},null,2,{"$f":"F51*E51*D51*H51/10^3","v":1.3623815967523678}]
[null,"Baffle Offset",null,{"$f":"D17","v":2},{"$f":"D20","v":31.560000000000002},{"$f":"F45","v":35.56},null,1,{"$f":"F52*E52*D52*H52/10^3","v":2.2445472000000004}]
[]
[null,null,null,null,null,null,null,"Pnl Vol",{"$f":"SUM(I44:I53)","v":34.500247535830582},"l"]
[]
[]
[null,"Equivalent Vented"]
[null,"Net Volume","=",{"$f":"D38","v":74.70314696016942},"l.",{"$f":"D58*0.0353","v":2.6370210876939804},"cu.ft.",null,"Axes","x","y"]
[null,"Vent Area","=",{"$f":"D27","v":300},"cm^2",{"$f":"D59/2.54^2","v":46.500093000185998},"in^2",null,"Axis 1",0,0]
[null,"Vent Length","=",{"$f":"D32+D31/2","v":33.786224655996037},"cm",{"$f":"D60/2.54","v":13.30166325039214},"in",null,null,{"$f":"J59","v":0},{"$f":"MAX('Panel Calculations'!D3:E65)","v":86.36}]
[null,"Equiv. Vent Dia.","=",{"$f":"2*(D59/PI())^0.5","v":19.544100476116796},"cm",{"$f":"D61/2.54","v":7.6945277465026756},"in",null,"Axis 2",0,0]
[null,"Port Ratio","=",{"$f":"D20/(D59/D20)","v":3.3201120000000004},null,null,null,null,null,{"$f":"K60","v":86.36},{"$f":"K61","v":0}]
[null,"Sd/Vent","=",{"$f":"D89/D59","v":1.7696666666666665}]
[]
[]
[null,"Filename","=","I:\\Users\\Brian.Steele\\OneDrive\\Hornresp\\Import\\BOXPLAN.TXT"]
[]
[null,"ID","=","29.00",null,null,null,null,null,{"$f":"CONCATENATE(B68,C68,D68)","v":"ID=29.00"}]
[null,"Ang","=","2.0 x PI",null,null,null,null,null,{"$f":"CONCATENATE(B69,C69,D69)","v":"Ang=2.0 x PI"}]
[null,"Eg","=",2.83,null,null,null,null,null,"Eg=2.83"]
[null,"Rg","=",0,null,null,null,null,null,"Rg=0"]
[null,"Fta","=",0,null,null,null,null,null,"Fta=0"]
[null,"S1","=",{"$f":"D24","v":0},null,null,null,null,null,"S1=0"]
[null,"S2","=",{"$f":"ROUND(D25,0)","v":575},null,null,null,null,null,"S2=575"]
[null,"Par","=",{"$f":"ROUND(D29,1)","v":78.900000000000006},null,null,null,null,null,"Par=78.9"]
[null,"F12","=",0,null,null,null,null,null,"F12=0"]
[null,"S2","=",{"$f":"D74","v":575},null,null,null,null,null,"S2=575"]
[null,"S3","=",{"$f":"ROUND(D26,0)","v":934},null,null,null,null,null,"S3=934"]
[null,"Par","=",{"$f":"ROUND(D30,1)","v":49.2},null,null,null,null,null,"Par=49.2"]
[null,"F23","=",0,null,null,null,null,null,"F23=0"]
[null,"S3","=",{"$f":"D78","v":934},null,null,null,null,null,"S3=934"]
[null,"S4","=",{"$f":"ROUND(D27,0)","v":300},null,null,null,null,null,"S4=300"]
[null,"Par","=",{"$f":"ROUND(D31,1)","v":3.4},null,null,null,null,null,"Par=3.4"]
[null,"F34","=",0,null,null,null,null,null,"F34=0"]
[null,"S4","=",{"$f":"D82","v":300},null,null,null,null,null,"S4=300"]
[null,"S5","=",{"$f":"ROUND(D28,0)","v":300},null,null,null,null,null,"S5=300"]
[null,"Par","=",{"$f":"ROUND(D32,1)","v":32.1},null,null,null,null,null,"Par=32.1"]
[null,"F45","=",0,null,null,null,null,null,"F45=0"]
[null,"Sd","=",530.9,null,null,null,null,null,"Sd=530.9"]
[null,"Bl","=",16.649999999999999,null,null,null,null,null,"Bl=16.65"]
[null,"Cms","=",2.4699999999999999E-4,null,null,null,null,null,"Cms=0.000247"]
[null,"Rms","=",2.2000000000000002,null,null,null,null,null,"Rms=2.2"]
[null,"Mmd","=",60.38,null,null,null,null,null,"Mmd=60.38"]
[null,"Le","=",1.4,null,null,null,null,null,"Le=1.4"]
[null,"Re","=",5.2,null,null,null,null,null,"Re=5.2"]
[null,"OD","=",1,null,null,null,null,null,"OD=1"]
[null,"Vrc","=",0,null,null,null,null,null,"Vrc=0"]
[null,"Lrc","=",0,null,null,null,null,null,"Lrc=0"]
[null,"Ap1","=",0,null,null,null,null,null,"Ap1=0"]
[null,"Lp","=",0,null,null,null,null,null,"Lp=0"]
[null,"Vtc","=",0,null,null,null,null,null,"Vtc=0"]
[null,"Atc","=",0,null,null,null,null,null,"Atc=0"]
[null,"Pmax","=",350,null,null,null,null,null,"Pmax=350"]
[null,"Xmax","=",12,null,null,null,null,null,"Xmax=12"]
[null,"Comment","=","BOXPLAN-TQWT",null,null,null,null,null,"Comment=BOXPLAN-TQWT"]

{"sheet":"Panel Calculations","index":1,"n_rows":121,"n_cols":18,"rows_kept":121,"cut":false,"hidden":false,"merged":[]}
[]
[null,"Offset",null,"x","y"]
[null,null,null,0,0]
[null,null,null,null,null,null,null,null,null,null,null,null,"Axes",null,0,0]
[null,"Driver",null,"x","y",null,null,null,null,null,null,null,null,null,0,{"$f":"MAX(D2:E124)","v":86.36}]
[null,null,null,{"$f":"D31","v":2},{"$f":"E37-Information!D4-Information!D18","v":48.36},null,{"$f":"IF(Information!$H$20=\"x\",'Panel Calculations'!D6,\"\")","v":2},{"$f":"IF(Information!$H$20=\"x\",'Panel Calculations'!E6,\"\")","v":48.36}]
[null,null,null,{"$f":"D6","v":2},{"$f":"E6+Information!D4","v":79.36},null,{"$f":"IF(Information!$H$20=\"x\",'Panel Calculations'!D7,\"\")","v":2},{"$f":"IF(Information!$H$20=\"x\",'Panel Calculations'!E7,\"\")","v":79.36},null,null,null,null,null,null,{"$f":"O4","v":0},{"$f":"P4","v":0}]
[null,null,null,{"$f":"D7","v":2},{"$f":"E7-(Information!D4-Information!D5)/2","v":77.86},null,{"$f":"IF(Information!$H$20=\"x\",'Panel Calculations'!D8,\"\")","v":2},{"$f":"IF(Information!$H$20=\"x\",'Panel Calculations'!E8,\"\")","v":77.86},null,null,null,null,null,null,{"$f":"P5","v":86.36},{"$f":"P4","v":0}]
[null,null,null,{"$f":"D8+Information!D6-Information!D8","v":12.7},{"$f":"E8-(Information!D5-Information!D7)/2","v":73.36},null,{"$f":"IF(Information!$H$20=\"x\",'Panel Calculations'!D9,\"\")","v":12.7},{"$f":"IF(Information!$H$20=\"x\",'Panel Calculations'!E9,\"\")","v":73.36}]
[null,null,null,{"$f":"D9+Information!D8","v":15.2},{"$f":"E9","v":73.36},null,{"$f":"IF(Information!$H$20=\"x\",'Panel Calculations'!D10,\"\")","v":15.2},{"$f":"IF(Information!$H$20=\"x\",'Panel Calculations'!E10,\"\")","v":73.36}]
[null,null,null,{"$f":"D10","v":15.2},{"$f":"E10-Information!D7","v":54.36},null,{"$f":"IF(Information!$H$20=\"x\",'Panel Calculations'!D11,\"\")","v":15.2},{"$f":"IF(Information!$H$20=\"x\",'Panel Calculations'!E11,\"\")","v":54.36}]
[null,null,null,{"$f":"D9","v":12.7},{"$f":"E11","v":54.36},null,{"$f":"IF(Information!$H$20=\"x\",'Panel Calculations'!D12,\"\")","v":12.7},{"$f":"IF(Information!$H$20=\"x\",'Panel Calculations'!E12,\"\")","v":54.36}]
[null,null,null,{"$f":"D8","v":2},{"$f":"E6+(Information!D4-Information!D5)/2","v":49.86},null,{"$f":"IF(Information!$H$20=\"x\",'Panel Calculations'!D13,\"\")","v":2},{"$f":"IF(Information!$H$20=\"x\",'Panel Calculations'!E13,\"\")","v":49.86}]
[null,null,null,{"$f":"D13","v":2},{"$f":"E6+Information!D4/2","v":63.86},null,{"$f":"IF(Information!$H$20=\"x\",'Panel Calculations'!D14,\"\")","v":2},{"$f":"IF(Information!$H$20=\"x\",'Panel Calculations'!E14,\"\")","v":63.86}]
[null,null,null,{"$f":"D12","v":12.7},{"$f":"E14","v":63.86},null,{"$f":"IF(Information!$H$20=\"x\",'Panel Calculations'!D15,\"\")","v":12.7},{"$f":"IF(Information!$H$20=\"x\",'Panel Calculations'!E15,\"\")","v":63.86}]
[null,null,null,{"$f":"D15","v":12.7},{"$f":"E12","v":54.36},null,{"$f":"IF(Information!$H$20=\"x\",'Panel Calculations'!D16,\"\")","v":12.7},{"$f":"IF(Information!$H$20=\"x\",'Panel Calculations'!E16,\"\")","v":54.36}]
[null,null,null,{"$f":"D16","v":12.7},{"$f":"E10","v":73.36},null,{"$f":"IF(Information!$H$20=\"x\",'Panel Calculations'!D17,\"\")","v":12.7},{"$f":"IF(Information!$H$20=\"x\",'Panel Calculations'!E17,\"\")","v":73.36}]
[]
[]
[]
[null,null,null,null,null,null,null,null,null,null,null,null,null,null,"Expansion","Cos","Sin","Tan"]
[null,null,null,null,null,null,null,null,null,null,null,null,null,null,{"$f":"Information!F41","v":13.168700163604557},{"$f":"COS(O22*PI()/180)","v":0.97370350229643865},{"$f":"SIN(O22*PI()/180)","v":0.22781898431792147},{"$f":"TAN(O22*PI()/180)","v":0.23397161844506054}]
[null,null,null,null,null,null,null,null,null,null,null,null,null,null,{"$f":"O22/2","v":6.5843500818022784},{"$f":"COS(O23*PI()/(180*2))","v":0.99834966889760923},{"$f":"SIN(O23*PI()/(180*2))","v":5.7427681583308902E-2},{"$f":"TAN(O23*PI()/(180*2))","v":5.7522612940535449E-2}]
[null,null,null,null,null,null,null,null,null,"dx","dy"]
[]
[]
[]
[]
[]
[]
[null,"Panel A","(baffle)",{"$f":"D64+Information!D17","v":2},{"$f":"E63","v":14.148849797023002},null,{"$f":"IF(Information!$H$5=\"x\",'Panel Calculations'!D31,0)","v":2},{"$f":"IF(Information!$H$5=\"x\",'Panel Calculations'!E31,0)","v":14.148849797023002}]
[null,null,null,{"$f":"D31","v":2},{"$f":"E37","v":84.36},null,{"$f":"IF(Information!$H$5=\"x\",'Panel Calculations'!D32,0)","v":2},{"$f":"IF(Information!$H$5=\"x\",'Panel Calculations'!E32,0)","v":84.36},null,{"$f":"D31-D32","v":0},{"$f":"E31-E32","v":-70.211150202976995},{"$f":"(J32^2+K32^2)^0.5","v":70.211150202976995}]
[null,null,null,{"$f":"D32+Information!D44","v":4},{"$f":"E32","v":84.36},null,{"$f":"IF(Information!$H$5=\"x\",'Panel Calculations'!D33,0)","v":4},{"$f":"IF(Information!$H$5=\"x\",'Panel Calculations'!E33,0)","v":84.36},null,-2,0,{"$f":"(J33^2+K33^2)^0.5","v":2}]
[null,null,null,{"$f":"D33","v":4},{"$f":"E31","v":14.148849797023002},null,{"$f":"IF(Information!$H$5=\"x\",'Panel Calculations'!D34,0)","v":4},{"$f":"IF(Information!$H$5=\"x\",'Panel Calculations'!E34,0)","v":14.148849797023002},null,0,70.211150202976995,{"$f":"(J34^2+K34^2)^0.5","v":70.211150202976995}]
[null,null,null,{"$f":"D31","v":2},{"$f":"E31","v":14.148849797023002},null,{"$f":"IF(Information!$H$5=\"x\",'Panel Calculations'!D35,0)","v":2},{"$f":"IF(Information!$H$5=\"x\",'Panel Calculations'!E35,0)","v":14.148849797023002},null,2,0,{"$f":"(J35^2+K35^2)^0.5","v":2}]
[]
[null,"Panel B","(top)",{"$f":"D70","v":0},{"$f":"E69-Information!D46","v":84.36},null,{"$f":"IF(Information!$H$6=\"x\",'Panel Calculations'!D37,0)","v":0},{"$f":"IF(Information!$H$6=\"x\",'Panel Calculations'!E37,0)","v":84.36}]
[null,null,null,{"$f":"D37+Information!D11","v":35.56},{"$f":"E37","v":84.36},null,{"$f":"IF(Information!$H$6=\"x\",'Panel Calculations'!D38,0)","v":35.56},{"$f":"IF(Information!$H$6=\"x\",'Panel Calculations'!E38,0)","v":84.36},null,{"$f":"D37-D38","v":-35.56},0,{"$f":"(J38^2+K38^2)^0.5","v":35.56}]
[null,null,null,{"$f":"D38","v":35.56},{"$f":"E38+Information!D16","v":86.36},null,{"$f":"IF(Information!$H$6=\"x\",'Panel Calculations'!D39,0)","v":35.56},{"$f":"IF(Information!$H$6=\"x\",'Panel Calculations'!E39,0)","v":86.36},null,0,-2,{"$f":"(J39^2+K39^2)^0.5","v":2}]
[null,null,null,{"$f":"D37","v":0},{"$f":"E39","v":86.36},null,{"$f":"IF(Information!$H$6=\"x\",'Panel Calculations'!D40,0)","v":0},{"$f":"IF(Information!$H$6=\"x\",'Panel Calculations'!E40,0)","v":86.36},null,35.56,0,{"$f":"(J40^2+K40^2)^0.5","v":35.56}]
[null,null,null,{"$f":"D37","v":0},{"$f":"E37","v":84.36},null,{"$f":"IF(Information!$H$6=\"x\",'Panel Calculations'!D41,0)","v":0},{"$f":"IF(Information!$H$6=\"x\",'Panel Calculations'!E41,0)","v":84.36},null,0,2,{"$f":"(J41^2+K41^2)^0.5","v":2}]
[]
[null,"Panel C","(bottom)",{"$f":"D67","v":0},{"$f":"E67+Information!D46","v":2},null,{"$f":"IF(Information!$H$7=\"x\",'Panel Calculations'!D43,0)","v":0},{"$f":"IF(Information!$H$7=\"x\",'Panel Calculations'!E43,0)","v":2}]
[null,null,null,{"$f":"D68","v":35.56},{"$f":"E43","v":2},null,{"$f":"IF(Information!$H$7=\"x\",'Panel Calculations'!D44,0)","v":35.56},{"$f":"IF(Information!$H$7=\"x\",'Panel Calculations'!E44,0)","v":2},null,{"$f":"D43-D44","v":-35.56},0,{"$f":"(J44^2+K44^2)^0.5","v":35.56}]
[null,null,null,{"$f":"D44","v":35.56},{"$f":"E44-Information!D16","v":0},null,{"$f":"IF(Information!$H$7=\"x\",'Panel Calculations'!D45,0)","v":35.56},{"$f":"IF(Information!$H$7=\"x\",'Panel Calculations'!E45,0)","v":0},null,0,2,{"$f":"(J45^2+K45^2)^0.5","v":2}]
[null,null,null,{"$f":"D43","v":0},{"$f":"E45","v":0},null,{"$f":"IF(Information!$H$7=\"x\",'Panel Calculations'!D46,0)","v":0},{"$f":"IF(Information!$H$7=\"x\",'Panel Calculations'!E46,0)","v":0},null,35.56,0,{"$f":"(J46^2+K46^2)^0.5","v":35.56}]
[null,null,null,{"$f":"D43","v":0},{"$f":"E43","v":2},null,{"$f":"IF(Information!$H$7=\"x\",'Panel Calculations'!D47,0)","v":0},{"$f":"IF(Information!$H$7=\"x\",'Panel Calculations'!E47,0)","v":2},null,0,-2,{"$f":"(J47^2+K47^2)^0.5","v":2}]
[]
[null,"Panel D","(back)",{"$f":"D68","v":35.56},{"$f":"E67+Information!D46","v":2},null,{"$f":"IF(Information!$H$8=\"x\",'Panel Calculations'!D49,0)","v":35.56},{"$f":"IF(Information!$H$8=\"x\",'Panel Calculations'!E49,0)","v":2}]
[null,null,null,{"$f":"D49-Information!D16","v":33.56},{"$f":"E49","v":2},null,{"$f":"IF(Information!$H$8=\"x\",'Panel Calculations'!D50,0)","v":33.56},{"$f":"IF(Information!$H$8=\"x\",'Panel Calculations'!E50,0)","v":2},null,{"$f":"D49-D50","v":2},0,{"$f":"(J50^2+K50^2)^0.5","v":2}]
[null,null,null,{"$f":"D50","v":33.56},{"$f":"E38","v":84.36},null,{"$f":"IF(Information!$H$8=\"x\",'Panel Calculations'!D51,0)","v":33.56},{"$f":"IF(Information!$H$8=\"x\",'Panel Calculations'!E51,0)","v":84.36},null,0,-82.36,{"$f":"(J51^2+K51^2)^0.5","v":82.36}]
[null,null,null,{"$f":"D51+Information!D16","v":35.56},{"$f":"E51","v":84.36},null,{"$f":"IF(Information!$H$8=\"x\",'Panel Calculations'!D52,0)","v":35.56},{"$f":"IF(Information!$H$8=\"x\",'Panel Calculations'!E52,0)","v":84.36},null,-2,0,{"$f":"(J52^2+K52^2)^0.5","v":2}]
[null,null,null,{"$f":"D49","v":35.56},{"$f":"E49","v":2},null,{"$f":"IF(Information!$H$8=\"x\",'Panel Calculations'!D53,0)","v":35.56},{"$f":"IF(Information!$H$8=\"x\",'Panel Calculations'!E53,0)","v":2},null,0,82.36,{"$f":"(J53^2+K53^2)^0.5","v":82.36}]
[]
[null,"Panel E","(1st inside)",{"$f":"D50","v":33.56},{"$f":"E63+(D55-D34)*Q23+Information!D48/Q22","v":24.625311707198858},null,{"$f":"IF(Information!$H$9=\"x\",'Panel Calculations'!D55,0)","v":33.56},{"$f":"IF(Information!$H$9=\"x\",'Panel Calculations'!E55,0)","v":24.625311707198858}]
[null,null,null,{"$f":"D55-Information!F48*Q22","v":22.687435928399573},{"$f":"E55+Information!F48*P22","v":71.094896966547083},null,{"$f":"IF(Information!$H$9=\"x\",'Panel Calculations'!D56,0)","v":22.687435928399573},{"$f":"IF(Information!$H$9=\"x\",'Panel Calculations'!E56,0)","v":71.094896966547083},null,{"$f":"D55-D56","v":10.872564071600429},-46.469585259348221,{"$f":"(J56^2+K56^2)^0.5","v":47.724574421013855}]
[null,null,null,{"$f":"D56-Information!D48*P22","v":20.740028923806697},{"$f":"E56-Information!D48*Q22","v":70.639258997911242},null,{"$f":"IF(Information!$H$9=\"x\",'Panel Calculations'!D57,0)","v":20.740028923806697},{"$f":"IF(Information!$H$9=\"x\",'Panel Calculations'!E57,0)","v":70.639258997911242},null,1.9474070045928755,0.45563796863584116,{"$f":"(J57^2+K57^2)^0.5","v":1.999999999999998}]
[null,null,null,{"$f":"D55-Information!D48*P22","v":31.612592995407127},{"$f":"E55-Information!D48*Q22","v":24.169673738563013},null,{"$f":"IF(Information!$H$9=\"x\",'Panel Calculations'!D58,0)","v":31.612592995407127},{"$f":"IF(Information!$H$9=\"x\",'Panel Calculations'!E58,0)","v":24.169673738563013},null,-10.872564071600429,46.469585259348229,{"$f":"(J58^2+K58^2)^0.5","v":47.724574421013862}]
[null,null,null,{"$f":"D55","v":33.56},{"$f":"E55","v":24.625311707198858},null,{"$f":"IF(Information!$H$9=\"x\",'Panel Calculations'!D59,0)","v":33.56},{"$f":"IF(Information!$H$9=\"x\",'Panel Calculations'!E59,0)","v":24.625311707198858},null,-1.9474070045928755,-0.45563796863584471,{"$f":"(J59^2+K59^2)^0.5","v":1.9999999999999987}]
[]
[null,"Panel F","(2nd inside)",{"$f":"D40","v":0},{"$f":"E43+Information!D27/(Information!D20-Information!$D$51)","v":12.148849797023002},null,{"$f":"IF(Information!$H$10=\"x\",'Panel Calculations'!D61,0)","v":0},{"$f":"IF(Information!$H$10=\"x\",'Panel Calculations'!E61,0)","v":12.148849797023002}]
[null,null,null,{"$f":"D55-(Information!D27/(Information!D20-Information!$D$51))","v":23.411150202976998},{"$f":"E61","v":12.148849797023002},null,{"$f":"IF(Information!$H$10=\"x\",'Panel Calculations'!D62,0)","v":23.411150202976998},{"$f":"IF(Information!$H$10=\"x\",'Panel Calculations'!E62,0)","v":12.148849797023002},null,{"$f":"D61-D62","v":-23.411150202976998},0,{"$f":"(J62^2+K62^2)^0.5","v":23.411150202976998}]
[null,null,null,{"$f":"D62","v":23.411150202976998},{"$f":"E62+Information!D50","v":14.148849797023002},null,{"$f":"IF(Information!$H$10=\"x\",'Panel Calculations'!D63,0)","v":23.411150202976998},{"$f":"IF(Information!$H$10=\"x\",'Panel Calculations'!E63,0)","v":14.148849797023002},null,0,-2,{"$f":"(J63^2+K63^2)^0.5","v":2}]
[null,null,null,{"$f":"D61","v":0},{"$f":"E63","v":14.148849797023002},null,{"$f":"IF(Information!$H$10=\"x\",'Panel Calculations'!D64,0)","v":0},{"$f":"IF(Information!$H$10=\"x\",'Panel Calculations'!E64,0)","v":14.148849797023002},null,23.411150202976998,0,{"$f":"(J64^2+K64^2)^0.5","v":23.411150202976998}]
[null,null,null,{"$f":"D61","v":0},{"$f":"E61","v":12.148849797023002},null,{"$f":"IF(Information!$H$10=\"x\",'Panel Calculations'!D65,0)","v":0},{"$f":"IF(Information!$H$10=\"x\",'Panel Calculations'!E65,0)","v":12.148849797023002},null,0,2,{"$f":"(J65^2+K65^2)^0.5","v":2}]
[]
[null,"Panel G","(sides)",{"$f":"D3","v":0},{"$f":"E3","v":0},null,{"$f":"IF(Information!$H$11=\"x\",'Panel Calculations'!D67,0)","v":0},{"$f":"IF(Information!$H$11=\"x\",'Panel Calculations'!E67,0)","v":0}]
[null,null,null,{"$f":"D67+Information!D11","v":35.56},{"$f":"E67","v":0},null,{"$f":"IF(Information!$H$11=\"x\",'Panel Calculations'!D68,0)","v":35.56},{"$f":"IF(Information!$H$11=\"x\",'Panel Calculations'!E68,0)","v":0},null,{"$f":"D67-D68","v":-35.56},0,{"$f":"(J68^2+K68^2)^0.5","v":35.56}]
[null,null,null,{"$f":"D68","v":35.56},{"$f":"E68+Information!D12","v":86.36},null,{"$f":"IF(Information!$H$11=\"x\",'Panel Calculations'!D69,0)","v":35.56},{"$f":"IF(Information!$H$11=\"x\",'Panel Calculations'!E69,0)","v":86.36},null,0,-86.36,{"$f":"(J69^2+K69^2)^0.5","v":86.36}]
[null,null,null,{"$f":"D67","v":0},{"$f":"E69","v":86.36},null,{"$f":"IF(Information!$H$11=\"x\",'Panel Calculations'!D70,0)","v":0},{"$f":"IF(Information!$H$11=\"x\",'Panel Calculations'!E70,0)","v":86.36},null,35.56,0,{"$f":"(J70^2+K70^2)^0.5","v":35.56}]
[null,null,null,{"$f":"D67","v":0},{"$f":"E67","v":0},null,{"$f":"IF(Information!$H$11=\"x\",'Panel Calculations'!D71,0)","v":0},{"$f":"IF(Information!$H$11=\"x\",'Panel Calculations'!E71,0)","v":0},null,0,86.36,{"$f":"(J71^2+K71^2)^0.5","v":86.36}]
[]
[null,"Panel H","(port separator)",{"$f":"D43","v":0},{"$f":"E43","v":2},null,{"$f":"IF(Information!$H$12=\"x\",'Panel Calculations'!D73,0)","v":0},{"$f":"IF(Information!$H$12=\"x\",'Panel Calculations'!E73,0)","v":2}]
[null,null,null,{"$f":"D50","v":33.56},{"$f":"E73","v":2},null,{"$f":"IF(Information!$H$12=\"x\",'Panel Calculations'!D74,0)","v":33.56},{"$f":"IF(Information!$H$12=\"x\",'Panel Calculations'!E74,0)","v":2},null,{"$f":"D73-D74","v":-33.56},{"$f":"E73-E74","v":0},{"$f":"(J74^2+K74^2)^0.5","v":33.56}]
[null,null,null,{"$f":"D74","v":33.56},{"$f":"E62","v":12.148849797023002},null,{"$f":"IF(Information!$H$12=\"x\",'Panel Calculations'!D75,0)","v":33.56},{"$f":"IF(Information!$H$12=\"x\",'Panel Calculations'!E75,0)","v":12.148849797023002},null,0,-10.148849797023002,{"$f":"(J75^2+K75^2)^0.5","v":10.148849797023002}]
[null,null,null,{"$f":"D73","v":0},{"$f":"E75","v":12.148849797023002},null,{"$f":"IF(Information!$H$12=\"x\",'Panel Calculations'!D76,0)","v":0},{"$f":"IF(Information!$H$12=\"x\",'Panel Calculations'!E76,0)","v":12.148849797023002},null,33.56,0,{"$f":"(J76^2+K76^2)^0.5","v":33.56}]
[null,null,null,{"$f":"D73","v":0},{"$f":"E73","v":2},null,{"$f":"IF(Information!$H$12=\"x\",'Panel Calculations'!D77,0)","v":0},{"$f":"IF(Information!$H$12=\"x\",'Panel Calculations'!E77,0)","v":2},null,0,10.148849797023002,{"$f":"(J77^2+K77^2)^0.5","v":10.148849797023002}]
[]
[]
[null,"Profile View"]
[null,null,null,{"$f":"D68+10","v":45.56},{"$f":"E67","v":0},null,{"$f":"IF(Information!$H$14=\"x\",'Panel Calculations'!D81,\"\")","v":45.56},{"$f":"IF(Information!$H$14=\"x\",'Panel Calculations'!E81,\"\")","v":0}]
[null,null,null,{"$f":"D81+Information!D13","v":81.12},{"$f":"E81","v":0},null,{"$f":"IF(Information!$H$14=\"x\",'Panel Calculations'!D82,\"\")","v":81.12},{"$f":"IF(Information!$H$14=\"x\",'Panel Calculations'!E82,\"\")","v":0},null,{"$f":"D81-D82","v":-35.56},{"$f":"E81-E82","v":0},{"$f":"(J82^2+K82^2)^0.5","v":35.56}]
[null,null,null,{"$f":"D82","v":81.12},{"$f":"E69","v":86.36},null,{"$f":"IF(Information!$H$14=\"x\",'Panel Calculations'!D83,\"\")","v":81.12},{"$f":"IF(Information!$H$14=\"x\",'Panel Calculations'!E83,\"\")","v":86.36},null,0,-86.36,{"$f":"(J83^2+K83^2)^0.5","v":86.36}]
[null,null,null,{"$f":"D81","v":45.56},{"$f":"E83","v":86.36},null,{"$f":"IF(Information!$H$14=\"x\",'Panel Calculations'!D84,\"\")","v":45.56},{"$f":"IF(Information!$H$14=\"x\",'Panel Calculations'!E84,\"\")","v":86.36},null,35.56,0,{"$f":"(J84^2+K84^2)^0.5","v":35.56}]
[null,null,null,{"$f":"D81","v":45.56},{"$f":"E81","v":0},null,{"$f":"IF(Information!$H$14=\"x\",'Panel Calculations'!D85,\"\")","v":45.56},{"$f":"IF(Information!$H$14=\"x\",'Panel Calculations'!E85,\"\")","v":0},null,0,86.36,{"$f":"(J85^2+K85^2)^0.5","v":86.36}]
[]
[null,null,null,{"$f":"D81","v":45.56},{"$f":"E81","v":0},null,{"$f":"IF(Information!$H$14=\"x\",'Panel Calculations'!D87,\"\")","v":45.56},{"$f":"IF(Information!$H$14=\"x\",'Panel Calculations'!E87,\"\")","v":0}]
[null,null,null,{"$f":"D87+Information!D50","v":47.56},{"$f":"E87","v":0},null,{"$f":"IF(Information!$H$14=\"x\",'Panel Calculations'!D88,\"\")","v":47.56},{"$f":"IF(Information!$H$14=\"x\",'Panel Calculations'!E88,\"\")","v":0},null,{"$f":"D87-D88","v":-2},{"$f":"E87-E88","v":0},{"$f":"(J88^2+K88^2)^0.5","v":2}]
[null,null,null,{"$f":"D88","v":47.56},{"$f":"E83","v":86.36},null,{"$f":"IF(Information!$H$14=\"x\",'Panel Calculations'!D89,\"\")","v":47.56},{"$f":"IF(Information!$H$14=\"x\",'Panel Calculations'!E89,\"\")","v":86.36},null,0,-86.36,{"$f":"(J89^2+K89^2)^0.5","v":86.36}]
[null,null,null,{"$f":"D87","v":45.56},{"$f":"E89","v":86.36},null,{"$f":"IF(Information!$H$14=\"x\",'Panel Calculations'!D90,\"\")","v":45.56},{"$f":"IF(Information!$H$14=\"x\",'Panel Calculations'!E90,\"\")","v":86.36},null,2,0,{"$f":"(J90^2+K90^2)^0.5","v":2}]
[null,null,null,{"$f":"D87","v":45.56},{"$f":"E87","v":0},null,{"$f":"IF(Information!$H$14=\"x\",'Panel Calculations'!D91,\"\")","v":45.56},{"$f":"IF(Information!$H$14=\"x\",'Panel Calculations'!E91,\"\")","v":0},null,0,86.36,{"$f":"(J91^2+K91^2)^0.5","v":86.36}]
[]
[null,null,null,{"$f":"D82-Information!D50","v":79.12},{"$f":"E82","v":0},null,{"$f":"IF(Information!$H$14=\"x\",'Panel Calculations'!D93,\"\")","v":79.12},{"$f":"IF(Information!$H$14=\"x\",'Panel Calculations'!E93,\"\")","v":0}]
[null,null,null,{"$f":"D82","v":81.12},{"$f":"E93","v":0},null,{"$f":"IF(Information!$H$14=\"x\",'Panel Calculations'!D94,\"\")","v":81.12},{"$f":"IF(Information!$H$14=\"x\",'Panel Calculations'!E94,\"\")","v":0},null,{"$f":"D93-D94","v":-2},{"$f":"E93-E94","v":0},{"$f":"(J94^2+K94^2)^0.5","v":2}]
[null,null,null,{"$f":"D94","v":81.12},{"$f":"E89","v":86.36},null,{"$f":"IF(Information!$H$14=\"x\",'Panel Calculations'!D95,\"\")","v":81.12},{"$f":"IF(Information!$H$14=\"x\",'Panel Calculations'!E95,\"\")","v":86.36},null,0,-86.36,{"$f":"(J95^2+K95^2)^0.5","v":86.36}]
[null,null,null,{"$f":"D93","v":79.12},{"$f":"E95","v":86.36},null,{"$f":"IF(Information!$H$14=\"x\",'Panel Calculations'!D96,\"\")","v":79.12},{"$f":"IF(Information!$H$14=\"x\",'Panel Calculations'!E96,\"\")","v":86.36},null,2,0,{"$f":"(J96^2+K96^2)^0.5","v":2}]
[null,null,null,{"$f":"D93","v":79.12},{"$f":"E93","v":0},null,{"$f":"IF(Information!$H$14=\"x\",'Panel Calculations'!D97,\"\")","v":79.12},{"$f":"IF(Information!$H$14=\"x\",'Panel Calculations'!E97,\"\")","v":0},null,0,86.36,{"$f":"(J97^2+K97^2)^0.5","v":86.36}]
[]
[null,null,null,{"$f":"D88","v":47.56},{"$f":"E88","v":0},null,{"$f":"IF(Information!$H$14=\"x\",'Panel Calculations'!D99,\"\")","v":47.56},{"$f":"IF(Information!$H$14=\"x\",'Panel Calculations'!E99,\"\")","v":0}]
[null,null,null,{"$f":"D88","v":47.56},{"$f":"E99+Information!D46","v":2},null,{"$f":"IF(Information!$H$14=\"x\",'Panel Calculations'!D100,\"\")","v":47.56},{"$f":"IF(Information!$H$14=\"x\",'Panel Calculations'!E100,\"\")","v":2},null,{"$f":"D99-D100","v":0},{"$f":"E99-E100","v":-2},{"$f":"(J100^2+K100^2)^0.5","v":2}]
[null,null,null,{"$f":"D93","v":79.12},{"$f":"E100","v":2},null,{"$f":"IF(Information!$H$14=\"x\",'Panel Calculations'!D101,\"\")","v":79.12},{"$f":"IF(Information!$H$14=\"x\",'Panel Calculations'!E101,\"\")","v":2},null,-31.560000000000002,0,{"$f":"(J101^2+K101^2)^0.5","v":31.560000000000002}]
[null,null,null,{"$f":"D101","v":79.12},{"$f":"E99","v":0},null,{"$f":"IF(Information!$H$14=\"x\",'Panel Calculations'!D102,\"\")","v":79.12},{"$f":"IF(Information!$H$14=\"x\",'Panel Calculations'!E102,\"\")","v":0},null,0,2,{"$f":"(J102^2+K102^2)^0.5","v":2}]
[null,null,null,{"$f":"D99","v":47.56},{"$f":"E99","v":0},null,{"$f":"IF(Information!$H$14=\"x\",'Panel Calculations'!D103,\"\")","v":47.56},{"$f":"IF(Information!$H$14=\"x\",'Panel Calculations'!E103,\"\")","v":0},null,31.560000000000002,0,{"$f":"(J103^2+K103^2)^0.5","v":31.560000000000002}]
[]
[null,null,null,{"$f":"D99","v":47.56},{"$f":"E89","v":86.36},null,{"$f":"IF(Information!$H$14=\"x\",'Panel Calculations'!D105,\"\")","v":47.56},{"$f":"IF(Information!$H$14=\"x\",'Panel Calculations'!E105,\"\")","v":86.36}]
[null,null,null,{"$f":"D96","v":79.12},{"$f":"E105+Information!D54","v":86.36},null,{"$f":"IF(Information!$H$14=\"x\",'Panel Calculations'!D106,\"\")","v":79.12},{"$f":"IF(Information!$H$14=\"x\",'Panel Calculations'!E106,\"\")","v":86.36},null,{"$f":"D105-D106","v":-31.560000000000002},{"$f":"E105-E106","v":0},{"$f":"(J106^2+K106^2)^0.5","v":31.560000000000002}]
[null,null,null,{"$f":"D106","v":79.12},{"$f":"E106-Information!D46","v":84.36},null,{"$f":"IF(Information!$H$14=\"x\",'Panel Calculations'!D107,\"\")","v":79.12},{"$f":"IF(Information!$H$14=\"x\",'Panel Calculations'!E107,\"\")","v":84.36},null,0,2,{"$f":"(J107^2+K107^2)^0.5","v":2}]
[null,null,null,{"$f":"D105","v":47.56},{"$f":"E107","v":84.36},null,{"$f":"IF(Information!$H$14=\"x\",'Panel Calculations'!D108,\"\")","v":47.56},{"$f":"IF(Information!$H$14=\"x\",'Panel Calculations'!E108,\"\")","v":84.36},null,31.560000000000002,0,{"$f":"(J108^2+K108^2)^0.5","v":31.560000000000002}]
[null,null,null,{"$f":"D105","v":47.56},{"$f":"E105","v":86.36},null,{"$f":"IF(Information!$H$14=\"x\",'Panel Calculations'!D109,\"\")","v":47.56},{"$f":"IF(Information!$H$14=\"x\",'Panel Calculations'!E109,\"\")","v":86.36},null,0,-2,{"$f":"(J109^2+K109^2)^0.5","v":2}]
[]
[null,null,null,{"$f":"D105","v":47.56},{"$f":"E61","v":12.148849797023002},null,{"$f":"IF(Information!$H$14=\"x\",'Panel Calculations'!D111,\"\")","v":47.56},{"$f":"IF(Information!$H$14=\"x\",'Panel Calculations'!E111,\"\")","v":12.148849797023002}]
[null,null,null,{"$f":"D102","v":79.12},{"$f":"E111","v":12.148849797023002},null,{"$f":"IF(Information!$H$14=\"x\",'Panel Calculations'!D112,\"\")","v":79.12},{"$f":"IF(Information!$H$14=\"x\",'Panel Calculations'!E112,\"\")","v":12.148849797023002},null,{"$f":"D111-D112","v":-31.560000000000002},{"$f":"E111-E112","v":0},{"$f":"(J112^2+K112^2)^0.5","v":31.560000000000002}]
[null,null,null,{"$f":"D112","v":79.12},{"$f":"E63","v":14.148849797023002},null,{"$f":"IF(Information!$H$14=\"x\",'Panel Calculations'!D113,\"\")","v":79.12},{"$f":"IF(Information!$H$14=\"x\",'Panel Calculations'!E113,\"\")","v":14.148849797023002},null,0,-2,{"$f":"(J113^2+K113^2)^0.5","v":2}]
[null,null,null,{"$f":"D111","v":47.56},{"$f":"E113","v":14.148849797023002},null,{"$f":"IF(Information!$H$14=\"x\",'Panel Calculations'!D114,\"\")","v":47.56},{"$f":"IF(Information!$H$14=\"x\",'Panel Calculations'!E114,\"\")","v":14.148849797023002},null,31.560000000000002,0,{"$f":"(J114^2+K114^2)^0.5","v":31.560000000000002}]
[null,null,null,{"$f":"D111","v":47.56},{"$f":"E111","v":12.148849797023002},null,{"$f":"IF(Information!$H$14=\"x\",'Panel Calculations'!D115,\"\")","v":47.56},{"$f":"IF(Information!$H$14=\"x\",'Panel Calculations'!E115,\"\")","v":12.148849797023002},null,0,2,{"$f":"(J115^2+K115^2)^0.5","v":2}]
[]
[null,null,null,{"$f":"(D89+D101-Information!D51)/2","v":62.34},{"$f":"E101","v":2},null,{"$f":"IF(Information!$H$14=\"x\",'Panel Calculations'!D117,\"\")","v":62.34},{"$f":"IF(Information!$H$14=\"x\",'Panel Calculations'!E117,\"\")","v":2}]
[null,null,null,{"$f":"D117+Information!D51","v":64.34},{"$f":"E117","v":2},null,{"$f":"IF(Information!$H$14=\"x\",'Panel Calculations'!D118,\"\")","v":64.34},{"$f":"IF(Information!$H$14=\"x\",'Panel Calculations'!E118,\"\")","v":2},null,{"$f":"D117-D118","v":-2},{"$f":"E117-E118","v":0},{"$f":"(J118^2+K118^2)^0.5","v":2}]
[null,null,null,{"$f":"D118","v":64.34},{"$f":"E75","v":12.148849797023002},null,{"$f":"IF(Information!$H$14=\"x\",'Panel Calculations'!D119,\"\")","v":64.34},{"$f":"IF(Information!$H$14=\"x\",'Panel Calculations'!E119,\"\")","v":12.148849797023002},null,0,-10.148849797023002,{"$f":"(J119^2+K119^2)^0.5","v":10.148849797023002}]
[null,null,null,{"$f":"D117","v":62.34},{"$f":"E119","v":12.148849797023002},null,{"$f":"IF(Information!$H$14=\"x\",'Panel Calculations'!D120,\"\")","v":62.34},{"$f":"IF(Information!$H$14=\"x\",'Panel Calculations'!E120,\"\")","v":12.148849797023002},null,2,0,{"$f":"(J120^2+K120^2)^0.5","v":2}]
[null,null,null,{"$f":"D117","v":62.34},{"$f":"E117","v":2},null,{"$f":"IF(Information!$H$14=\"x\",'Panel Calculations'!D121,\"\")","v":62.34},{"$f":"IF(Information!$H$14=\"x\",'Panel Calculations'!E121,\"\")","v":2},null,0,10.148849797023002,{"$f":"(J121^2+K121^2)^0.5","v":10.148849797023002}]

{"sheet":"Path Calculations","index":2,"n_rows":69,"n_cols":33,"rows_kept":69,"cut":false,"hidden":false,"merged":[]}
[null,null,null,null,null,null,null,null,null,null,null,null,null,null,"Expansion","Cos","Sin","Tan"]
[null,null,null,null,null,null,null,null,null,null,null,null,null,null,{"$f":"Information!F41","v":13.168700163604557},{"$f":"COS(O2*PI()/180)","v":0.97370350229643865},{"$f":"SIN(O2*PI()/180)","v":0.22781898431792147},{"$f":"TAN(O2*PI()/180)","v":0.23397161844506054}]
[null,null,null,null,null,null,null,null,null,null,null,null,null,null,{"$f":"O2/2","v":6.5843500818022784},{"$f":"COS(O3*PI()/(180*2))","v":0.99834966889760923},{"$f":"SIN(O3*PI()/(180*2))","v":5.7427681583308902E-2},{"$f":"TAN(O3*PI()/(180*2))","v":5.7522612940535449E-2}]
[null,"Path Calculations",null,"x","y",null,"x","y",null,"d","x","y","dS","d","L","S",null,null,null,null,null,null,null,null,"Intersection points","x1","y1","x2","y2","a","b","x","y"]
[]
[null,null,null,{"$f":"'Panel Calculations'!D55","v":33.56},{"$f":"'Panel Calculations'!E55","v":24.625311707198858},null,{"$f":"IF(Information!$H$18=\"x\",D6,0)","v":33.56},{"$f":"IF(Information!$H$18=\"x\",E6,0)","v":24.625311707198858},{"$f":"SUM(D6:D7)/2","v":33.56},{"$f":"SUM(E6:E7)/2","v":24.625311707198858},{"$f":"IF(Information!$H$17=\"x\",I6,0)","v":33.56},{"$f":"IF(Information!$H$17=\"x\",J6,0)","v":24.625311707198858},null,{"$f":"N5","v":0},0,{"$f":"P5","v":0},null,null,null,null,null,null,null,null,"Path 9-10",{"$f":"I30","v":12.370014461903349},{"$f":"J30","v":70.158588472545375},{"$f":"I33","v":18.78},{"$f":"J33","v":14.997630930824307},{"$f":"(AC6-AA6)/(AB6-Z6)","v":-8.6054730098658343},{"$f":"(AC6*Z6-AA6*AB6)/(Z6-AB6)","v":176.60841405610469}]
[null,"S1",{"$f":"C2+1","v":1},{"$f":"'Panel Calculations'!D55","v":33.56},{"$f":"'Panel Calculations'!E55","v":24.625311707198858},null,{"$f":"IF(Information!$H$18=\"x\",D7,0)","v":33.56},{"$f":"IF(Information!$H$18=\"x\",E7,0)","v":24.625311707198858},null,null,{"$f":"K6","v":33.56},{"$f":"L6","v":24.625311707198858},null,{"$f":"N6","v":0},{"$f":"O6","v":0},0,null,null,null,null,null,null,null,null,"Driver",{"$f":"'Panel Calculations'!D14","v":2},{"$f":"'Panel Calculations'!E14","v":63.86},{"$f":"'Panel Calculations'!D15","v":12.7},{"$f":"'Panel Calculations'!E15","v":63.86},{"$f":"(AC7-AA7)/(AB7-Z7)","v":0},{"$f":"(AC7*Z7-AA7*AB7)/(Z7-AB7)","v":63.859999999999992},{"$f":"(AE6-AE7)/(AD7-AD6)","v":13.101942673789472},{"$f":"AF7*AD7+AE7","v":63.859999999999992}]
[null,null,null,null,null,null,null,null,null,null,{"$f":"K7","v":33.56},{"$f":"L7","v":24.625311707198858},null,0,{"$f":"O5+N8","v":0},{"$f":"(((D6-D7)^2+(E6-E7)^2)^0.5)*Information!$D$20","v":0},{"$f":"P8/2","v":0},{"$f":"-Q8","v":0},{"$f":"(Q8-T8)*2","v":0},{"$f":"(($E$67-$E$66)*(O8-$F$66)/($F$67-$F$66)+$E$66)/2","v":0},{"$f":"-T8","v":0},{"$f":"IF(C7>0,L8,\"\")","v":24.625311707198858}]
[null,null,null,{"$f":"'Panel Calculations'!D56","v":22.687435928399573},{"$f":"'Panel Calculations'!E56","v":71.094896966547083},null,{"$f":"IF(Information!$H$18=\"x\",D9,0)","v":22.687435928399573},{"$f":"IF(Information!$H$18=\"x\",E9,0)","v":71.094896966547083},{"$f":"SUM(D9:D10)/2","v":28.123717964199788},{"$f":"SUM(E9:E10)/2","v":71.407090040296083},{"$f":"IF(Information!$H$17=\"x\",I9,0)","v":28.123717964199788},{"$f":"IF(Information!$H$17=\"x\",J9,0)","v":71.407090040296083},null,{"$f":"N8","v":0},0,{"$f":"P8","v":0},{"$f":"P9/2","v":0},{"$f":"-Q9","v":0},{"$f":"(Q9-T9)*2","v":0},{"$f":"(($E$67-$E$66)*(O9-$F$66)/($F$67-$F$66)+$E$66)/2","v":0},{"$f":"-T9","v":0},{"$f":"IF(C10>0,L9,\"\")","v":71.407090040296083},null,null,"Sample point",{"$f":"'Panel Calculations'!D51","v":33.56},{"$f":"'Panel Calculations'!E51","v":84.36},{"$f":"Z9+10*'Panel Calculations'!Q23","v":34.13427681583309},{"$f":"AA9+10*'Panel Calculations'!P23","v":94.343496688976089},{"$f":"(AC9-AA9)/(AB9-Z9)","v":17.384467583796336},{"$f":"(AC9*Z9-AA9*AB9)/(Z9-AB9)","v":-499.06273211220491}]
[null,null,{"$f":"C7+1","v":2},{"$f":"D7","v":33.56},{"$f":"E9+(D10-D9)*Q3","v":71.719283114045083},null,{"$f":"IF(Information!$H$18=\"x\",D10,0)","v":33.56},{"$f":"IF(Information!$H$18=\"x\",E10,0)","v":71.719283114045083},null,null,{"$f":"K9","v":28.123717964199788},{"$f":"L9","v":71.407090040296083},null,{"$f":"N9","v":0},0,{"$f":"P9","v":0},0,0,0,{"$f":"(($E$67-$E$66)*(O10-$F$66)/($F$67-$F$66)+$E$66)/2","v":0},0,{"$f":"IF(C10>0,L10,\"\")","v":71.407090040296083},null,null,"Panel E",{"$f":"'Panel Calculations'!D55","v":33.56},{"$f":"'Panel Calculations'!E55","v":24.625311707198858},{"$f":"'Panel Calculations'!D56","v":22.687435928399573},{"$f":"'Panel Calculations'!E56","v":71.094896966547083},{"$f":"(AC10-AA10)/(AB10-Z10)","v":-4.2740226641412606},{"$f":"(AC10*Z10-AA10*AB10)/(Z10-AB10)","v":168.06151231577962},{"$f":"(AE9-AE10)/(AD10-AD9)","v":30.80197358130771},{"$f":"AF10*AD10+AE10","v":36.413179128990123}]
[null,null,null,null,null,null,null,null,null,null,{"$f":"K10","v":28.123717964199788},{"$f":"L10","v":71.407090040296083},null,{"$f":"((I9-I6)^2+(J9-J6)^2)^0.5","v":47.096581047670639},{"$f":"O8+N11","v":47.096581047670639},{"$f":"(((D9-D10)^2+(E9-E10)^2)^0.5)*Information!$D$20","v":343.70348058506585},171.85174029253292,-171.85174029253292,-1.1481618429343143E-4,{"$f":"(($E$67-$E$66)*(O11-$F$66)/($F$67-$F$66)+$E$66)/2","v":171.85179770062507},-171.85179770062507,{"$f":"IF(C10>0,L11,\"\")","v":71.407090040296083}]
[null,null,null,{"$f":"'Panel Calculations'!D56","v":22.687435928399573},{"$f":"'Panel Calculations'!E56","v":71.094896966547083},null,{"$f":"IF(Information!$H$18=\"x\",D12,0)","v":22.687435928399573},{"$f":"IF(Information!$H$18=\"x\",E12,0)","v":71.094896966547083},{"$f":"SUM(D12:D13)/2","v":28.123717964199788},{"$f":"SUM(E12:E13)/2","v":74.567269261784816},{"$f":"IF(Information!$H$17=\"x\",I12,0)","v":28.123717964199788},{"$f":"IF(Information!$H$17=\"x\",J12,0)","v":74.567269261784816},null,{"$f":"N11","v":47.096581047670639},47.096581047670639,{"$f":"P11","v":343.70348058506585},{"$f":"P12/2","v":171.85174029253292},{"$f":"-Q12","v":-171.85174029253292},{"$f":"(Q12-T12)*2","v":-1.1481618429343143E-4},{"$f":"(($E$67-$E$66)*(O12-$F$66)/($F$67-$F$66)+$E$66)/2","v":171.85179770062507},{"$f":"-T12","v":-171.85179770062507},{"$f":"IF(C13>0,L12,\"\")","v":74.567269261784816},null,null,"L23",{"$f":"((AB6-AF7)^2+(AC6-AG7)^2)^0.5","v":49.191172440307518}]
[null,null,{"$f":"C10+1","v":3},{"$f":"D10","v":33.56},{"$f":"(E10+'Panel Calculations'!E51)/2","v":78.039641557022549},null,{"$f":"IF(Information!$H$18=\"x\",D13,0)","v":33.56},{"$f":"IF(Information!$H$18=\"x\",E13,0)","v":78.039641557022549},null,null,{"$f":"K12","v":28.123717964199788},{"$f":"L12","v":74.567269261784816},null,{"$f":"N12","v":47.096581047670639},47.096581047670639,{"$f":"P12","v":343.70348058506585},171.85174029253292,-171.85174029253292,-1.1481618429343143E-4,{"$f":"(($E$67-$E$66)*(O13-$F$66)/($F$67-$F$66)+$E$66)/2","v":171.85179770062507},-171.85179770062507,{"$f":"IF(C13>0,L13,\"\")","v":74.567269261784816}]
[null,null,null,null,null,null,null,null,null,null,{"$f":"K13","v":28.123717964199788},{"$f":"L13","v":74.567269261784816},null,{"$f":"((I12-I9)^2+(J12-J9)^2)^0.5","v":3.1601792214887325},{"$f":"O11+N14","v":50.256760269159372},{"$f":"(((D12-D13)^2+(E12-E13)^2)^0.5)*Information!$D$20","v":407.16329754262881},203.58164877131441,-203.58164877131441,40.397200864723459,{"$f":"(($E$67-$E$66)*(O14-$F$66)/($F$67-$F$66)+$E$66)/2","v":183.38304833895268},-183.38304833895268,{"$f":"IF(C13>0,L14,\"\")","v":74.567269261784816}]
[null,null,null,{"$f":"D12","v":22.687435928399573},{"$f":"E12","v":71.094896966547083},null,{"$f":"IF(Information!$H$18=\"x\",D15,0)","v":22.687435928399573},{"$f":"IF(Information!$H$18=\"x\",E15,0)","v":71.094896966547083},{"$f":"SUM(D15:D16)/2","v":25.215130918005951},{"$f":"SUM(E15:E16)/2","v":77.727448483273548},{"$f":"IF(Information!$H$17=\"x\",I15,0)","v":25.215130918005951},{"$f":"IF(Information!$H$17=\"x\",J15,0)","v":77.727448483273548},null,{"$f":"N14","v":3.1601792214887325},{"$f":"O14","v":50.256760269159372},407.16329754262881,203.58164877131441,-203.58164877131441,40.397200864723459,{"$f":"(($E$67-$E$66)*(O15-$F$66)/($F$67-$F$66)+$E$66)/2","v":183.38304833895268},-183.38304833895268,{"$f":"IF(C16>0,L15,\"\")","v":77.727448483273548}]
[null,null,{"$f":"C13+1","v":4},{"$f":"(D13+D19)/2","v":27.742825907612328},{"$f":"'Panel Calculations'!E51","v":84.36},null,{"$f":"IF(Information!$H$18=\"x\",D16,0)","v":27.742825907612328},{"$f":"IF(Information!$H$18=\"x\",E16,0)","v":84.36},null,null,{"$f":"K15","v":25.215130918005951},{"$f":"L15","v":77.727448483273548},null,{"$f":"N15","v":3.1601792214887325},{"$f":"O15","v":50.256760269159372},407.16329754262881,203.58164877131441,-203.58164877131441,40.397200864723459,{"$f":"(($E$67-$E$66)*(O16-$F$66)/($F$67-$F$66)+$E$66)/2","v":183.38304833895268},-183.38304833895268,{"$f":"IF(C16>0,L16,\"\")","v":77.727448483273548}]
[null,null,null,null,null,null,null,null,null,null,{"$f":"K16","v":25.215130918005951},{"$f":"L16","v":77.727448483273548},null,{"$f":"((I15-I12)^2+(J15-J12)^2)^0.5","v":4.2949518410822396},{"$f":"O14+N17","v":54.55171211024161},{"$f":"(((D15-D16)^2+(E15-E16)^2)^0.5)*Information!$D$20","v":448.01854614987877},224.00927307493939,-224.00927307493939,49.908552377596209,{"$f":"(($E$67-$E$66)*(O17-$F$66)/($F$67-$F$66)+$E$66)/2","v":199.05499688614128},-199.05499688614128,{"$f":"IF(C16>0,L17,\"\")","v":77.727448483273548}]
[null,null,null,{"$f":"D15","v":22.687435928399573},{"$f":"E15","v":71.094896966547083},null,{"$f":"IF(Information!$H$18=\"x\",D18,0)","v":22.687435928399573},{"$f":"IF(Information!$H$18=\"x\",E18,0)","v":71.094896966547083},{"$f":"SUM(D18:D19)/2","v":22.306543871812114},{"$f":"SUM(E18:E19)/2","v":77.727448483273548},{"$f":"IF(Information!$H$17=\"x\",I18,0)","v":22.306543871812114},{"$f":"IF(Information!$H$17=\"x\",J18,0)","v":77.727448483273548},null,{"$f":"N17","v":4.2949518410822396},{"$f":"O17","v":54.55171211024161},448.01854614987877,224.00927307493939,-224.00927307493939,49.908552377596209,{"$f":"(($E$67-$E$66)*(O18-$F$66)/($F$67-$F$66)+$E$66)/2","v":199.05499688614128},-199.05499688614128,{"$f":"IF(C19>0,L18,\"\")","v":77.727448483273548}]
[null,null,{"$f":"C16+1","v":5},{"$f":"D18-(E19-E18)*Q3","v":21.925651815224654},{"$f":"E16","v":84.36},null,{"$f":"IF(Information!$H$18=\"x\",D19,0)","v":21.925651815224654},{"$f":"IF(Information!$H$18=\"x\",E19,0)","v":84.36},null,null,{"$f":"K18","v":22.306543871812114},{"$f":"L18","v":77.727448483273548},null,{"$f":"N18","v":4.2949518410822396},{"$f":"O18","v":54.55171211024161},448.01854614987877,224.00927307493939,-224.00927307493939,49.908552377596209,{"$f":"(($E$67-$E$66)*(O19-$F$66)/($F$67-$F$66)+$E$66)/2","v":199.05499688614128},-199.05499688614128,{"$f":"IF(C19>0,L19,\"\")","v":77.727448483273548}]
[null,null,null,null,null,null,null,null,null,null,{"$f":"K19","v":22.306543871812114},{"$f":"L19","v":77.727448483273548},null,{"$f":"((I18-I15)^2+(J18-J15)^2)^0.5","v":2.908587046193837},{"$f":"O17+N20","v":57.460299156435447},{"$f":"(((D18-D19)^2+(E18-E19)^2)^0.5)*Information!$D$20","v":419.33641898016089},209.66820949008044,-209.66820949008044,4.8802021979099663E-6,{"$f":"(($E$67-$E$66)*(O20-$F$66)/($F$67-$F$66)+$E$66)/2","v":209.66820704997934},-209.66820704997934,{"$f":"IF(C19>0,L20,\"\")","v":77.727448483273548}]
[null,null,null,{"$f":"'Panel Calculations'!D57","v":20.740028923806697},{"$f":"'Panel Calculations'!E57","v":70.639258997911242},null,{"$f":"IF(Information!$H$18=\"x\",D21,0)","v":20.740028923806697},{"$f":"IF(Information!$H$18=\"x\",E21,0)","v":70.639258997911242},{"$f":"SUM(D21:D22)/2","v":20.346053751129197},{"$f":"SUM(E21:E22)/2","v":77.499629498955613},{"$f":"IF(Information!$H$17=\"x\",I21,0)","v":20.346053751129197},{"$f":"IF(Information!$H$17=\"x\",J21,0)","v":77.499629498955613},null,{"$f":"N20","v":2.908587046193837},57.460299156435447,419.33641898016089,209.66820949008044,-209.66820949008044,4.8802021979099663E-6,{"$f":"(($E$67-$E$66)*(O21-$F$66)/($F$67-$F$66)+$E$66)/2","v":209.66820704997934},-209.66820704997934,{"$f":"IF(C22>0,L21,\"\")","v":77.499629498955613}]
[null,null,{"$f":"C19+1","v":6},{"$f":"D21-(E22-E21)*Q3","v":19.952078578451694},{"$f":"E19","v":84.36},null,{"$f":"IF(Information!$H$18=\"x\",D22,0)","v":19.952078578451694},{"$f":"IF(Information!$H$18=\"x\",E22,0)","v":84.36},null,null,{"$f":"K21","v":20.346053751129197},{"$f":"L21","v":77.499629498955613},null,{"$f":"N21","v":2.908587046193837},57.460299156435447,419.33641898016089,209.66820949008044,-209.66820949008044,4.8802021979099663E-6,{"$f":"(($E$67-$E$66)*(O22-$F$66)/($F$67-$F$66)+$E$66)/2","v":209.66820704997934},-209.66820704997934,{"$f":"IF(C22>0,L22,\"\")","v":77.499629498955613}]
[null,null,null,null,null,null,null,null,null,null,{"$f":"K22","v":20.346053751129197},{"$f":"L22","v":77.499629498955613},null,{"$f":"((I21-I18)^2+(J21-J18)^2)^0.5","v":1.9736825993332794},{"$f":"O20+N23","v":59.433981755768727},{"$f":"(((D21-D22)^2+(E21-E22)^2)^0.5)*Information!$D$20","v":433.74004582250842},216.87002291125421,-216.87002291125421,6.8585222834371962E-8,{"$f":"(($E$67-$E$66)*(O23-$F$66)/($F$67-$F$66)+$E$66)/2","v":216.8700228769616},-216.8700228769616,{"$f":"IF(C22>0,L23,\"\")","v":77.499629498955613}]
[null,null,null,{"$f":"D21","v":20.740028923806697},{"$f":"E21","v":70.639258997911242},null,{"$f":"IF(Information!$H$18=\"x\",D24,0)","v":20.740028923806697},{"$f":"IF(Information!$H$18=\"x\",E24,0)","v":70.639258997911242},{"$f":"SUM(D24:D25)/2","v":16.358034106516271},{"$f":"SUM(E24:E25)/2","v":77.499629498955613},{"$f":"IF(Information!$H$17=\"x\",I24,0)","v":16.358034106516271},{"$f":"IF(Information!$H$17=\"x\",J24,0)","v":77.499629498955613},null,{"$f":"N23","v":1.9736825993332794},59.433981755768727,433.74004582250842,216.87002291125421,-216.87002291125421,6.8585222834371962E-8,{"$f":"(($E$67-$E$66)*(O24-$F$66)/($F$67-$F$66)+$E$66)/2","v":216.8700228769616},-216.8700228769616,{"$f":"IF(C25>0,L24,\"\")","v":77.499629498955613}]
[null,null,{"$f":"C22+1","v":7},{"$f":"('Panel Calculations'!D33+D22)/2","v":11.976039289225847},{"$f":"E22","v":84.36},null,{"$f":"IF(Information!$H$18=\"x\",D25,0)","v":11.976039289225847},{"$f":"IF(Information!$H$18=\"x\",E25,0)","v":84.36},null,null,{"$f":"K24","v":16.358034106516271},{"$f":"L24","v":77.499629498955613},null,{"$f":"N24","v":1.9736825993332794},59.433981755768727,433.74004582250842,216.87002291125421,-216.87002291125421,6.8585222834371962E-8,{"$f":"(($E$67-$E$66)*(O25-$F$66)/($F$67-$F$66)+$E$66)/2","v":216.8700228769616},-216.8700228769616,{"$f":"IF(C25>0,L25,\"\")","v":77.499629498955613}]
[null,null,null,null,null,null,null,null,null,null,{"$f":"K25","v":16.358034106516271},{"$f":"L25","v":77.499629498955613},null,{"$f":"((I24-I21)^2+(J24-J21)^2)^0.5","v":3.9880196446129261},{"$f":"O23+N26","v":63.422001400381653},{"$f":"(((D24-D25)^2+(E24-E25)^2)^0.5)*Information!$D$20","v":513.82379197106661},256.91189598553331,-256.91189598553331,50.979793023664797,{"$f":"(($E$67-$E$66)*(O26-$F$66)/($F$67-$F$66)+$E$66)/2","v":231.42199947370091},-231.42199947370091,{"$f":"IF(C25>0,L26,\"\")","v":77.499629498955613}]
[null,null,null,{"$f":"D24","v":20.740028923806697},{"$f":"E24","v":70.639258997911242},null,{"$f":"IF(Information!$H$18=\"x\",D27,0)","v":20.740028923806697},{"$f":"IF(Information!$H$18=\"x\",E27,0)","v":70.639258997911242},{"$f":"SUM(D27:D28)/2","v":12.370014461903349},{"$f":"SUM(E27:E28)/2","v":73.829108985750494},{"$f":"IF(Information!$H$17=\"x\",I27,0)","v":12.370014461903349},{"$f":"IF(Information!$H$17=\"x\",J27,0)","v":73.829108985750494},null,{"$f":"N26","v":3.9880196446129261},63.422001400381653,513.82379197106661,256.91189598553331,-256.91189598553331,50.979793023664797,{"$f":"(($E$67-$E$66)*(O27-$F$66)/($F$67-$F$66)+$E$66)/2","v":231.42199947370091},-231.42199947370091,{"$f":"IF(C28>0,L27,\"\")","v":73.829108985750494}]
[null,null,{"$f":"C25+1","v":8},{"$f":"D31","v":4},{"$f":"(E25+E31)/2","v":77.018958973589747},null,{"$f":"IF(Information!$H$18=\"x\",D28,0)","v":4},{"$f":"IF(Information!$H$18=\"x\",E28,0)","v":77.018958973589747},null,null,{"$f":"K27","v":12.370014461903349},{"$f":"L27","v":73.829108985750494},null,{"$f":"N27","v":3.9880196446129261},63.422001400381653,513.82379197106661,256.91189598553331,-256.91189598553331,50.979793023664797,{"$f":"(($E$67-$E$66)*(O28-$F$66)/($F$67-$F$66)+$E$66)/2","v":231.42199947370091},-231.42199947370091,{"$f":"IF(C28>0,L28,\"\")","v":73.829108985750494}]
[null,null,null,null,null,null,null,null,null,null,{"$f":"K28","v":12.370014461903349},{"$f":"L28","v":73.829108985750494},null,{"$f":"((I27-I24)^2+(J27-J24)^2)^0.5","v":5.4200573358294051},{"$f":"O26+N29","v":68.842058736211058},{"$f":"(((D27-D28)^2+(E27-E28)^2)^0.5)*Information!$D$20","v":565.3814701668847},282.69073508344235,-282.69073508344235,62.982727495731751,{"$f":"(($E$67-$E$66)*(O29-$F$66)/($F$67-$F$66)+$E$66)/2","v":251.19937133557647},-251.19937133557647,{"$f":"IF(C28>0,L29,\"\")","v":73.829108985750494}]
[null,null,null,{"$f":"D27","v":20.740028923806697},{"$f":"E27","v":70.639258997911242},null,{"$f":"IF(Information!$H$18=\"x\",D30,0)","v":20.740028923806697},{"$f":"IF(Information!$H$18=\"x\",E30,0)","v":70.639258997911242},{"$f":"SUM(D30:D31)/2","v":12.370014461903349},{"$f":"SUM(E30:E31)/2","v":70.158588472545375},{"$f":"IF(Information!$H$17=\"x\",I30,0)","v":12.370014461903349},{"$f":"IF(Information!$H$17=\"x\",J30,0)","v":70.158588472545375},null,{"$f":"N29","v":5.4200573358294051},68.842058736211058,565.3814701668847,282.69073508344235,-282.69073508344235,62.982727495731751,{"$f":"(($E$67-$E$66)*(O30-$F$66)/($F$67-$F$66)+$E$66)/2","v":251.19937133557647},-251.19937133557647,{"$f":"IF(C31>0,L30,\"\")","v":70.158588472545375}]
[null,null,{"$f":"C28+1","v":9},{"$f":"'Panel Calculations'!D33","v":4},{"$f":"E30-(D30-D31)*Q3","v":69.677917947179495},null,{"$f":"IF(Information!$H$18=\"x\",D31,0)","v":4},{"$f":"IF(Information!$H$18=\"x\",E31,0)","v":69.677917947179495},null,null,{"$f":"K30","v":12.370014461903349},{"$f":"L30","v":70.158588472545375},null,{"$f":"N30","v":5.4200573358294051},68.842058736211058,565.3814701668847,282.69073508344235,-282.69073508344235,62.982727495731751,{"$f":"(($E$67-$E$66)*(O31-$F$66)/($F$67-$F$66)+$E$66)/2","v":251.19937133557647},-251.19937133557647,{"$f":"IF(C31>0,L31,\"\")","v":70.158588472545375}]
[null,null,null,null,null,null,null,null,null,null,{"$f":"K31","v":12.370014461903349},{"$f":"L31","v":70.158588472545375},null,{"$f":"((I30-I27)^2+(J30-J27)^2)^0.5","v":3.6705205132051191},{"$f":"O29+N32","v":72.512579249416177},{"$f":"(((D30-D31)^2+(E30-E31)^2)^0.5)*Information!$D$20","v":529.18577148105146},264.59288574052573,-264.59288574052573,1.3538114421862701E-4,{"$f":"(($E$67-$E$66)*(O32-$F$66)/($F$67-$F$66)+$E$66)/2","v":264.59281804995362},-264.59281804995362,{"$f":"IF(C31>0,L32,\"\")","v":70.158588472545375}]
[null,null,null,{"$f":"'Panel Calculations'!D34","v":4},{"$f":"'Panel Calculations'!E34","v":14.148849797023002},null,{"$f":"IF(Information!$H$18=\"x\",D33,0)","v":4},{"$f":"IF(Information!$H$18=\"x\",E33,0)","v":14.148849797023002},{"$f":"SUM(D33:D34)/2","v":18.78},{"$f":"SUM(E33:E34)/2","v":14.997630930824307},{"$f":"IF(Information!$H$17=\"x\",I33,0)","v":18.78},{"$f":"IF(Information!$H$17=\"x\",J33,0)","v":14.997630930824307},null,{"$f":"N32","v":3.6705205132051191},72.512579249416177,529.18577148105146,264.59288574052573,-264.59288574052573,1.3538114421862701E-4,{"$f":"(($E$67-$E$66)*(O33-$F$66)/($F$67-$F$66)+$E$66)/2","v":264.59281804995362},-264.59281804995362,{"$f":"IF(C34>0,L33,\"\")","v":14.997630930824307},null,null,"Sample Point",{"$f":"'Panel Calculations'!D57","v":20.740028923806697},{"$f":"'Panel Calculations'!E57","v":70.639258997911242},{"$f":"Z33-10*'Panel Calculations'!Q23","v":20.16575210797361},{"$f":"AA33-10*'Panel Calculations'!P23","v":60.655762308935152},{"$f":"(AC33-AA33)/(AB33-Z33)","v":17.384467583796336},{"$f":"(AC33*Z33-AA33*AB33)/(Z33-AB33)","v":-289.91510151500455}]
[null,"S3",{"$f":"C31+1","v":10},{"$f":"D6","v":33.56},{"$f":"E33+(D34-D33)*Q3","v":15.846412064625614},null,{"$f":"IF(Information!$H$18=\"x\",D34,0)","v":33.56},{"$f":"IF(Information!$H$18=\"x\",E34,0)","v":15.846412064625614},null,null,{"$f":"K33","v":18.78},{"$f":"L33","v":14.997630930824307},null,{"$f":"N33","v":3.6705205132051191},72.512579249416177,529.18577148105146,264.59288574052573,-264.59288574052573,1.3538114421862701E-4,{"$f":"(($E$67-$E$66)*(O34-$F$66)/($F$67-$F$66)+$E$66)/2","v":264.59281804995362},-264.59281804995362,{"$f":"IF(C34>0,L34,\"\")","v":14.997630930824307},null,null,"Sample Point",{"$f":"'Panel Calculations'!D64","v":0},{"$f":"'Panel Calculations'!E64","v":14.148849797023002},{"$f":"'Panel Calculations'!D63","v":23.411150202976998},{"$f":"'Panel Calculations'!E63","v":14.148849797023002},{"$f":"(AC34-AA34)/(AB34-Z34)","v":0},{"$f":"(AC34*Z34-AA34*AB34)/(Z34-AB34)","v":14.148849797023002},{"$f":"(AE33-AE34)/(AD34-AD33)","v":17.49055298049154},{"$f":"AF34*AD34+AE34","v":14.148849797023002}]
[null,null,null,null,null,null,null,null,null,null,{"$f":"K34","v":18.78},{"$f":"L34","v":14.997630930824307},null,{"$f":"((I33-I30)^2+(J33-J30)^2)^0.5","v":55.532145209042326},{"$f":"O32+N35","v":128.04472445845852},{"$f":"(((D33-D34)^2+(E33-E34)^2)^0.5)*Information!$D$20","v":934.45067963614429},467.22533981807214,-467.22533981807214,0,{"$f":"(($E$67-$E$66)*(O35-$F$66)/($F$67-$F$66)+$E$66)/2","v":467.22533981807214},-467.22533981807214,{"$f":"IF(C34>0,L35,\"\")","v":14.997630930824307}]
[null,null,null,null,null,null,null,null,{"$f":"I39","v":28.16093792500547},{"$f":"J39","v":15.53635644693431},null,null,null,null,{"$f":"O35","v":128.04472445845852},934.45067963614429]
[null,null,null,null,null,null,null,null,null,null,null,null,null,null,{"$f":"O36","v":128.04472445845852},934.45067963614429]
[null,null,null,null,null,null,null,null,null,null,null,null,null,null,{"$f":"O35+N38","v":128.04472445845852},{"$f":"P37","v":934.45067963614429}]
[null,null,null,{"$f":"AF40","v":28.16093792500547},{"$f":"AG40","v":15.53635644693431},null,{"$f":"IF(Information!$H$18=\"x\",D39,0)","v":28.16093792500547},{"$f":"IF(Information!$H$18=\"x\",E39,0)","v":15.53635644693431},{"$f":"SUM(D39:D40)/2","v":28.16093792500547},{"$f":"SUM(E39:E40)/2","v":15.53635644693431},{"$f":"IF(Information!$H$17=\"x\",I39,0)","v":28.16093792500547},{"$f":"IF(Information!$H$17=\"x\",J39,0)","v":15.53635644693431},null,{"$f":"N38","v":0},128.04472445845852,{"$f":"P36","v":934.45067963614429},467.22533981807214,-467.22533981807214,0,{"$f":"(($E$67-$E$66)*(O39-$F$66)/($F$67-$F$66)+$E$66)/2","v":467.22533981807214},-467.22533981807214,{"$f":"IF(C40>0,L39,\"\")","v":15.53635644693431},null,null,"Sample Point",{"$f":"I42","v":28.4855751014885},{"$f":"J42","v":14.148849797023002},{"$f":"Z39-10*Q2","v":26.207385258309287},{"$f":"AA39+10*P2","v":23.885884819987389},{"$f":"(AC39-AA39)/(AB39-Z39)","v":-4.2740226641412633},{"$f":"(AC39*Z39-AA39*AB39)/(Z39-AB39)","v":135.89684338188292}]
[null,null,{"$f":"C34+1","v":11},{"$f":"AF40","v":28.16093792500547},{"$f":"AG40","v":15.53635644693431},null,{"$f":"IF(Information!$H$18=\"x\",D40,0)","v":28.16093792500547},{"$f":"IF(Information!$H$18=\"x\",E40,0)","v":15.53635644693431},null,null,{"$f":"K39","v":28.16093792500547},{"$f":"L39","v":15.53635644693431},null,{"$f":"N39","v":0},128.04472445845852,934.45067963614429,467.22533981807214,-467.22533981807214,0,{"$f":"(($E$67-$E$66)*(O40-$F$66)/($F$67-$F$66)+$E$66)/2","v":467.22533981807214},-467.22533981807214,{"$f":"IF(C40>0,L40,\"\")","v":15.53635644693431},null,null,"Sample Point",{"$f":"D33","v":4},{"$f":"E33","v":14.148849797023002},{"$f":"D34","v":33.56},{"$f":"E34","v":15.846412064625614},{"$f":"(AC40-AA40)/(AB40-Z40)","v":5.7427681583308916E-2},{"$f":"(AC40*Z40-AA40*AB40)/(Z40-AB40)","v":13.919139070689766},{"$f":"(AE39-AE40)/(AD40-AD39)","v":28.16093792500547},{"$f":"AF40*AD40+AE40","v":15.53635644693431}]
[null,null,null,null,null,null,null,null,null,null,{"$f":"K40","v":28.16093792500547},{"$f":"L40","v":15.53635644693431},null,{"$f":"((I39-I36)^2+(J39-J36)^2)^0.5","v":0},{"$f":"O38+N41","v":128.04472445845852},{"$f":"P40","v":934.45067963614429},467.22533981807214,-467.22533981807214,0,{"$f":"(($E$67-$E$66)*(O41-$F$66)/($F$67-$F$66)+$E$66)/2","v":467.22533981807214},-467.22533981807214,{"$f":"IF(C40>0,L41,\"\")","v":15.53635644693431}]
[null,null,null,{"$f":"D34","v":33.56},{"$f":"E43","v":14.148849797023002},null,{"$f":"IF(Information!$H$18=\"x\",D42,0)","v":33.56},{"$f":"IF(Information!$H$18=\"x\",E42,0)","v":14.148849797023002},{"$f":"SUM(D42:D43)/2","v":28.4855751014885},{"$f":"SUM(E42:E43)/2","v":14.148849797023002},{"$f":"IF(Information!$H$17=\"x\",I42,0)","v":28.4855751014885},{"$f":"IF(Information!$H$17=\"x\",J42,0)","v":14.148849797023002},null,{"$f":"N41","v":0},128.04472445845852,{"$f":"P36","v":934.45067963614429},467.22533981807214,-467.22533981807214,0,{"$f":"(($E$68-$E$67)*(O42-$F$67)/($F$68-$F$67)+$E$67)/2","v":467.22533981807214},-467.22533981807214,{"$f":"IF(C43>0,L42,\"\")","v":14.148849797023002}]
[null,null,{"$f":"C40+1","v":12},{"$f":"'Panel Calculations'!D63","v":23.411150202976998},{"$f":"'Panel Calculations'!E63","v":14.148849797023002},null,{"$f":"IF(Information!$H$18=\"x\",D43,0)","v":23.411150202976998},{"$f":"IF(Information!$H$18=\"x\",E43,0)","v":14.148849797023002},null,null,{"$f":"K42","v":28.4855751014885},{"$f":"L42","v":14.148849797023002},null,{"$f":"N42","v":0},128.04472445845852,934.45067963614429,467.22533981807214,-467.22533981807214,0,{"$f":"(($E$68-$E$67)*(O43-$F$67)/($F$68-$F$67)+$E$67)/2","v":467.22533981807214},-467.22533981807214,{"$f":"IF(C43>0,L43,\"\")","v":14.148849797023002}]
[null,null,null,null,null,null,null,null,null,null,{"$f":"K43","v":28.4855751014885},{"$f":"L43","v":14.148849797023002},null,{"$f":"((I42-I39)^2+(J42-J39)^2)^0.5","v":1.4249785962964401},{"$f":"O41+N44","v":129.46970305475494},{"$f":"(((D42-D43)^2+(E42-E43)^2)^0.5)*Information!$D$20-M44","v":320.29769959404604},160.14884979702302,-160.14884979702302,-350.18676435104402,{"$f":"(($E$68-$E$67)*(O44-$F$67)/($F$68-$F$67)+$E$67)/2","v":335.24223197254503},-335.24223197254503,{"$f":"IF(C43>0,L44,\"\")","v":14.148849797023002}]
[null,null,null,{"$f":"D48","v":33.56},{"$f":"'Panel Calculations'!E61","v":12.148849797023002},null,{"$f":"IF(Information!$H$18=\"x\",D45,0)","v":33.56},{"$f":"IF(Information!$H$18=\"x\",E45,0)","v":12.148849797023002},{"$f":"SUM(D45:D46)/2","v":28.4855751014885},{"$f":"SUM(E45:E46)/2","v":12.148849797023002},{"$f":"IF(Information!$H$17=\"x\",I45,0)","v":28.4855751014885},{"$f":"IF(Information!$H$17=\"x\",J45,0)","v":12.148849797023002},null,{"$f":"N44","v":1.4249785962964401},129.46970305475494,320.29769959404604,160.14884979702302,-160.14884979702302,0,{"$f":"$P$44/2","v":160.14884979702302},{"$f":"-T45","v":-160.14884979702302},{"$f":"IF(C46>0,L45,\"\")","v":12.148849797023002}]
[null,"S4",{"$f":"C43+1","v":13},{"$f":"D49","v":23.411150202976998},{"$f":"E45","v":12.148849797023002},null,{"$f":"IF(Information!$H$18=\"x\",D46,0)","v":23.411150202976998},{"$f":"IF(Information!$H$18=\"x\",E46,0)","v":12.148849797023002},null,null,{"$f":"K45","v":28.4855751014885},{"$f":"L45","v":12.148849797023002},null,{"$f":"N45","v":1.4249785962964401},129.46970305475494,320.29769959404604,160.14884979702302,-160.14884979702302,0,{"$f":"$P$44/2","v":160.14884979702302},-160.14884979702302,{"$f":"IF(C46>0,L46,\"\")","v":12.148849797023002}]
[null,null,null,null,null,null,null,null,null,null,{"$f":"K46","v":28.4855751014885},{"$f":"L46","v":12.148849797023002},{"$f":"M50","v":20.297699594046005},{"$f":"((I45-I42)^2+(J45-J42)^2)^0.5","v":2},{"$f":"O44+N47","v":131.46970305475494},{"$f":"(((D45-D46)^2+(E45-E46)^2)^0.5)*Information!$D$20-M47","v":300.00000000000006},150.00000000000003,-150.00000000000003,0,{"$f":"$P$47/2","v":150.00000000000003},-150.00000000000003,{"$f":"IF(C46>0,L47,\"\")","v":12.148849797023002}]
[null,null,null,{"$f":"D34","v":33.56},{"$f":"(E46+E51)/2","v":7.0744248985115012},null,{"$f":"IF(Information!$H$18=\"x\",D48,0)","v":33.56},{"$f":"IF(Information!$H$18=\"x\",E48,0)","v":7.0744248985115012},{"$f":"SUM(D48:D49)/2","v":28.4855751014885},{"$f":"SUM(E48:E49)/2","v":9.6116373477672514},{"$f":"IF(Information!$H$17=\"x\",I48,0)","v":28.4855751014885},{"$f":"IF(Information!$H$17=\"x\",J48,0)","v":9.6116373477672514},null,{"$f":"N47","v":2},131.46970305475494,300.00000000000006,150.00000000000003,-150.00000000000003,0,{"$f":"$P$47/2","v":150.00000000000003},-150.00000000000003,{"$f":"IF(C49>0,L48,\"\")","v":9.6116373477672514}]
[null,null,{"$f":"C46+1","v":14},{"$f":"D52","v":23.411150202976998},{"$f":"E46","v":12.148849797023002},null,{"$f":"IF(Information!$H$18=\"x\",D49,0)","v":23.411150202976998},{"$f":"IF(Information!$H$18=\"x\",E49,0)","v":12.148849797023002},null,null,{"$f":"K48","v":28.4855751014885},{"$f":"L48","v":9.6116373477672514},null,{"$f":"N48","v":2},131.46970305475494,300.00000000000006,150.00000000000003,-150.00000000000003,0,150.00000000000003,-150.00000000000003,{"$f":"IF(C49>0,L49,\"\")","v":9.6116373477672514}]
[null,null,null,null,null,null,null,null,null,null,{"$f":"K49","v":28.4855751014885},{"$f":"L49","v":9.6116373477672514},{"$f":"'Panel Calculations'!L118*'Panel Calculations'!L119","v":20.297699594046005},{"$f":"((I48-I45)^2+(J48-J45)^2)^0.5","v":2.5372124492557511},{"$f":"O47+N50","v":134.00691550401069},{"$f":"(((D48-D49)^2+(E48-E49)^2)^0.5)*Information!$D$20-M50","v":337.80601507050091},168.90300753525045,-168.90300753525045,37.806015070500848,150.00000000000003,-150.00000000000003,{"$f":"IF(C49>0,L50,\"\")","v":9.6116373477672514}]
[null,null,null,{"$f":"(D52+'Panel Calculations'!D50)/2","v":28.4855751014885},{"$f":"'Panel Calculations'!E50","v":2},null,{"$f":"IF(Information!$H$18=\"x\",D51,0)","v":28.4855751014885},{"$f":"IF(Information!$H$18=\"x\",E51,0)","v":2},{"$f":"SUM(D51:D52)/2","v":25.948362652232749},{"$f":"SUM(E51:E52)/2","v":7.0744248985115012},{"$f":"IF(Information!$H$17=\"x\",I51,0)","v":25.948362652232749},{"$f":"IF(Information!$H$17=\"x\",J51,0)","v":7.0744248985115012},null,{"$f":"N50","v":2.5372124492557511},134.00691550401069,337.80601507050091,168.90300753525045,-168.90300753525045,37.806015070500848,150.00000000000003,-150.00000000000003,{"$f":"IF(C52>0,L51,\"\")","v":7.0744248985115012}]
[null,null,{"$f":"C49+1","v":15},{"$f":"D55","v":23.411150202976998},{"$f":"E49","v":12.148849797023002},null,{"$f":"IF(Information!$H$18=\"x\",D52,0)","v":23.411150202976998},{"$f":"IF(Information!$H$18=\"x\",E52,0)","v":12.148849797023002},null,null,{"$f":"K51","v":25.948362652232749},{"$f":"L51","v":7.0744248985115012},null,{"$f":"N51","v":2.5372124492557511},134.00691550401069,337.80601507050091,168.90300753525045,-168.90300753525045,37.806015070500848,150.00000000000003,-150.00000000000003,{"$f":"IF(C52>0,L52,\"\")","v":7.0744248985115012}]
[null,null,null,null,null,null,null,null,null,null,{"$f":"K52","v":25.948362652232749},{"$f":"L52","v":7.0744248985115012},{"$f":"M50","v":20.297699594046005},{"$f":"((I51-I48)^2+(J51-J48)^2)^0.5","v":3.5881602563593411},{"$f":"O50+N53","v":137.59507576037004},{"$f":"(((D51-D52)^2+(E51-E52)^2)^0.5)*Information!$D$20-M53","v":337.80601507050079},168.9030075352504,-168.9030075352504,37.806015070500735,150.00000000000003,-150.00000000000003,{"$f":"IF(C52>0,L53,\"\")","v":7.0744248985115012}]
[null,null,null,{"$f":"'Panel Calculations'!D62","v":23.411150202976998},{"$f":"'Panel Calculations'!E53","v":2},null,{"$f":"IF(Information!$H$18=\"x\",D54,0)","v":23.411150202976998},{"$f":"IF(Information!$H$18=\"x\",E54,0)","v":2},{"$f":"SUM(D54:D55)/2","v":23.411150202976998},{"$f":"SUM(E54:E55)/2","v":7.0744248985115012},{"$f":"IF(Information!$H$17=\"x\",I54,0)","v":23.411150202976998},{"$f":"IF(Information!$H$17=\"x\",J54,0)","v":7.0744248985115012},null,{"$f":"N53","v":3.5881602563593411},137.59507576037004,337.80601507050079,168.9030075352504,-168.9030075352504,37.806015070500735,150.00000000000003,-150.00000000000003,{"$f":"IF(C55>0,L54,\"\")","v":7.0744248985115012}]
[null,null,{"$f":"C52+1","v":16},{"$f":"D54","v":23.411150202976998},{"$f":"E52","v":12.148849797023002},null,{"$f":"IF(Information!$H$18=\"x\",D55,0)","v":23.411150202976998},{"$f":"IF(Information!$H$18=\"x\",E55,0)","v":12.148849797023002},null,null,{"$f":"K54","v":23.411150202976998},{"$f":"L54","v":7.0744248985115012},null,{"$f":"N54","v":3.5881602563593411},137.59507576037004,337.80601507050079,168.9030075352504,-168.9030075352504,37.806015070500735,150.00000000000003,-150.00000000000003,{"$f":"IF(C55>0,L55,\"\")","v":7.0744248985115012}]
[null,null,null,null,null,null,null,null,null,null,{"$f":"K55","v":23.411150202976998},{"$f":"L55","v":7.0744248985115012},{"$f":"M53","v":20.297699594046005},{"$f":"((I54-I51)^2+(J54-J51)^2)^0.5","v":2.5372124492557511},{"$f":"O53+N56","v":140.13228820962578},{"$f":"(((D54-D55)^2+(E54-E55)^2)^0.5)*Information!$D$20-M56","v":300},150,-150,-5.6843418860808015E-14,150.00000000000003,-150.00000000000003,{"$f":"IF(C55>0,L56,\"\")","v":7.0744248985115012}]
[null,null,null,{"$f":"D58","v":0},{"$f":"E55","v":12.148849797023002},null,{"$f":"IF(Information!$H$18=\"x\",D57,0)","v":0},{"$f":"IF(Information!$H$18=\"x\",E57,0)","v":12.148849797023002},{"$f":"SUM(D57:D58)/2","v":0},{"$f":"SUM(E57:E58)/2","v":7.0744248985115012},{"$f":"IF(Information!$H$17=\"x\",I57,0)","v":0},{"$f":"IF(Information!$H$17=\"x\",J57,0)","v":7.0744248985115012},null,{"$f":"N56","v":2.5372124492557511},140.13228820962578,300,150,-150,-5.6843418860808015E-14,150.00000000000003,-150.00000000000003,{"$f":"IF(C58>0,L57,\"\")","v":7.0744248985115012},null,null,null,null,"l",{"$f":"((E34-#REF!)-(#REF!-D34)*'Panel Calculations'!Q23)/'Panel Calculations'!P23","v":{"$error":"#REF!"}},"("]
[null,"S5",{"$f":"C55+1","v":17},{"$f":"'Panel Calculations'!D47","v":0},{"$f":"'Panel Calculations'!E47","v":2},null,{"$f":"IF(Information!$H$18=\"x\",D58,0)","v":0},{"$f":"IF(Information!$H$18=\"x\",E58,0)","v":2},null,null,{"$f":"K57","v":0},{"$f":"L57","v":7.0744248985115012},null,{"$f":"N57","v":2.5372124492557511},140.13228820962578,300,150,-150,-5.6843418860808015E-14,150.00000000000003,-150.00000000000003,{"$f":"IF(C58>0,L58,\"\")","v":7.0744248985115012}]
[null,null,null,null,null,null,null,null,null,null,{"$f":"K58","v":0},{"$f":"L58","v":7.0744248985115012},{"$f":"M56","v":20.297699594046005},{"$f":"((I57-I54)^2+(J57-J54)^2)^0.5","v":23.411150202976998},{"$f":"O56+N59","v":163.54343841260277},{"$f":"(((D57-D58)^2+(E57-E58)^2)^0.5)*Information!$D$20-M59","v":300},150,-150,-5.6843418860808015E-14,150.00000000000003,-150.00000000000003,{"$f":"IF(C58>0,L59,\"\")","v":7.0744248985115012}]
[]
[]
[]
[null,"S2 (Calc)",null,null,null,null,null,null,null,null,null,null,null,null,{"$f":"O35-Z12","v":78.853552018150992},{"$f":"((E67-E65)*O63/F67+E65)","v":575.46107882789624}]
[null,null,null,null,"A","L","d"]
[null,null,null,"S1",{"$f":"P8","v":0},{"$f":"O8","v":0}]
[null,null,null,"S2",{"$f":"P63","v":575.46107882789624},{"$f":"O63","v":78.853552018150992},{"$f":"F66-F65","v":78.853552018150992}]
[null,null,null,"S3",{"$f":"P35","v":934.45067963614429},{"$f":"O35","v":128.04472445845852},{"$f":"F67-F66","v":49.191172440307525}]
[null,null,null,"S4",{"$f":"P47","v":300.00000000000006},{"$f":"O47","v":131.46970305475494},{"$f":"F68-F67","v":3.4249785962964268}]
[null,null,null,"S5",{"$f":"P59","v":300},{"$f":"O59","v":163.54343841260277},{"$f":"F69-F68","v":32.073735357847823}]

{"sheet":"Guides","index":3,"n_rows":28,"n_cols":18,"rows_kept":28,"cut":false,"hidden":false,"merged":[]}
["Guides",null,"x","y",null,"x","y",null,null,"x1","y1","x2","y2","a","b","x","y","l"]
[]
[null,null,{"$f":"'Panel Calculations'!D61","v":0},{"$f":"'Panel Calculations'!E61","v":12.148849797023002},null,{"$f":"IF(Information!$H$19=\"x\",C3,0)","v":0},{"$f":"IF(Information!$H$19=\"x\",D3,0)","v":12.148849797023002}]
[null,1,{"$f":"'Panel Calculations'!D49","v":35.56},{"$f":"D3","v":12.148849797023002},null,{"$f":"IF(Information!$H$19=\"x\",C4,0)","v":35.56},{"$f":"IF(Information!$H$19=\"x\",D4,0)","v":12.148849797023002}]
[]
[null,null,{"$f":"'Panel Calculations'!D33","v":4},{"$f":"'Panel Calculations'!E40","v":86.36},null,{"$f":"IF(Information!$H$19=\"x\",C6,0)","v":4},{"$f":"IF(Information!$H$19=\"x\",D6,0)","v":86.36}]
[null,2,{"$f":"C6","v":4},{"$f":"'Panel Calculations'!E45","v":0},null,{"$f":"IF(Information!$H$19=\"x\",C7,0)","v":4},{"$f":"IF(Information!$H$19=\"x\",D7,0)","v":0}]
[]
[null,null,{"$f":"P10","v":35.56},{"$f":"Q10","v":7.2983667363430698},null,{"$f":"IF(Information!$H$19=\"x\",C9,0)","v":35.56},{"$f":"IF(Information!$H$19=\"x\",D9,0)","v":7.2983667363430698},null,{"$f":"'Panel Calculations'!B55","v":"Panel E"},{"$f":"'Panel Calculations'!D57","v":20.740028923806697},{"$f":"'Panel Calculations'!E57","v":70.639258997911242},{"$f":"'Panel Calculations'!D58","v":31.612592995407127},{"$f":"'Panel Calculations'!E58","v":24.169673738563013},{"$f":"(M9-K9)/(L9-J9)","v":-4.2740226641412615},{"$f":"(M9*J9-K9*L9)/(J9-L9)","v":159.28261267320633}]
[null,3,{"$f":"P11","v":17.061821708392362},{"$f":"Q11","v":86.36},null,{"$f":"IF(Information!$H$19=\"x\",C10,0)","v":17.061821708392362},{"$f":"IF(Information!$H$19=\"x\",D10,0)","v":86.36},null,{"$f":"'Panel Calculations'!B67","v":"Panel G"},{"$f":"'Panel Calculations'!D68","v":35.56},{"$f":"'Panel Calculations'!E68","v":0},{"$f":"'Panel Calculations'!D69","v":35.56},{"$f":"'Panel Calculations'!E69","v":86.36},{"$f":"IF(J10<>L10,(M10-K10)/(L10-J10),\"\")","v":""},{"$f":"IF(J10<>L10,(M10*J10-K10*L10)/(J10-L10),\"\")","v":""},{"$f":"IF(N10<>\"\",(O9-O10)/(N10-N9),J10)","v":35.56},{"$f":"P10*N9+O9","v":7.2983667363430698},{"$f":"(P10^2+Q10^2)^0.5","v":36.301236301511267}]
[null,null,null,null,null,null,null,null,null,{"$f":"'Panel Calculations'!D39","v":35.56},{"$f":"'Panel Calculations'!E39","v":86.36},{"$f":"'Panel Calculations'!D40","v":0},{"$f":"'Panel Calculations'!E40","v":86.36},{"$f":"IF(J11<>L11,(M11-K11)/(L11-J11),\"\")","v":0},{"$f":"IF(J11<>L11,(M11*J11-K11*L11)/(J11-L11),\"\")","v":86.36},{"$f":"IF(N11<>\"\",(O9-O11)/(N11-N9),J11)","v":17.061821708392362},{"$f":"P11*N9+O9","v":86.36},{"$f":"(P11^2+Q11^2)^0.5","v":88.029286944794507}]
[null,null,null,null,null,{"$f":"IF(Information!$H$19=\"x\",C12,0)","v":0},{"$f":"IF(Information!$H$19=\"x\",D12,0)","v":0}]
[null,4,null,null,null,{"$f":"IF(Information!$H$19=\"x\",C13,0)","v":0},{"$f":"IF(Information!$H$19=\"x\",D13,0)","v":0}]
[]
[null,null,null,null,null,{"$f":"IF(Information!$H$19=\"x\",C15,0)","v":0},{"$f":"IF(Information!$H$19=\"x\",D15,0)","v":0}]
[null,5,null,null,null,{"$f":"IF(Information!$H$19=\"x\",C16,0)","v":0},{"$f":"IF(Information!$H$19=\"x\",D16,0)","v":0}]
[]
[null,null,null,null,null,{"$f":"IF(Information!$H$19=\"x\",C18,0)","v":0},{"$f":"IF(Information!$H$19=\"x\",D18,0)","v":0}]
[null,6,null,null,null,{"$f":"IF(Information!$H$19=\"x\",C19,0)","v":0},{"$f":"IF(Information!$H$19=\"x\",D19,0)","v":0}]
[]
[]
[]
[]
[null,null,0,{"$f":"0","v":0},null,{"$f":"IF(Information!$H$19=\"x\",C24,0)","v":0},{"$f":"IF(Information!$H$19=\"x\",D24,0)","v":0}]
[null,"X",0,{"$f":"MAX(C3:D20)","v":86.36},null,{"$f":"IF(Information!$H$19=\"x\",C25,0)","v":0},{"$f":"IF(Information!$H$19=\"x\",D25,0)","v":86.36}]
[]
[null,null,0,{"$f":"0","v":0},null,{"$f":"IF(Information!$H$19=\"x\",C27,0)","v":0},{"$f":"IF(Information!$H$19=\"x\",D27,0)","v":0}]
[null,"Y",{"$f":"D25","v":86.36},{"$f":"D27","v":0},null,{"$f":"IF(Information!$H$19=\"x\",C28,0)","v":86.36},{"$f":"IF(Information!$H$19=\"x\",D28,0)","v":0}]