{"text_format":"1","workbook":"xlsx","n_sheets":7,"sheets":["Design","Panels","Path","Guides","Layout","Instructions","Bracing"],"not_rendered":{"charts":5,"images":0,"macros":1,"external_links":0,"defined_names":42,"comments":0,"pivot_tables":0},"unopened":[],"bounds":{"document_bytes":16777216,"sheet_cells":100000,"rows_first":2000,"rows_last":500,"rows_between":2000,"halvings":0,"cell_chars":16384,"cell_head_chars":4096},"cells_cut":0,"cells_raw":0,"read":"whole","date_system":"1900"}

{"sheet":"Design","index":0,"n_rows":109,"n_cols":11,"rows_kept":109,"cut":false,"hidden":false,"merged":[[105,3,105,7],[106,3,106,7],[107,3,107,7],[108,3,108,7],[100,3,100,7],[101,3,101,7],[102,3,102,7],[103,3,103,7],[104,3,104,7],[95,3,95,7],[96,3,96,7],[97,3,97,7],[98,3,98,7],[99,3,99,7],[90,3,90,7],[91,3,91,7],[92,3,92,7],[93,3,93,7],[94,3,94,7],[85,3,85,7],[86,3,86,7],[87,3,87,7],[88,3,88,7],[89,3,89,7],[80,3,80,7],[81,3,81,7],[82,3,82,7],[83,3,83,7],[84,3,84,7],[75,3,75,7],[76,3,76,7],[77,3,77,7],[78,3,78,7],[79,3,79,7],[69,3,69,17],[71,3,71,7],[72,3,72,7],[73,3,73,7],[74,3,74,7],[8,8,8,10],[4,8,4,10],[9,8,9,10],[5,8,5,10],[6,8,6,10],[7,8,7,10]]}
[null,"STH Version","=",8.1]
[]
[null,"Driver Dimensions"]
[null,"Frame Width","=",38,"cm",{"$f":"D4/2.54","v":14.960629921259843},"in",null,"Plot"]
[null,"Mounting Width","=",35.799999999999997,"cm",{"$f":"D5/2.54","v":14.094488188976376},"in","x","Panel A, top & bottom"]
[null,"Mounting Depth","=",16.2,"cm",{"$f":"D6/2.54","v":6.3779527559055111},"in","x","Panel B, driver baffle"]
[null,"Magnet Width","=",17,"cm",{"$f":"D7/2.54","v":6.6929133858267713},"in","x","Panel C, sides"]
[null,"Magnet Height","=",6,"cm",{"$f":"D8/2.54","v":2.3622047244094486},"in","x","Panel D, back"]
[null,null,null,null,null,null,null,"x","Panel E, front"]
[null,"Box Dimensions",null,null,null,null,null,"x","Panel F, 1st inside"]
[null,"d (external)","=",{"$f":"24*2.54","v":60.96},"cm",{"$f":"D11/2.54","v":24},"in","x","Panel G, 2nd inside"]
[null,"w (external)","=",{"$f":"18*2.54","v":45.72},"cm",{"$f":"D12/2.54","v":18},"in","x","Panel H, 4th inside"]
[null,"h (external)","=",{"$f":"34*2.54","v":86.36},"cm",{"$f":"D13/2.54","v":34},"in","x","Panel I, 5th inside"]
[]
[null,"driver offset (y)","=",0,"cm",{"$f":"D15/2.54","v":0},"in",null,"Plot"]
[null,"driver offset (x)","=",20,"cm",{"$f":"D16/2.54","v":7.8740157480314963},"in","x","Advanced Centerline"]
[null,null,null,null,null,null,null,"x","Sample points"]
[null,"HornResp Params",null,null,null,null,null,"x","Driver"]
[null,"S1","=",300,"cm^2",null,null,"o","Suggested braces"]
[null,"S2","=",{"$f":"Path!H11","v":350.02529454284934},"cm^2",null,null,"x","Guides"]
[null,"S3","=",{"$f":"Path!H12","v":807.09732556983454},"cm^2"]
[null,"S4","=",{"$f":"Path!H13","v":1592.2102810836757},"cm^2"]
[null,"S5","=",1900,"cm^2"]
[null,"L12","=",{"$f":"Path!K11","v":18.622672080165234},"cm"]
[null,"L23","=",{"$f":"Path!K12","v":170.15126267180582},"cm"]
[null,"L34","=",{"$f":"Path!K13","v":44.182716411706537},"cm"]
[null,"L45","=",{"$f":"Path!K14","v":17.321709510473028},"cm"]
[null,"Vtc","=",{"$f":"D35-D36","v":3000},"cm^3"]
[null,"Atc","=",{"$f":"D93","v":845},"cm^2"]
[null,"L (actual)","=",{"$f":"Path!K15","v":250.27836067415063},"cm"]
[]
[null,"Ideal box width","=",{"$f":"D23^0.5+2*D49","v":46.188989435406739},"cm",{"$f":"D32/2.54","v":18.184641510002653},"in",null,null,null,{"$f":"ABS(H48)+ABS(H51)+ABS(H52)+ABS(H53)+ABS(H54)+ABS(H55)+ABS(H56)+ABS(H57)","v":2.8590583865479857E-3}]
[null,"Compression ratio","=",{"$f":"D93/(D20+D37)","v":2.0136745757509016}]
[]
[null,"Cone Volume","=",3000,"cm^3"]
[null,"Cone Vol. Adj. (S2)","=",0,"cm^3"]
[null,"Equivalent CSA.","=",{"$f":"D35/E48","v":69.60556844547564},"cm^2"]
[null,"S2-S3 expansion","=","Par","Par, Con, Exp"]
[]
[null,"Horn Design"]
[null,"Vol. (net)","=",{"$f":"D42-I61","v":197.60015221560474},"l.",{"$f":"(D41*1000/2.54^3)/1728","v":6.9781835196094963},"cu.ft."]
[null,"Vol. (gross)","=",{"$f":"(D11*D12*D13)/10^3","v":240.69319603199997},"l.",{"$f":"(D42*1000/2.54^3)/1728","v":8.5},"cu.ft.","Err"]
[null,"Expansion 1 (S2-S3)","=",3.5698805012755144,null,null,null,{"$f":"Path!U117","v":1.5192701800970099E-4}]
[null,"Expansion 2 (S3-S5)","=",23.296245101938531,null,null,null,{"$f":"Path!U135","v":-8.1360238937122631E-5}]
[]
[null,"Panels",null,"p","x","y",null,null,"#","v"]
[null,{"$f":"I5","v":"Panel A, top & bottom"},null,1.9,{"$f":"ROUND(D12-2*D49,1)","v":43.1},{"$f":"ROUND(Panels!K7,1)","v":61},null,null,2,{"$f":"F47*E47*D47*I47/10^3","v":9.9905799999999996}]
[null,"Panel B, driver baffle",null,1.9,{"$f":"E47","v":43.1},42.640098139743579,null,{"$f":"Path!U96","v":-3.311873319944425E-5},1,3.4917976366636019]
[null,"Panel C, sides",null,1.3,{"$f":"ROUND(Panels!K19,1)","v":86.4},{"$f":"ROUND(Panels!K20,1)","v":61},null,null,2,13.703040000000003]
[null,"Panel D, back",null,1.9,{"$f":"E48","v":43.1},{"$f":"ROUND(Panels!K25,1)","v":82.6},null,null,1,6.7641139999999993]
[null,"Panel E, front",null,1.9,{"$f":"E48","v":43.1},35.64953140656138,null,{"$f":"D23-Path!$H$14","v":1.209736826695007E-4},1,2.9193401268833115]
[null,"Panel F, 1st inside",null,1.3,{"$f":"E48","v":43.1},39.26203068364984,null,{"$f":"Path!U105","v":7.4227509537649894E-4},1,2.1998515792049007]
[null,"Panel G, 2nd inside",null,1.3,{"$f":"E47","v":43.1},31.158174607618271,null,{"$f":"Path!U48","v":-5.0391122385917697E-9},1,1.7457925232648517]
[null,null,null,null,null,8.8973599660533331,null,{"$f":"D19-Path!$H$10","v":1.366462053624673E-4}]
[null,{"$f":"I12","v":"Panel H, 4th inside"},null,1.3,{"$f":"E47","v":43.1},18.42545666488741,null,{"$f":"Path!U57","v":4.221171726612738E-4},1,1.0323783369336417]
[null,{"$f":"I13","v":"Panel I, 5th inside"},null,1.3,{"$f":"E47","v":43.1},22.240756977421174,null,{"$f":"Path!U81","v":8.5958840884359233E-4},1,1.2461496134449084]
[null,null,null,null,null,32.120033533165667,null,{"$f":"Path!U72","v":5.443340493229698E-4}]
[]
[null,null,null,null,null,null,null,{"$f":"MAX(H43:H57)","v":8.5958840884359233E-4}]
[]
[null,null,null,null,null,null,null,"Pnl Vol",{"$f":"SUM(J47:J56)","v":43.093043816395223},"l"]
[]
[]
[]
[]
[]
[]
[]
[]
[null,"Filename","=","I:\\Users\\Brian.Steele\\OneDrive\\Hornresp\\Import\\BOXPLAN.TXT"]
[]
[null,"ID","=","29.00",null,null,null,null,null,{"$f":"CONCATENATE(B72,C72,D72)","v":"ID=29.00"}]
[null,"Ang","=","2.0 x PI",null,null,null,null,null,{"$f":"CONCATENATE(B73,C73,D73)","v":"Ang=2.0 x PI"}]
[null,"Eg","=",2.83,null,null,null,null,null,"Eg=2.83"]
[null,"Rg","=",0,null,null,null,null,null,"Rg=0"]
[null,"Fta","=",0,null,null,null,null,null,"Fta=0"]
[null,"S1","=",{"$f":"ROUND(D19,0)","v":300},null,null,null,null,null,"S1=300"]
[null,"S2","=",{"$f":"ROUND(D20,0)","v":350},null,null,null,null,null,"S2=350"]
[null,"Par","=",{"$f":"ROUND(D24,1)","v":18.600000000000001},null,null,null,null,null,"Par=18.6"]
[null,"F12","=",0,null,null,null,null,null,"F12=0"]
[null,"S2","=",{"$f":"D78","v":350},null,null,null,null,null,"S2=350"]
[null,"S3","=",{"$f":"ROUND(D21,0)","v":807},null,null,null,null,null,"S3=807"]
[null,{"$f":"D38","v":"Par"},"=",{"$f":"ROUND(D25,1)","v":170.2},null,null,null,null,null,"Par=170.2"]
[null,"F23","=",0,null,null,null,null,null,"F23=0"]
[null,"S3","=",{"$f":"D82","v":807},null,null,null,null,null,"S3=807"]
[null,"S4","=",{"$f":"ROUND(D22,0)","v":1592},null,null,null,null,null,"S4=1592"]
[null,"Par","=",{"$f":"ROUND(D26,1)","v":44.2},null,null,null,null,null,"Par=44.2"]
[null,"F34","=",0,null,null,null,null,null,"F34=0"]
[null,"S4","=",{"$f":"D86","v":1592},null,null,null,null,null,"S4=1592"]
[null,"S5","=",{"$f":"ROUND(D23,0)","v":1900},null,null,null,null,null,"S5=1900"]
[null,"Par","=",{"$f":"ROUND(D27,1)","v":17.3},null,null,null,null,null,"Par=17.3"]
[null,"F45","=",0,null,null,null,null,null,"F45=0"]
[null,"Sd","=",845,null,null,null,null,null,"Sd=845"]
[null,"Bl","=",26.14,null,null,null,null,null,"Bl=26.14"]
[null,"Cms","=",1.7200000000000001E-4,null,null,null,null,null,"Cms=0.000172"]
[null,"Rms","=",2.4,null,null,null,null,null,"Rms=2.4"]
[null,"Mmd","=",133.34,null,null,null,null,null,"Mmd=133.34"]
[null,"Le","=",4.12,null,null,null,null,null,"Le=4.12"]
[null,"Re","=",6.3,null,null,null,null,null,"Re=6.3"]
[null,"TH","=",1,null,null,null,null,null,"TH=1"]
[null,"Vrc","=",0,null,null,null,null,null,"Vrc=0"]
[null,"Lrc","=",0,null,null,null,null,null,"Lrc=0"]
[null,"Ap1","=",0,null,null,null,null,null,"Ap1=0"]
[null,"Lp","=",0,null,null,null,null,null,"Lp=0"]
[null,"Vtc","=",{"$f":"D35-D36","v":3000},null,null,null,null,null,"Vtc=3000"]
[null,"Atc","=",{"$f":"D93","v":845},null,null,null,null,null,"Atc=845"]
[null,"Pmax","=",500,null,null,null,null,null,"Pmax=500"]
[null,"Xmax","=",5,null,null,null,null,null,"Xmax=5"]
[null,"Comment","=","BOXPLAN-Export (7.2 Beta)",null,null,null,null,null,"Comment=BOXPLAN-Export (7.2 Beta)"]

{"sheet":"Panels","index":1,"n_rows":118,"n_cols":27,"rows_kept":118,"cut":false,"hidden":false,"merged":[]}
[]
[]
[]
[null,null,null,null,null,null,null,null,null,null,null,null,null,null,null,null,null,"Exp.","Cos","Sin","Cos","Tan","1/2","Cos","Sin","Cos","Tan"]
[null,null,"x","y",null,"x","y",null,"dx","dy",null,"A","B",null,null,null,1,{"$f":"Design!D43","v":3.5698805012755144},{"$f":"COS(R5*PI()/180)","v":0.99805959852530257},{"$f":"SIN(R5*PI()/180)","v":6.2265863773914992E-2},{"$f":"S5","v":0.99805959852530257},{"$f":"TAN(R5*PI()/180)","v":6.2386919444406747E-2},{"$f":"R5/2","v":1.7849402506377572},{"$f":"COS(W5*PI()/180)","v":0.99951478191302967},{"$f":"SIN(W5*PI()/180)","v":3.1148045481999134E-2},{"$f":"X5","v":0.99951478191302967},{"$f":"TAN(W5*PI()/180)","v":3.1163166413990469E-2}]
[{"$f":"Design!I5","v":"Panel A, top & bottom"},null,{"$f":"C18-Design!D47","v":84.46},{"$f":"D18","v":60.96},null,{"$f":"IF(Design!$H$5=\"x\",C6,0)","v":84.46},{"$f":"IF(Design!$H$5=\"x\",D6,0)","v":60.96},null,null,null,null,null,null,null,null,null,2,{"$f":"Design!$D44","v":23.296245101938531},{"$f":"COS(R6*PI()/180)","v":0.91847230157748139},{"$f":"SIN(R6*PI()/180)","v":0.39548531102300633},{"$f":"S6","v":0.91847230157748139},{"$f":"TAN(R6*PI()/180)","v":0.43059035132987467},{"$f":"R6/2","v":11.648122550969266},{"$f":"COS(W6*PI()/180)","v":0.97940601937538685},{"$f":"SIN(W6*PI()/180)","v":0.20190059239947586},{"$f":"X6","v":0.97940601937538685},{"$f":"TAN(W6*PI()/180)","v":0.2061459582699291}]
[null,null,{"$f":"C6","v":84.46},{"$f":"D20","v":0},null,{"$f":"IF(Design!$H$5=\"x\",C7,0)","v":84.46},{"$f":"IF(Design!$H$5=\"x\",D7,0)","v":0},null,{"$f":"C6-C7","v":0},60.96,{"$f":"(I7^2+J7^2)^0.5","v":60.96},null,null,null,null,null,3,{"$f":"(180-R5)/2-R6","v":64.918814647423716},{"$f":"COS((R7)*PI()/180)","v":0.42390203142045874},{"$f":"SIN((R7)*PI()/180)","v":0.90570804774916758},{"$f":"S7","v":0.42390203142045874},{"$f":"TAN((R7)*PI()/180)","v":2.136597564098051},{"$f":"R7/2","v":32.459407323711858},{"$f":"COS(W7*PI()/180)","v":0.84377189791449525},{"$f":"SIN(W7*PI()/180)","v":0.53670195107691809},{"$f":"X7","v":0.84377189791449525},{"$f":"TAN(W7*PI()/180)","v":0.636074693176503}]
[null,null,{"$f":"C7+Design!D47","v":86.36},{"$f":"D7","v":0},null,{"$f":"IF(Design!$H$5=\"x\",C8,0)","v":86.36},{"$f":"IF(Design!$H$5=\"x\",D8,0)","v":0},null,-1.9000000000000057,0,{"$f":"(I8^2+J8^2)^0.5","v":1.9000000000000057},null,null,null,null,null,"1+2",{"$f":"R5+R6","v":26.866125603214044},{"$f":"COS((R8)*PI()/180)","v":0.89206486206828883},{"$f":"SIN((R8)*PI()/180)","v":0.4519073819524137},{"$f":"S8","v":0.89206486206828883},{"$f":"TAN((R8)*PI()/180)","v":0.5065857889578208},{"$f":"R8/2","v":13.433062801607022},{"$f":"COS(W8*PI()/180)","v":0.97264198502539689},{"$f":"SIN(W8*PI()/180)","v":0.23230920981712189},{"$f":"X8","v":0.97264198502539689},{"$f":"TAN(W8*PI()/180)","v":0.23884349369419416}]
[null,null,{"$f":"C8","v":86.36},{"$f":"D6","v":60.96},null,{"$f":"IF(Design!$H$5=\"x\",C9,0)","v":86.36},{"$f":"IF(Design!$H$5=\"x\",D9,0)","v":60.96},null,0,-60.96,{"$f":"(I9^2+J9^2)^0.5","v":60.96},null,null,null,null,null,"1-2",{"$f":"R5-R6","v":-19.726364600663018},{"$f":"COS((R9)*PI()/180)","v":0.94131533106977472},{"$f":"SIN((R9)*PI()/180)","v":-0.33752843953213851},{"$f":"S9","v":0.94131533106977472},{"$f":"TAN((R9)*PI()/180)","v":-0.35857106369291603},{"$f":"R9/2","v":-9.8631823003315091},{"$f":"COS((R9)*PI()/(180*2))","v":0.98521960269519981},{"$f":"SIN((R9)*PI()/(180*2))","v":-0.17129604334342535},{"$f":"X9","v":0.98521960269519981},{"$f":"TAN((R9)*PI()/(180*2))","v":-0.17386584967942392}]
[null,null,{"$f":"C6","v":84.46},{"$f":"D6","v":60.96},null,{"$f":"IF(Design!$H$5=\"x\",C10,0)","v":84.46},{"$f":"IF(Design!$H$5=\"x\",D10,0)","v":60.96},null,1.9000000000000057,0,{"$f":"(I10^2+J10^2)^0.5","v":1.9000000000000057}]
[]
[{"$f":"Design!I5","v":"Panel A, top & bottom"},null,{"$f":"C19","v":0},{"$f":"D6","v":60.96},null,{"$f":"IF(Design!$H$5=\"x\",C12,0)","v":0},{"$f":"IF(Design!$H$5=\"x\",D12,0)","v":60.96}]
[null,null,{"$f":"C12","v":0},{"$f":"D7","v":0},null,{"$f":"IF(Design!$H$5=\"x\",C13,0)","v":0},{"$f":"IF(Design!$H$5=\"x\",D13,0)","v":0},null,{"$f":"C12-C13","v":0},60.96,{"$f":"(I13^2+J13^2)^0.5","v":60.96}]
[null,null,{"$f":"C13+Design!D47","v":1.9},{"$f":"D13","v":0},null,{"$f":"IF(Design!$H$5=\"x\",C14,0)","v":1.9},{"$f":"IF(Design!$H$5=\"x\",D14,0)","v":0},null,-1.9,0,{"$f":"(I14^2+J14^2)^0.5","v":1.9}]
[null,null,{"$f":"C14","v":1.9},{"$f":"D12","v":60.96},null,{"$f":"IF(Design!$H$5=\"x\",C15,0)","v":1.9},{"$f":"IF(Design!$H$5=\"x\",D15,0)","v":60.96},null,0,-60.96,{"$f":"(I15^2+J15^2)^0.5","v":60.96}]
[null,null,{"$f":"C12","v":0},{"$f":"D12","v":60.96},null,{"$f":"IF(Design!$H$5=\"x\",C16,0)","v":0},{"$f":"IF(Design!$H$5=\"x\",D16,0)","v":60.96},null,1.9,0,{"$f":"(I16^2+J16^2)^0.5","v":1.9}]
[]
["Panel C (top, bottom)",null,{"$f":"Design!D13","v":86.36},{"$f":"Design!D11","v":60.96},null,{"$f":"IF(Design!$H$7=\"x\",C18,0)","v":86.36},{"$f":"IF(Design!$H$7=\"x\",D18,0)","v":60.96}]
[null,null,0,{"$f":"D18","v":60.96},null,{"$f":"IF(Design!$H$7=\"x\",C19,0)","v":0},{"$f":"IF(Design!$H$7=\"x\",D19,0)","v":60.96},null,{"$f":"C18-C19","v":86.36},0,{"$f":"(I19^2+J19^2)^0.5","v":86.36}]
[null,null,{"$f":"C19","v":0},0,null,{"$f":"IF(Design!$H$7=\"x\",C20,0)","v":0},{"$f":"IF(Design!$H$7=\"x\",D20,0)","v":0},null,0,60.96,{"$f":"(I20^2+J20^2)^0.5","v":60.96}]
[null,null,{"$f":"C18","v":86.36},{"$f":"D20","v":0},null,{"$f":"IF(Design!$H$7=\"x\",C21,0)","v":86.36},{"$f":"IF(Design!$H$7=\"x\",D21,0)","v":0},null,-86.36,0,{"$f":"(I21^2+J21^2)^0.5","v":86.36}]
[null,null,{"$f":"C18","v":86.36},{"$f":"D18","v":60.96},null,{"$f":"IF(Design!$H$7=\"x\",C22,0)","v":86.36},{"$f":"IF(Design!$H$7=\"x\",D22,0)","v":60.96},null,0,-60.96,{"$f":"(I22^2+J22^2)^0.5","v":60.96}]
[]
["Panel D (back)",null,{"$f":"C14","v":1.9},{"$f":"D20+Design!D50","v":1.9},null,{"$f":"IF(Design!$H$8=\"x\",C24,0)","v":1.9},{"$f":"IF(Design!$H$8=\"x\",D24,0)","v":1.9}]
[null,null,{"$f":"C7","v":84.46},{"$f":"D24","v":1.9},null,{"$f":"IF(Design!$H$8=\"x\",C25,0)","v":84.46},{"$f":"IF(Design!$H$8=\"x\",D25,0)","v":1.9},null,{"$f":"C24-C25","v":-82.559999999999988},0,{"$f":"(I25^2+J25^2)^0.5","v":82.559999999999988}]
[null,null,{"$f":"C25","v":84.46},{"$f":"D25-Design!D50","v":0},null,{"$f":"IF(Design!$H$8=\"x\",C26,0)","v":84.46},{"$f":"IF(Design!$H$8=\"x\",D26,0)","v":0},null,0,1.9,{"$f":"(I26^2+J26^2)^0.5","v":1.9}]
[null,null,{"$f":"C24","v":1.9},{"$f":"D26","v":0},null,{"$f":"IF(Design!$H$8=\"x\",C27,0)","v":1.9},{"$f":"IF(Design!$H$8=\"x\",D27,0)","v":0},null,82.559999999999988,0,{"$f":"(I27^2+J27^2)^0.5","v":82.559999999999988}]
[null,null,{"$f":"C24","v":1.9},{"$f":"D24","v":1.9},null,{"$f":"IF(Design!$H$8=\"x\",C28,0)","v":1.9},{"$f":"IF(Design!$H$8=\"x\",D28,0)","v":1.9},null,0,-1.9,{"$f":"(I28^2+J28^2)^0.5","v":1.9}]
[]
["Panel E (front)",null,{"$f":"C6","v":84.46},{"$f":"D18","v":60.96},null,{"$f":"IF(Design!$H$9=\"x\",C30,0)","v":84.46},{"$f":"IF(Design!$H$9=\"x\",D30,0)","v":60.96}]
[null,null,{"$f":"C30-Design!F51","v":48.810468593438614},{"$f":"D30","v":60.96},null,{"$f":"IF(Design!$H$9=\"x\",C31,0)","v":48.810468593438614},{"$f":"IF(Design!$H$9=\"x\",D31,0)","v":60.96},null,{"$f":"C30-C31","v":35.64953140656138},0,{"$f":"(I31^2+J31^2)^0.5","v":35.64953140656138}]
[null,null,{"$f":"C31","v":48.810468593438614},{"$f":"D31-Design!D51","v":59.06},null,{"$f":"IF(Design!$H$9=\"x\",C32,0)","v":48.810468593438614},{"$f":"IF(Design!$H$9=\"x\",D32,0)","v":59.06},null,0,1.8999999999999986,{"$f":"(I32^2+J32^2)^0.5","v":1.8999999999999986}]
[null,null,{"$f":"C30","v":84.46},{"$f":"D32","v":59.06},null,{"$f":"IF(Design!$H$9=\"x\",C33,0)","v":84.46},{"$f":"IF(Design!$H$9=\"x\",D33,0)","v":59.06},null,-35.64953140656138,0,{"$f":"(I33^2+J33^2)^0.5","v":35.64953140656138}]
[null,null,{"$f":"C33","v":84.46},{"$f":"D31","v":60.96},null,{"$f":"IF(Design!$H$9=\"x\",C34,0)","v":84.46},{"$f":"IF(Design!$H$9=\"x\",D34,0)","v":60.96},null,0,-1.8999999999999986,{"$f":"(I34^2+J34^2)^0.5","v":1.8999999999999986}]
[]
["Panel B (1st inside)",null,{"$f":"C32-Design!D48*Panels!S6","v":47.065371220441399},{"$f":"D39+Design!D48*Panels!T6","v":61.711422090943714},null,{"$f":"IF(Design!$H$6=\"x\",C36,0)","v":47.065371220441399},{"$f":"IF(Design!$H$6=\"x\",D36,0)","v":61.711422090943714},null,null,null,null,{"$f":"IF(C37=C36,0,(D37-D36)/(C37-C36))","v":2.3223929586705978},{"$f":"IF(L36=0,0,D36-L36*C36)","v":-47.592864628627197}]
[null,null,{"$f":"C36-Design!F48*T6","v":30.201838745593395},{"$f":"D36-Design!F48*Panels!S6","v":22.547673013043749},null,{"$f":"IF(Design!$H$6=\"x\",C37,0)","v":30.201838745593395},{"$f":"IF(Design!$H$6=\"x\",D37,0)","v":22.547673013043749},null,{"$f":"C36-C37","v":16.863532474848004},39.163749077899965,{"$f":"(I37^2+J37^2)^0.5","v":42.640098139743571},{"$f":"IF(C38=C37,0,(D38-D37)/(C38-C37))","v":-0.43059035132987511},{"$f":"IF(L37=0,0,D37-L37*C37)","v":35.552293369317042}]
[null,null,{"$f":"C37+Design!D48*S6","v":31.94693611859061},{"$f":"D37-Design!D48*Panels!T6","v":21.796250922100036},null,{"$f":"IF(Design!$H$6=\"x\",C38,0)","v":31.94693611859061},{"$f":"IF(Design!$H$6=\"x\",D38,0)","v":21.796250922100036},null,-1.7450973729972148,0.75142209094371282,{"$f":"(I38^2+J38^2)^0.5","v":1.9000000000000006},{"$f":"IF(C39=C38,0,(D39-D38)/(C39-C38))","v":2.3223929586705978},{"$f":"IF(L38=0,0,D38-L38*C38)","v":-52.397088570814198}]
[null,null,{"$f":"C31","v":48.810468593438614},{"$f":"D31","v":60.96},null,{"$f":"IF(Design!$H$6=\"x\",C39,0)","v":48.810468593438614},{"$f":"IF(Design!$H$6=\"x\",D39,0)","v":60.96},null,-16.863532474848004,-39.163749077899965,{"$f":"(I39^2+J39^2)^0.5","v":42.640098139743571},{"$f":"IF(C40=C39,0,(D40-D39)/(C40-C39))","v":-0.43059035132987511},{"$f":"IF(L39=0,0,D39-L39*C39)","v":81.977316820224573}]
[null,null,{"$f":"C36","v":47.065371220441399},{"$f":"D36","v":61.711422090943714},null,{"$f":"IF(Design!$H$6=\"x\",C40,0)","v":47.065371220441399},{"$f":"IF(Design!$H$6=\"x\",D40,0)","v":61.711422090943714},null,1.7450973729972148,-0.75142209094371282,{"$f":"(I40^2+J40^2)^0.5","v":1.9000000000000006}]
[]
["Panel F",null,{"$f":"C38-Design!D48/S9","v":29.928483919537705},{"$f":"D38+Design!$D$48*T5","v":21.914556063270474},null,{"$f":"IF(Design!$H$10=\"x\",C42,0)","v":29.928483919537705},{"$f":"IF(Design!$H$10=\"x\",D42,0)","v":21.914556063270474},null,null,null,null,{"$f":"IF(C43=C42,0,(D43-D42)/(C43-C42))","v":16.029001093588338},{"$f":"IF(L42=0,0,D42-L42*C42)","v":-457.80914541244039}]
[null,null,{"$f":"C42-Design!D52*T5","v":29.847538296631615},{"$f":"D42-Design!D52*S5","v":20.617078585187581},null,{"$f":"IF(Design!$H$10=\"x\",C43,0)","v":29.847538296631615},{"$f":"IF(Design!$H$10=\"x\",D43,0)","v":20.617078585187581},null,{"$f":"C42-C43","v":8.0945622906089199E-2},1.297477478082893,{"$f":"(I43^2+J43^2)^0.5","v":1.2999999999999996},{"$f":"IF(C44=C43,0,(D44-D43)/(C44-C43))","v":-6.2386919444406767E-2},{"$f":"IF(L43=0,0,D43-L43*C43)","v":22.479174552513385}]
[null,null,{"$f":"C43+Design!F52*S5","v":69.033384878043279},{"$f":"D43-Design!F52*T5","v":18.172394331152169},null,{"$f":"IF(Design!$H$10=\"x\",C44,0)","v":69.033384878043279},{"$f":"IF(Design!$H$10=\"x\",D44,0)","v":18.172394331152169},null,-39.185846581411667,2.4446842540354119,{"$f":"(I44^2+J44^2)^0.5","v":39.262030683649833},{"$f":"IF(C45=C44,0,(D45-D44)/(C45-C44))","v":16.029001093589041},{"$f":"IF(L44=0,0,D44-L44*C44)","v":-1088.3638073731568}]
[null,null,{"$f":"C44+Design!D52*T5","v":69.114330500949364},{"$f":"D44+Design!D52*S5","v":19.469871809235062},null,{"$f":"IF(Design!$H$10=\"x\",C45,0)","v":69.114330500949364},{"$f":"IF(Design!$H$10=\"x\",D45,0)","v":19.469871809235062},null,-8.0945622906085646E-2,-1.297477478082893,{"$f":"(I45^2+J45^2)^0.5","v":1.2999999999999994},{"$f":"IF(C46=C45,0,(D46-D45)/(C46-C45))","v":-6.2386919444406774E-2},{"$f":"IF(L45=0,0,D45-L45*C45)","v":23.781701978651896}]
[null,null,{"$f":"C42","v":29.928483919537705},{"$f":"D42","v":21.914556063270474},null,{"$f":"IF(Design!$H$10=\"x\",C46,0)","v":29.928483919537705},{"$f":"IF(Design!$H$10=\"x\",D46,0)","v":21.914556063270474},null,39.18584658141166,-2.4446842540354119,{"$f":"(I46^2+J46^2)^0.5","v":39.262030683649826}]
[]
["Panel G",null,{"$f":"C38+(Design!$F$54*S5)","v":40.827031634244904},{"$f":"D38-(Design!$F$54*T5)","v":21.242249118506273},null,{"$f":"IF(Design!$H$11=\"x\",C48,0)","v":40.827031634244904},{"$f":"IF(Design!$H$11=\"x\",D48,0)","v":21.242249118506273},null,null,null,null,{"$f":"IF(C49=C48,0,(D49-D48)/(C49-C48))","v":1.9739993142272327},{"$f":"IF(L48=0,0,D48-L48*C48)","v":-59.350283329426709}]
[null,null,{"$f":"C48+Design!$F$53*T8","v":54.907640747589852},{"$f":"D48+Design!$F$53*U8","v":49.037361852150923},null,{"$f":"IF(Design!$H$11=\"x\",C49,0)","v":54.907640747589852},{"$f":"IF(Design!$H$11=\"x\",D49,0)","v":49.037361852150923},null,{"$f":"C48-C49","v":-14.080609113344948},{"$f":"D48-D49","v":-27.79511273364465},{"$f":"(I49^2+J49^2)^0.5","v":31.158174607618268},{"$f":"IF(C50=C49,0,(D50-D49)/(C50-C49))","v":-0.50658578895782103},{"$f":"IF(L49=0,0,D49-L49*C49)","v":76.852792360081338}]
[null,null,{"$f":"C49-Design!$D$53*S8","v":53.747956426901077},{"$f":"D49+Design!$D$53*T8","v":49.624841448689061},null,{"$f":"IF(Design!$H$11=\"x\",C50,0)","v":53.747956426901077},{"$f":"IF(Design!$H$11=\"x\",D50,0)","v":49.624841448689061},null,1.1596843206887755,-0.58747959653813808,{"$f":"(I50^2+J50^2)^0.5","v":1.3},{"$f":"IF(C51=C50,0,(D51-D50)/(C51-C50))","v":1.973999314227233},{"$f":"IF(L50=0,0,D50-L50*C50)","v":-56.473587679128862}]
[null,null,{"$f":"C50-Design!$F$53*T8","v":39.667347313556128},{"$f":"D50-Design!$F$53*U8","v":21.829728715044407},null,{"$f":"IF(Design!$H$11=\"x\",C51,0)","v":39.667347313556128},{"$f":"IF(Design!$H$11=\"x\",D51,0)","v":21.829728715044407},null,14.080609113344948,27.795112733644654,{"$f":"(I51^2+J51^2)^0.5","v":31.158174607618271},{"$f":"IF(C52=C51,0,(D52-D51)/(C52-C51))","v":-0.50658578895781803},{"$f":"IF(L51=0,0,D51-L51*C51)","v":41.924643149746018}]
[null,null,{"$f":"C48","v":40.827031634244904},{"$f":"D48","v":21.242249118506273},null,{"$f":"IF(Design!$H$11=\"x\",C52,0)","v":40.827031634244904},{"$f":"IF(Design!$H$11=\"x\",D52,0)","v":21.242249118506273},null,-1.1596843206887755,0.58747959653813453,{"$f":"(I52^2+J52^2)^0.5","v":1.2999999999999985}]
[]
["Panel H",null,{"$f":"C49","v":54.907640747589852},{"$f":"D50","v":49.624841448689061},null,{"$f":"IF(Design!$H$12=\"x\",C54,0)","v":54.907640747589852},{"$f":"IF(Design!$H$12=\"x\",D54,0)","v":49.624841448689061},null,null,null,null,{"$f":"IF(C55=C54,D55-D54,(D55-D54)/(C55-C54))","v":-6.2386919444406719E-2},{"$f":"IF(L54=0,0,D54-L54*C54)","v":53.050360008891374}]
[null,null,{"$f":"C54+Design!F55*S5","v":73.297344629192736},{"$f":"D54-Design!F55*T5","v":48.477564474021008},null,{"$f":"IF(Design!$H$12=\"x\",C55,0)","v":73.297344629192736},{"$f":"IF(Design!$H$12=\"x\",D55,0)","v":48.477564474021008},null,{"$f":"C54-C55","v":-18.389703881602884},1.1472769746680527,{"$f":"(I55^2+J55^2)^0.5","v":18.425456664887406},{"$f":"IF(C56=C55,0,(D56-D55)/(C56-C55))","v":16.029001093589088},{"$f":"IF(L55=0,0,D55-L55*C55)","v":-1126.4056527444857}]
[null,null,{"$f":"C55-Design!D55*T5","v":73.21639900628665},{"$f":"D55-Design!D55*S5","v":47.180086995938112},null,{"$f":"IF(Design!$H$12=\"x\",C56,0)","v":73.21639900628665},{"$f":"IF(Design!$H$12=\"x\",D56,0)","v":47.180086995938112},null,8.0945622906085646E-2,1.2974774780828966,{"$f":"(I56^2+J56^2)^0.5","v":1.3000000000000029},{"$f":"IF(C57=C56,0,(D57-D56)/(C57-C56))","v":-6.2386919444406719E-2},{"$f":"IF(L56=0,0,D56-L56*C56)","v":51.747832582752856}]
[null,null,{"$f":"C56-Design!F55*S5","v":54.826695124683766},{"$f":"D56+Design!F55*T5","v":48.327363970606164},null,{"$f":"IF(Design!$H$12=\"x\",C57,0)","v":54.826695124683766},{"$f":"IF(Design!$H$12=\"x\",D57,0)","v":48.327363970606164},null,18.389703881602884,-1.1472769746680527,{"$f":"(I57^2+J57^2)^0.5","v":18.425456664887406},{"$f":"IF(C58=C57,0,(D58-D57)/(C58-C57))","v":16.029001093589088},{"$f":"IF(L57=0,0,D57-L57*C57)","v":-830.48979214082544}]
[null,null,{"$f":"C54","v":54.907640747589852},{"$f":"D54","v":49.624841448689061},null,{"$f":"IF(Design!$H$12=\"x\",C58,0)","v":54.907640747589852},{"$f":"IF(Design!$H$12=\"x\",D58,0)","v":49.624841448689061},null,-8.0945622906085646E-2,-1.2974774780828966,{"$f":"(I58^2+J58^2)^0.5","v":1.3000000000000029}]
[]
["Panel I",null,{"$f":"C7","v":84.46},{"$f":"Design!D50+Design!F57","v":34.020033533165666},null,{"$f":"IF(Design!$H$13=\"x\",C60,0)","v":84.46},{"$f":"IF(Design!$H$13=\"x\",D60,0)","v":34.020033533165666},null,null,null,null,{"$f":"IF(C61=C60,0,(D61-D60)/(C61-C60))","v":0},{"$f":"IF(L60=0,0,D60-L60*C60)","v":0}]
[null,null,{"$f":"C60-Design!F56","v":62.219243022578823},{"$f":"D60","v":34.020033533165666},null,{"$f":"IF(Design!$H$13=\"x\",C61,0)","v":62.219243022578823},{"$f":"IF(Design!$H$13=\"x\",D61,0)","v":34.020033533165666},null,{"$f":"C60-C61","v":22.240756977421171},0,{"$f":"(I61^2+J61^2)^0.5","v":22.240756977421171},{"$f":"IF(C62=C61,0,(D62-D61)/(C62-C61))","v":0},{"$f":"IF(L61=0,0,D61-L61*C61)","v":0}]
[null,null,{"$f":"C61","v":62.219243022578823},{"$f":"D61+Design!D56","v":35.320033533165663},null,{"$f":"IF(Design!$H$13=\"x\",C62,0)","v":62.219243022578823},{"$f":"IF(Design!$H$13=\"x\",D62,0)","v":35.320033533165663},null,0,-1.2999999999999972,{"$f":"(I62^2+J62^2)^0.5","v":1.2999999999999972},{"$f":"IF(C63=C62,0,(D63-D62)/(C63-C62))","v":0},{"$f":"IF(L62=0,0,D62-L62*C62)","v":0}]
[null,null,{"$f":"C60","v":84.46},{"$f":"D62","v":35.320033533165663},null,{"$f":"IF(Design!$H$13=\"x\",C63,0)","v":84.46},{"$f":"IF(Design!$H$13=\"x\",D63,0)","v":35.320033533165663},null,-22.240756977421171,0,{"$f":"(I63^2+J63^2)^0.5","v":22.240756977421171},{"$f":"IF(C64=C63,0,(D64-D63)/(C64-C63))","v":0},{"$f":"IF(L63=0,0,D63-L63*C63)","v":0}]
[null,null,{"$f":"C60","v":84.46},{"$f":"D60","v":34.020033533165666},null,{"$f":"IF(Design!$H$13=\"x\",C64,0)","v":84.46},{"$f":"IF(Design!$H$13=\"x\",D64,0)","v":34.020033533165666},null,0,1.2999999999999972,{"$f":"(I64^2+J64^2)^0.5","v":1.2999999999999972}]
[]
[]
[]
[]
[]
[]
[]
[]
[]
[]
[]
[]
[]
[]
[null,null,null,null,null,null,null,null,null,null,null,null,null,null,null,null,null,null,"x","y",null,"dX","dY","l","Delta"]
[null,null,null,null,null,null,null,null,null,null,null,null,null,null,null,null,null,null,{"$f":"Panels!C37","v":30.201838745593395},{"$f":"Panels!D37","v":22.547673013043749}]
[null,null,null,null,null,null,null,null,null,null,null,null,null,null,null,null,null,null,{"$f":"Panels!C36","v":47.065371220441399},{"$f":"Panels!D36","v":61.711422090943714},null,{"$f":"S80-S81","v":-16.863532474848004},{"$f":"T80-T81","v":-39.163749077899965},{"$f":"(V81^2+W81^2)^0.5","v":42.640098139743571},{"$f":"W81/V81","v":2.3223929586705978}]
[]
[null,null,null,null,null,null,null,null,null,null,null,null,null,null,null,null,null,null,{"$f":"IF(Design!$H$20=\"x\",Design!$D$61*SIN(ATAN($Y$81)),0)","v":0},{"$f":"IF(Design!$H$20=\"x\",Design!$D$61*COS(ATAN($Y$81)),0)","v":0}]
[null,null,null,null,null,null,null,null,null,null,null,null,null,null,null,null,"Driver"]
[]
[null,null,null,null,null,null,null,null,null,null,null,null,null,null,null,null,"Face (1)",{"$f":"Design!$H$18","v":"x"},{"$f":"S87+(Design!$D$4*COS(ATAN($Y$81)))/2+S83","v":45.625765875490643},{"$f":"T87+(Design!$D$4*SIN(ATAN($Y$81)))/2","v":58.368092774565525},null,{"$f":"IF(R86=\"x\",S86,0)","v":45.625765875490643},{"$f":"IF(R86=\"x\",T86,0)","v":58.368092774565525}]
[null,null,null,null,null,null,null,null,null,null,null,null,null,null,null,null,null,{"$f":"Design!$H$18","v":"x"},{"$f":"S80+(Design!D15/Panels!S8)-V81*Design!D16/X81-S83","v":38.111544966053522},{"$f":"T80-(W81*Design!D16/X81)-T83","v":40.917119044593377},null,38.111544966053522,40.917119044593377]
[null,null,null,null,null,null,null,null,null,null,null,null,null,null,null,null,null,{"$f":"Design!$H$18","v":"x"},{"$f":"S87-Design!$D$6*SIN(ATAN($Y$81))","v":23.232293680498323},{"$f":"T87+Design!$D$6*COS(ATAN($Y$81))","v":47.323981083166082},null,23.232293680498323,47.323981083166082]
[null,null,null,null,null,null,null,null,null,null,null,null,null,null,null,null,null,{"$f":"Design!$H$18","v":"x"},{"$f":"S88+Design!$D$7*COS(ATAN($Y$81))/2","v":26.593918824193878},{"$f":"T88+Design!$D$7*SIN(ATAN($Y$81))/2","v":55.130995646574675},null,26.593918824193878,55.130995646574675]
[null,null,null,null,null,null,null,null,null,null,null,null,null,null,null,null,null,{"$f":"Design!$H$18","v":"x"},{"$f":"S89+Design!$D$8*SIN(ATAN($Y$81))","v":32.104752633658762},{"$f":"T89-Design!$D$8*COS(ATAN($Y$81))","v":52.758083780436635},null,32.104752633658762,52.758083780436635]
[null,null,null,null,null,null,null,null,null,null,null,null,null,null,null,null,null,{"$f":"Design!$H$18","v":"x"},{"$f":"S87+Design!$D$5*COS(ATAN($Y$81))/2","v":45.190732033365336},{"$f":"T87+(Design!$D$5)*SIN(ATAN($Y$81))/2","v":57.357773242830291},null,45.190732033365336,57.357773242830291]
[]
[null,null,null,null,null,null,null,null,null,null,null,null,null,null,null,null,null,{"$f":"Design!$H$18","v":"x"},{"$f":"S94-(Design!$D$4*COS(ATAN($Y$81)))/2","v":30.597324056616401},{"$f":"T94-(Design!$D$4*SIN(ATAN($Y$81)))/2","v":23.46614531462123},null,{"$f":"IF(R93=\"x\",S93,0)","v":30.597324056616401},{"$f":"IF(R93=\"x\",T93,0)","v":23.46614531462123}]
[null,null,null,null,null,null,null,null,null,null,null,null,null,null,null,null,null,{"$f":"Design!$H$18","v":"x"},{"$f":"S87","v":38.111544966053522},{"$f":"T87","v":40.917119044593377},null,38.111544966053522,40.917119044593377]
[null,null,null,null,null,null,null,null,null,null,null,null,null,null,null,null,null,{"$f":"Design!$H$18","v":"x"},{"$f":"S88","v":23.232293680498323},{"$f":"T88","v":47.323981083166082},null,23.232293680498323,47.323981083166082]
[null,null,null,null,null,null,null,null,null,null,null,null,null,null,null,null,null,{"$f":"Design!$H$18","v":"x"},{"$f":"S95-Design!$D$7*COS(ATAN($Y$81))/2","v":19.870668536802768},{"$f":"T95-Design!$D$7*SIN(ATAN($Y$81))/2","v":39.516966519757489},null,19.870668536802768,39.516966519757489]
[null,null,null,null,null,null,null,null,null,null,null,null,null,null,null,null,null,{"$f":"Design!$H$18","v":"x"},{"$f":"S96+Design!$D$8*SIN(ATAN($Y$81))","v":25.381502346267656},{"$f":"T96-Design!$D$8*COS(ATAN($Y$81))","v":37.144054653619449},null,25.381502346267656,37.144054653619449]
[null,null,null,null,null,null,null,null,null,null,null,null,null,null,null,null,null,{"$f":"Design!$H$18","v":"x"},{"$f":"S94-Design!$D$5*COS(ATAN($Y$81))/2","v":31.032357898741708},{"$f":"T94-(Design!$D$5)*SIN(ATAN($Y$81))/2","v":24.47646484635646},null,31.032357898741708,24.47646484635646]
[]
[null,null,null,null,null,null,null,null,null,null,null,null,null,null,null,null,null,{"$f":"Design!$H$18","v":"x"},{"$f":"S97","v":25.381502346267656},{"$f":"T97","v":37.144054653619449},null,{"$f":"IF(R100=\"x\",S100,0)","v":25.381502346267656},{"$f":"IF(R100=\"x\",T100,0)","v":37.144054653619449}]
[null,null,null,null,null,null,null,null,null,null,null,null,null,null,null,null,null,{"$f":"Design!$H$18","v":"x"},{"$f":"S90","v":32.104752633658762},{"$f":"T90","v":52.758083780436635},null,{"$f":"IF(R101=\"x\",S101,0)","v":32.104752633658762},{"$f":"IF(R101=\"x\",T101,0)","v":52.758083780436635}]
[]
[]
[]
[null,null,null,null,null,null,null,null,null,null,null,null,null,null,null,null,"Graph Axes"]
[null,null,null,null,null,null,null,null,null,null,null,null,null,null,null,null,null,null,{"$f":"MIN(C6:D34)-5","v":-5},{"$f":"S106","v":-5}]
[null,null,null,null,null,null,null,null,null,null,null,null,null,null,null,null,null,null,{"$f":"S106","v":-5},{"$f":"MAX(C6:D34,Path!D19:E143)","v":86.36}]
[]
[null,null,null,null,null,null,null,null,null,null,null,null,null,null,null,null,null,null,{"$f":"S106","v":-5},{"$f":"S109","v":-5}]
[null,null,null,null,null,null,null,null,null,null,null,null,null,null,null,null,null,null,{"$f":"T107","v":86.36},{"$f":"T109","v":-5}]
[]
[]
[]
[null,null,null,null,null,null,null,null,null,null,null,null,null,null,null,null,null,null,"d",{"$f":"Design!E47","v":43.1}]
[null,null,null,null,null,null,null,null,null,null,null,null,null,null,null,null,null,null,null,null,null,"n"]
[null,null,null,null,null,null,null,null,null,null,null,null,null,null,null,null,null,null,"a1",{"$f":"Design!D20","v":350.02529454284934},null,{"$f":"Design!D24","v":18.622672080165234}]
[null,null,null,null,null,null,null,null,null,null,null,null,null,null,null,null,null,null,"a2",{"$f":"Path!P120","v":807.09732556983454},null,{"$f":"Path!O120","v":188.81655423250368}]
[null,null,null,null,null,null,null,null,null,null,null,null,null,null,null,null,null,null,"a3",{"$f":"Path!P120","v":807.09732556983454},null,{"$f":"Path!O120","v":188.81655423250368}]

{"sheet":"Path","index":2,"n_rows":144,"n_cols":48,"rows_kept":144,"cut":false,"hidden":false,"merged":[[18,24,18,25],[18,27,18,28],[18,30,18,31],[18,18,18,19]]}
[]
[null,null,null,null,null,null,null,"Exp.","Cos","Sin","Cos","Tan","1/2","Cos","Sin","Cos","Tan"]
[null,null,null,null,null,null,1,{"$f":"Design!D43","v":3.5698805012755144},{"$f":"COS(H3*PI()/180)","v":0.99805959852530257},{"$f":"SIN(H3*PI()/180)","v":6.2265863773914992E-2},{"$f":"I3","v":0.99805959852530257},{"$f":"TAN(H3*PI()/180)","v":6.2386919444406747E-2},{"$f":"H3/2","v":1.7849402506377572},{"$f":"COS(M3*PI()/180)","v":0.99951478191302967},{"$f":"SIN(M3*PI()/180)","v":3.1148045481999134E-2},{"$f":"N3","v":0.99951478191302967},{"$f":"TAN(M3*PI()/180)","v":3.1163166413990469E-2}]
[null,null,null,null,null,null,2,{"$f":"Design!$D44","v":23.296245101938531},{"$f":"COS(H4*PI()/180)","v":0.91847230157748139},{"$f":"SIN(H4*PI()/180)","v":0.39548531102300633},{"$f":"I4","v":0.91847230157748139},{"$f":"TAN(H4*PI()/180)","v":0.43059035132987467},{"$f":"H4/2","v":11.648122550969266},{"$f":"COS(M4*PI()/180)","v":0.97940601937538685},{"$f":"SIN(M4*PI()/180)","v":0.20190059239947586},{"$f":"N4","v":0.97940601937538685},{"$f":"TAN(M4*PI()/180)","v":0.2061459582699291}]
[null,null,null,null,null,null,3,{"$f":"(180-H3)/2-H4","v":64.918814647423716},{"$f":"COS((H5)*PI()/180)","v":0.42390203142045874},{"$f":"SIN((H5)*PI()/180)","v":0.90570804774916758},{"$f":"I5","v":0.42390203142045874},{"$f":"TAN((H5)*PI()/180)","v":2.136597564098051},{"$f":"H5/2","v":32.459407323711858},{"$f":"COS(M5*PI()/180)","v":0.84377189791449525},{"$f":"SIN(M5*PI()/180)","v":0.53670195107691809},{"$f":"N5","v":0.84377189791449525},{"$f":"TAN(M5*PI()/180)","v":0.636074693176503}]
[null,null,null,null,null,null,"1+2",{"$f":"H3+H4","v":26.866125603214044},{"$f":"COS((H6)*PI()/180)","v":0.89206486206828883},{"$f":"SIN((H6)*PI()/180)","v":0.4519073819524137},{"$f":"I6","v":0.89206486206828883},{"$f":"TAN((H6)*PI()/180)","v":0.5065857889578208},{"$f":"H6/2","v":13.433062801607022},{"$f":"COS(M6*PI()/180)","v":0.97264198502539689},{"$f":"SIN(M6*PI()/180)","v":0.23230920981712189},{"$f":"N6","v":0.97264198502539689},{"$f":"TAN(M6*PI()/180)","v":0.23884349369419416}]
[null,null,null,null,null,null,"1-2",{"$f":"H3-H4","v":-19.726364600663018},{"$f":"COS((H7)*PI()/180)","v":0.94131533106977472},{"$f":"SIN((H7)*PI()/180)","v":-0.33752843953213851},{"$f":"I7","v":0.94131533106977472},{"$f":"TAN((H7)*PI()/180)","v":-0.35857106369291603},{"$f":"H7/2","v":-9.8631823003315091},{"$f":"COS((H7)*PI()/(180*2))","v":0.98521960269519981},{"$f":"SIN((H7)*PI()/(180*2))","v":-0.17129604334342535},{"$f":"N7","v":0.98521960269519981},{"$f":"TAN((H7)*PI()/(180*2))","v":-0.17386584967942392}]
[]
[null,null,null,null,null,null,null,"S","L","W","d","y",null,null,"Conical",null,null,null,"Exponential"]
[null,null,null,null,null,null,"S1",{"$f":"P24","v":299.99986335379464},{"$f":"O24","v":4.2619480532622975E-2},{"$f":"Design!D12-2*Design!D49","v":43.12},null,{"$f":"H10/J10","v":6.9573252169247368},null,null,{"$f":"(H10/PI())^0.5","v":9.7720480125355067}]
[null,null,null,null,null,null,"S2",{"$f":"P30","v":350.02529454284934},{"$f":"O30","v":18.665291560697856},{"$f":"J10","v":43.12},{"$f":"I11-I10","v":18.622672080165234},8.1174697250196974,{"$f":"ATAN((L11-L10)/(I11-I10))*180/PI()","v":3.5647726710882619},null,{"$f":"(H11/PI())^0.5","v":10.555402013537059},{"$f":"ATAN((O12-O11)/(I12-I11))*180/PI()","v":1.8422846370818815},{"$f":"SIN(P11*PI()/(180*2))","v":1.607627378111965E-2},null,{"$f":"LN(H12/H11)/(I12-I11)","v":4.9099773200771872E-3}]
[null,null,null,null,null,null,"S3",{"$f":"P120","v":807.09732556983454},{"$f":"O120","v":188.81655423250368},{"$f":"J11","v":43.12},{"$f":"I12-I11","v":170.15126267180582},18.717470444569447,{"$f":"ATAN((L12-L11)/(I12-I11))*180/PI()","v":3.5647777957980611},null,16.028320493469547,null,null,null,null,null,null,null,null,null,null,null,null,null,null,null,null,null,null,null,null,null,null,"Intersection points"]
[null,null,null,null,null,null,"S4",{"$f":"P138","v":1592.2102810836757},{"$f":"O138","v":232.99927064421021},{"$f":"J12","v":43.12},{"$f":"I13-I12","v":44.182716411706537},36.9250992830166,null,null,22.512580335279342,null,null,null,null,null,null,null,null,null,null,null,null,null,null,null,null,null,null,null,null,null,null,null,null,null,{"$f":"AO15-AM15","v":14.879251285555199},{"$f":"AP15-AN15","v":-6.4068620385727044}]
[null,null,null,null,null,null,"S5",{"$f":"P144","v":1899.9998790263173},{"$f":"O144","v":250.32098015468324},{"$f":"J13","v":43.12},{"$f":"I14-I13","v":17.321709510473028},44.06307697185337,{"$f":"ATAN((L14-L12)/(I14-I12))*180/PI()","v":22.396266463263128},null,24.592453013924477,null,null,null,null,null,null,null,null,null,null,null,null,null,null,null,null,null,null,null,null,null,null,null,"x1","y1","x2","y2","a","b","x","y","l"]
[null,null,null,null,null,null,null,null,null,null,{"$f":"SUM(K10:K14)","v":250.27836067415063},null,null,null,null,null,null,null,null,null,null,null,null,null,null,null,null,null,null,null,null,null,null,null,null,null,null,"Driver centerline",{"$f":"Panels!S95","v":23.232293680498323},{"$f":"Panels!T95","v":47.323981083166082},{"$f":"Panels!S94","v":38.111544966053522},{"$f":"Panels!T94","v":40.917119044593377},{"$f":"(AP15-AN15)/(AO15-AM15)","v":-0.43059035132987478},{"$f":"(AP15*AM15-AN15*AO15)/(AM15-AO15)","v":57.327582581250695}]
[null,null,null,null,null,null,"S2-S3 Exp",{"$f":"Design!D38","v":"Par"},null,null,null,null,null,null,null,null,null,null,null,null,null,null,null,null,null,null,null,null,null,null,null,null,null,null,null,null,null,"Panel B (top)",{"$f":"Panels!C37","v":30.201838745593395},{"$f":"Panels!D37","v":22.547673013043749},{"$f":"Panels!C40","v":47.065371220441399},{"$f":"Panels!D40","v":61.711422090943714},{"$f":"(AP16-AN16)/(AO16-AM16)","v":2.3223929586705978},{"$f":"(AP16*AM16-AN16*AO16)/(AM16-AO16)","v":-47.592864628627197},{"$f":"(AR15-AR16)/(AQ16-AQ15)","v":38.111544966053529},{"$f":"AS16*AQ16+AR16","v":40.917119044593392},{"$f":"(AS16^2+AT16^2)^0.5","v":55.916907019334921}]
[null,null,null,null,null,null,null,null,null,null,null,null,null,null,null,null,null,null,null,null,null,null,null,null,null,null,null,null,null,null,null,null,null,null,null,null,null,"Panel B (bottom)",{"$f":"Panels!C38","v":31.94693611859061},{"$f":"Panels!D38","v":21.796250922100036},{"$f":"Panels!C39","v":48.810468593438614},{"$f":"Panels!D39","v":60.96},{"$f":"(AP17-AN17)/(AO17-AM17)","v":2.3223929586705978},{"$f":"(AP17*AM17-AN17*AO17)/(AM17-AO17)","v":-52.397088570814198},{"$f":"(AR15-AR17)/(AQ17-AQ15)","v":39.856642339050744},{"$f":"AS17*AQ17+AR17","v":40.165696953649679},{"$f":"(AS17^2+AT17^2)^0.5","v":56.584760760432978}]
["Path Calculations",null,null,"x","y",null,"x","y",null,"d","x","y","dS","d","L","S"]
[null,null,null,{"$f":"AS26","v":39.410642407005014},{"$f":"AT26","v":21.322993405553753},null,{"$f":"IF(Design!$H$17=\"x\",D19,0)","v":39.410642407005014},{"$f":"IF(Design!$H$17=\"x\",E19,0)","v":21.322993405553753},{"$f":"SUM(D19:D20)/2","v":35.678789262797814},{"$f":"SUM(E19:E20)/2","v":21.559622163826894},null,null,null,null,null,null,null,null,"Expansion",null,"Error",null,"Target",null,"Parabolic",null,null,"Conical",null,null,"Exponential",null,null,null,null,null,null,"Panel B",{"$f":"D23","v":32.488073716576437},{"$f":"E23","v":23.052985069334234},{"$f":"AM19+100*Panels!T7","v":123.05887849149319},{"$f":"AN19-100*Panels!U7","v":-19.337218072711643},{"$f":"(AP19-AN19)/(AO19-AM19)","v":-0.46803385757024529},{"$f":"(AP19*AM19-AN19*AO19)/(AM19-AO19)","v":38.258503535930004}]
[null,{"$f":"B23+1","v":42},1,{"$f":"Panels!C38","v":31.94693611859061},{"$f":"Panels!D38","v":21.796250922100036},null,{"$f":"IF(Design!$H$17=\"x\",D20,0)","v":31.94693611859061},{"$f":"IF(Design!$H$17=\"x\",E20,0)","v":21.796250922100036},null,null,null,null,null,null,null,null,{"$f":"ATAN((E19-E20)/(D19-D20))*180/PI()","v":-3.6281446098232819},null,null,null,null,null,null,null,null,null,null,null,null,null,null,null,null,null,null,null,null,"Panel G",{"$f":"AM29","v":39.667347313556128},{"$f":"AN29","v":21.829728715044407},{"$f":"AO29","v":53.747956426901077},{"$f":"AP29","v":49.624841448689061},{"$f":"IF(AO20<>AM20,(AP20-AN20)/(AO20-AM20),\"\")","v":1.973999314227233},{"$f":"IF(AQ20<>\"\",(AP20*AM20-AN20*AO20)/(AM20-AO20),AM20)","v":-56.473587679128848},{"$f":"IF(AQ20<>\"\",(AR19-AR20)/(AQ20-AQ19),AM20)","v":38.792303196000624},{"$f":"AS20*AQ19+AR19","v":20.102392227071277}]
[null,null,null,null,null,null,null,null,null,null,null,null,{"$f":"((D19-D20)^2+(E19-E20)^2)^0.5","v":7.4786953565902303},{"$f":"((I19-Panels!H94)^2+(J19-Panels!I94)^2)^0.5","v":41.686848179085359},0,{"$f":"((D19-D20)^2+(E19-E20)^2)^0.5*Panels!$T$114","v":322.33176986903896}]
[null,null,null,{"$f":"AS20","v":38.792303196000624},{"$f":"AT20","v":20.102392227071277},null,{"$f":"IF(Design!$H$17=\"x\",D22,0)","v":38.792303196000624},{"$f":"IF(Design!$H$17=\"x\",E22,0)","v":20.102392227071277},{"$f":"SUM(D22:D23)/2","v":35.640188456288527},{"$f":"SUM(E22:E23)/2","v":21.577688648202756},{"$f":"IF(Design!$H$16=\"x\",I22,0)","v":35.640188456288527},{"$f":"IF(Design!$H$16=\"x\",J22,0)","v":21.577688648202756},null,{"$f":"N21","v":41.686848179085359},0,322.33176986903896,null,null,{"$f":"P22/2","v":161.16588493451948},{"$f":"-S22","v":-161.16588493451948},{"$f":"(S22-Y22)*2","v":22.446465999163195},null,{"$f":"IF($H$16=\"Par\",Y22,0)+IF($H$16=\"Con\",AB22,0)+IF($H$16=\"Exp\",AE22,0)","v":149.94265193493789},null,{"$f":"((_S3_-_S2_)*(O22-_L2_)/(_L3_-_L2_)+_S2_)/2","v":149.94265193493789},{"$f":"-Y22","v":-149.94265193493789},null,{"$f":"Y22","v":149.94265193493789},{"$f":"-AB22","v":-149.94265193493789},null,{"$f":"Y22","v":149.94265193493789},{"$f":"-AE22","v":-149.94265193493789},{"$f":"IF(C20>0,L22,\"\")","v":21.577688648202756},{"$f":"O21","v":0},{"$f":"$R$144/2","v":928.11009516524632},null,null,"Panel G1",{"$f":"AS26","v":39.410642407005014},{"$f":"AT26","v":21.322993405553753},{"$f":"AM22-100*Panels!T7","v":-51.160162367911738},{"$f":"AN22+100*Panels!U7","v":63.71319654759963},{"$f":"(AP22-AN22)/(AO22-AM22)","v":-0.46803385757024529},{"$f":"(AP22*AM22-AN22*AO22)/(AM22-AO22)","v":39.768508400625805}]
["S1",41,{"$f":"C20+1","v":2},{"$f":"(Panels!C38+D26)/2","v":32.488073716576437},{"$f":"(Panels!D38+E26)/2","v":23.052985069334234},null,{"$f":"IF(Design!$H$17=\"x\",D23,0)","v":32.488073716576437},{"$f":"IF(Design!$H$17=\"x\",E23,0)","v":23.052985069334234},null,null,{"$f":"K22","v":35.640188456288527},{"$f":"L22","v":21.577688648202756},null,41.686848179085359,0,322.33176986903896,{"$f":"ATAN((E22-E23)/(D22-D23))*180/PI()","v":-25.081185352576263},null,161.16588493451948,-161.16588493451948,{"$f":"(S23-Y23)*2","v":22.446465999163195},null,{"$f":"IF($H$16=\"Par\",Y23,0)+IF($H$16=\"Con\",AB23,0)+IF($H$16=\"Exp\",AE23,0)","v":149.94265193493789},null,149.94265193493789,-149.94265193493789,null,{"$f":"Y23","v":149.94265193493789},{"$f":"-AB23","v":-149.94265193493789},null,{"$f":"Y23","v":149.94265193493789},{"$f":"-AE23","v":-149.94265193493789},{"$f":"IF(C20>0,L23,\"\")","v":21.577688648202756},{"$f":"AH22","v":0},{"$f":"-AI22","v":-928.11009516524632},null,null,"Panel B",{"$f":"Panels!C38","v":31.94693611859061},{"$f":"Panels!D38","v":21.796250922100036},{"$f":"Panels!C39","v":48.810468593438614},{"$f":"Panels!D39","v":60.96},{"$f":"IF(AO23<>AM23,(AP23-AN23)/(AO23-AM23),\"\")","v":2.3223929586705978},{"$f":"IF(AQ23<>\"\",(AP23*AM23-AN23*AO23)/(AM23-AO23),AM23)","v":-52.397088570814198},{"$f":"IF(AQ23<>\"\",(AR22-AR23)/(AQ23-AQ22),AM23)","v":33.029211314562268},{"$f":"AS23*AQ22+AR22","v":24.309719216568432}]
[null,null,null,null,null,null,null,null,null,null,{"$f":"K23","v":35.640188456288527},{"$f":"L23","v":21.577688648202756},{"$f":"((D22-D23)^2+(E22-E23)^2)^0.5","v":6.9605536741019636},{"$f":"((I22-I19)^2+(J22-J19)^2)^0.5","v":4.2619480532622975E-2},{"$f":"O21+N24","v":4.2619480532622975E-2},{"$f":"((D22-D23)^2+(E22-E23)^2)^0.5*Panels!$T$114","v":299.99986335379464},null,null,149.99993167689732,-149.99993167689732,{"$f":"(S24-W24)*2","v":7.2102382716821012E-5},null,{"$f":"IF($H$16=\"Par\",Y24,0)+IF($H$16=\"Con\",AB24,0)+IF($H$16=\"Exp\",AE24,0)","v":149.99989562570596},null,149.99989562570596,-149.99989562570596,null,{"$f":"Y24","v":149.99989562570596},{"$f":"-AB24","v":-149.99989562570596},null,{"$f":"Y24","v":149.99989562570596},{"$f":"-AE24","v":-149.99989562570596},{"$f":"IF(C20>0,L24,\"\")","v":21.577688648202756},null,null,{"$f":"AJ21+N24","v":4.2619480532622975E-2}]
[null,null,null,{"$f":"AS26","v":39.410642407005014},{"$f":"AT26","v":21.322993405553753},null,{"$f":"IF(Design!$H$17=\"x\",D25,0)","v":39.410642407005014},{"$f":"IF(Design!$H$17=\"x\",E25,0)","v":21.322993405553753},{"$f":"SUM(D25:D26)/2","v":36.219926860783644},{"$f":"SUM(E25:E26)/2","v":22.816356311061092},{"$f":"IF(Design!$H$16=\"x\",I25,0)","v":36.219926860783644},{"$f":"IF(Design!$H$16=\"x\",J25,0)","v":22.816356311061092},null,{"$f":"N24","v":4.2619480532622975E-2},4.2619480532622975E-2,299.99986335379464,null,null,{"$f":"P25/2","v":149.99993167689732},{"$f":"-S25","v":-149.99993167689732},{"$f":"(S25-W25)*2","v":7.2102382716821012E-5},null,{"$f":"IF($H$16=\"Par\",Y25,0)+IF($H$16=\"Con\",AB25,0)+IF($H$16=\"Exp\",AE25,0)","v":149.99989562570596},null,149.99989562570596,{"$f":"-Y25","v":-149.99989562570596},null,149.99989562570596,{"$f":"-AB25","v":-149.99989562570596},null,149.99989562570596,-149.99989562570596,{"$f":"IF(C23>0,L25,\"\")","v":22.816356311061092},{"$f":"O24","v":4.2619480532622975E-2},{"$f":"$R$144/2","v":928.11009516524632},null,null,"Panel F (top)",{"$f":"Panels!C42","v":29.928483919537705},{"$f":"Panels!D42","v":21.914556063270474},{"$f":"Panels!C45","v":69.114330500949364},{"$f":"Panels!D45","v":19.469871809235062},{"$f":"(AP25-AN25)/(AO25-AM25)","v":-6.2386919444406774E-2},{"$f":"(AP25*AM25-AN25*AO25)/(AM25-AO25)","v":23.781701978651896}]
[null,40,{"$f":"C23+1","v":3},{"$f":"AS23","v":33.029211314562268},{"$f":"AT23","v":24.309719216568432},null,{"$f":"IF(Design!$H$17=\"x\",D26,0)","v":33.029211314562268},{"$f":"IF(Design!$H$17=\"x\",E26,0)","v":24.309719216568432},null,null,{"$f":"K25","v":36.219926860783644},{"$f":"L25","v":22.816356311061092},null,{"$f":"N25","v":4.2619480532622975E-2},4.2619480532622975E-2,299.99986335379464,{"$f":"ATAN((E25-E26)/(D25-D26))*180/PI()","v":-25.081185352576266},null,149.99993167689732,-149.99993167689732,7.2102382716821012E-5,null,149.99989562570596,null,149.99989562570596,-149.99989562570596,null,149.99989562570596,-149.99989562570596,null,149.99989562570596,-149.99989562570596,{"$f":"IF(C23>0,L26,\"\")","v":22.816356311061092},{"$f":"AH25","v":4.2619480532622975E-2},{"$f":"-AI25","v":-928.11009516524632},null,null,"Panel G",{"$f":"Panels!C51","v":39.667347313556128},{"$f":"Panels!D51","v":21.829728715044407},{"$f":"Panels!C50","v":53.747956426901077},{"$f":"Panels!D50","v":49.624841448689061},{"$f":"(AP26-AN26)/(AO26-AM26)","v":1.973999314227233},{"$f":"(AP26*AM26-AN26*AO26)/(AM26-AO26)","v":-56.473587679128848},{"$f":"(AR25-AR26)/(AQ26-AQ25)","v":39.410642407005014},{"$f":"AS26*AQ26+AR26","v":21.322993405553753},{"$f":"ATAN(AQ26)*180/PI()","v":63.133874396785963},{"$f":"90-AU26","v":26.866125603214037}]
[null,null,null,null,null,null,null,null,null,null,{"$f":"K26","v":36.219926860783644},{"$f":"L26","v":22.816356311061092},{"$f":"((D25-D26)^2+(E25-E26)^2)^0.5","v":7.0457926351671967},{"$f":"((I25-I22)^2+(J25-J22)^2)^0.5","v":1.3676235580953839},{"$f":"O24+N27","v":1.4102430386280069},{"$f":"((D25-D26)^2+(E25-E26)^2)^0.5*Panels!$T$114","v":303.6736625757062},null,null,151.8368312878531,-151.8368312878531,6.6807282109948574E-5,null,151.83679788421205,null,151.83679788421205,-151.83679788421205,null,151.83679788421205,-151.83679788421205,null,151.83679788421205,-151.83679788421205,{"$f":"IF(C23>0,L27,\"\")","v":22.816356311061092},null,null,{"$f":"AJ24+N27","v":1.4102430386280069}]
[null,null,null,{"$f":"AS29","v":47.212111624044518},{"$f":"AT29","v":36.723088289954603},null,{"$f":"IF(Design!$H$17=\"x\",D28,0)","v":47.212111624044518},{"$f":"IF(Design!$H$17=\"x\",E28,0)","v":36.723088289954603},{"$f":"SUM(D28:D29)/2","v":43.534376981547631},{"$f":"SUM(E28:E29)/2","v":38.444392621802137},{"$f":"IF(Design!$H$16=\"x\",I28,0)","v":43.534376981547631},{"$f":"IF(Design!$H$16=\"x\",J28,0)","v":38.444392621802137},null,{"$f":"N27","v":1.3676235580953839},1.4102430386280069,303.6736625757062,null,null,{"$f":"P28/2","v":151.8368312878531},{"$f":"-S28","v":-151.8368312878531},6.6807282109948574E-5,null,151.83679788421205,null,151.83679788421205,{"$f":"-Y28","v":-151.83679788421205},null,151.83679788421205,-151.83679788421205,null,151.83679788421205,-151.83679788421205,{"$f":"IF(C26>0,L28,\"\")","v":38.444392621802137},{"$f":"O27","v":1.4102430386280069},{"$f":"$R$144/2","v":928.11009516524632},null,null,"Panel B",{"$f":"AS17","v":39.856642339050744},{"$f":"AT17","v":40.165696953649679},{"$f":"AM28+100*Panels!T7","v":130.4274471139675},{"$f":"AN28-100*Panels!U7","v":-2.2245061883961981},{"$f":"(AP28-AN28)/(AO28-AM28)","v":-0.46803385757024529},{"$f":"(AP28*AM28-AN28*AO28)/(AM28-AO28)","v":58.819955017393177}]
["S2",39,{"$f":"C26+1","v":4},{"$f":"AS17","v":39.856642339050744},{"$f":"AT17","v":40.165696953649679},null,{"$f":"IF(Design!$H$17=\"x\",D29,0)","v":39.856642339050744},{"$f":"IF(Design!$H$17=\"x\",E29,0)","v":40.165696953649679},null,null,{"$f":"K28","v":43.534376981547631},{"$f":"L28","v":38.444392621802137},null,{"$f":"N28","v":1.3676235580953839},1.4102430386280069,303.6736625757062,{"$f":"ATAN((E28-E29)/(D28-D29))*180/PI()","v":-25.081185352576206},null,151.8368312878531,-151.8368312878531,6.6807282109948574E-5,null,151.83679788421205,null,151.83679788421205,-151.83679788421205,null,151.83679788421205,-151.83679788421205,null,151.83679788421205,-151.83679788421205,{"$f":"IF(C26>0,L29,\"\")","v":38.444392621802137},{"$f":"AH28","v":1.4102430386280069},{"$f":"-AI28","v":-928.11009516524632},null,null,"Panel G",{"$f":"Panels!C51","v":39.667347313556128},{"$f":"Panels!D51","v":21.829728715044407},{"$f":"Panels!C50","v":53.747956426901077},{"$f":"Panels!D50","v":49.624841448689061},{"$f":"IF(AO29<>AM29,(AP29-AN29)/(AO29-AM29),\"\")","v":1.973999314227233},{"$f":"IF(AQ29<>\"\",(AP29*AM29-AN29*AO29)/(AM29-AO29),AM29)","v":-56.473587679128848},{"$f":"IF(AQ29<>\"\",(AR28-AR29)/(AQ29-AQ28),AM29)","v":47.212111624044518},{"$f":"AS29*AQ28+AR28","v":36.723088289954603}]
[null,null,null,null,null,null,null,null,null,null,{"$f":"K29","v":43.534376981547631},{"$f":"L29","v":38.444392621802137},{"$f":"((D28-D29)^2+(E28-E29)^2)^0.5","v":8.12123653231669},{"$f":"((I28-I25)^2+(J28-J25)^2)^0.5","v":17.255048522069849},{"$f":"O27+N30","v":18.665291560697856},{"$f":"((D28-D29)^2+(E28-E29)^2)^0.5*Panels!$T$114","v":350.02529454284934},null,null,175.01264727142467,-175.01264727142467,0,null,175.01264727142467,null,175.01264727142467,-175.01264727142467,null,{"$f":"Y30","v":175.01264727142467},-175.01264727142467,null,{"$f":"Y30","v":175.01264727142467},-175.01264727142467,{"$f":"IF(C26>0,L30,\"\")","v":38.444392621802137},null,null,{"$f":"AJ27+N30","v":18.665291560697856}]
[null,null,null,{"$f":"Panels!C50","v":53.747956426901077},{"$f":"Panels!D50","v":49.624841448689061},null,{"$f":"IF(Design!$H$17=\"x\",D31,0)","v":53.747956426901077},{"$f":"IF(Design!$H$17=\"x\",E31,0)","v":49.624841448689061},{"$f":"SUM(D31:D32)/2","v":49.662211300644046},{"$f":"SUM(E31:E32)/2","v":51.537108501179972},{"$f":"IF(Design!$H$16=\"x\",I31,0)","v":49.662211300644046},{"$f":"IF(Design!$H$16=\"x\",J31,0)","v":51.537108501179972},null,{"$f":"N30","v":17.255048522069849},18.665291560697856,350.02529454284934,null,null,{"$f":"P31/2","v":175.01264727142467},{"$f":"-S31","v":-175.01264727142467},0,null,175.01264727142467,null,175.01264727142467,{"$f":"-Y31","v":-175.01264727142467},null,{"$f":"PI()*($Q$11*(O31-_L2_)*2+$O$11)^2/2","v":175.0126472714247},-175.0126472714247,null,{"$f":"($H$11*EXP($S$11*(O31-$I$11)))/2","v":175.01264727142467},-175.01264727142467,{"$f":"IF(C29>0,L31,\"\")","v":51.537108501179972},{"$f":"O30","v":18.665291560697856},{"$f":"$R$144/2","v":928.11009516524632},null,null,"Cone Comp",null,null,null,null,null,null,{"$f":"AU31*COS(ATAN(AQ15))","v":1.4833129153764484},{"$f":"AU31*SIN(ATAN(AQ15))","v":-0.63870022936408566},{"$f":"Design!D37/Design!E47","v":1.6149783862059313}]
[null,38,{"$f":"C29+1","v":5},{"$f":"AS49","v":45.576466174387015},{"$f":"AT49","v":53.449375553670876},null,{"$f":"IF(Design!$H$17=\"x\",D32,0)","v":45.576466174387015},{"$f":"IF(Design!$H$17=\"x\",E32,0)","v":53.449375553670876},null,null,{"$f":"K31","v":49.662211300644046},{"$f":"L31","v":51.537108501179972},null,{"$f":"N31","v":17.255048522069849},18.665291560697856,350.02529454284934,{"$f":"ATAN((E31-E32)/(D31-D32))*180/PI()","v":-25.081185352576302},null,175.01264727142467,-175.01264727142467,0,null,175.01264727142467,null,175.01264727142467,-175.01264727142467,null,175.0126472714247,-175.0126472714247,null,{"$f":"($H$11*EXP($S$11*(O32-$I$11)))/2","v":175.01264727142467},-175.01264727142467,{"$f":"IF(C29>0,L32,\"\")","v":51.537108501179972},{"$f":"AH31","v":18.665291560697856},{"$f":"-AI31","v":-928.11009516524632}]
[null,null,null,null,null,null,null,null,null,null,{"$f":"K32","v":49.662211300644046},{"$f":"L32","v":51.537108501179972},{"$f":"((D31-D32)^2+(E31-E32)^2)^0.5","v":9.0222122601444799},{"$f":"((I31-I28)^2+(J31-J28)^2)^0.5","v":14.455779554918799},{"$f":"O30+N33","v":33.121071115616658},{"$f":"((D31-D32)^2+(E31-E32)^2)^0.5*Panels!$T$114","v":388.85734841222711},null,null,194.42867420611356,-194.42867420611356,-5.5969204936445749E-5,null,194.42870219071602,null,194.42870219071602,-194.42870219071602,null,190.76478671463352,-190.76478671463352,null,187.88607426506698,-187.88607426506698,{"$f":"IF(C29>0,L33,\"\")","v":51.537108501179972},null,null,{"$f":"AJ30+N33","v":33.121071115616658},null,"S2'",{"$f":"AM86-AS31","v":38.373329423674292},{"$f":"AM33*AQ15+AR15","v":40.804397183013762},{"$f":"AO86","v":38.111544966053522},{"$f":"AO33*AQ86+AR86","v":40.917119044593449}]
[null,null,null,{"$f":"D31","v":53.747956426901077},{"$f":"E31","v":49.624841448689061},null,{"$f":"IF(Design!$H$17=\"x\",D34,0)","v":53.747956426901077},{"$f":"IF(Design!$H$17=\"x\",E34,0)","v":49.624841448689061},{"$f":"SUM(D34:D35)/2","v":50.282856382671014},{"$f":"SUM(E34:E35)/2","v":52.939764612762247},{"$f":"IF(Design!$H$16=\"x\",I34,0)","v":50.282856382671014},{"$f":"IF(Design!$H$16=\"x\",J34,0)","v":52.939764612762247},null,{"$f":"N33","v":14.455779554918799},33.121071115616658,388.85734841222711,null,null,194.42867420611356,-194.42867420611356,-5.5969204936445749E-5,null,194.42870219071602,null,194.42870219071602,-194.42870219071602,null,190.76478671463352,-190.76478671463352,null,187.88607426506698,-187.88607426506698,{"$f":"IF(C32>0,L34,\"\")","v":52.939764612762247},{"$f":"O33","v":33.121071115616658},{"$f":"$R$144/2","v":928.11009516524632}]
[null,37,{"$f":"C32+1","v":6},{"$f":"(D32+AN64)/2","v":46.817756338440958},{"$f":"(E32+AO64)/2","v":56.254687776835439},null,{"$f":"IF(Design!$H$17=\"x\",D35,0)","v":46.817756338440958},{"$f":"IF(Design!$H$17=\"x\",E35,0)","v":56.254687776835439},null,null,{"$f":"K34","v":50.282856382671014},{"$f":"L34","v":52.939764612762247},null,{"$f":"N34","v":14.455779554918799},33.121071115616658,388.85734841222711,{"$f":"ATAN((E34-E35)/(D34-D35))*180/PI()","v":-43.731111326945118},null,194.42867420611356,-194.42867420611356,-5.5969204936445749E-5,null,194.42870219071602,null,194.42870219071602,-194.42870219071602,null,190.76478671463352,-190.76478671463352,null,187.88607426506698,-187.88607426506698,{"$f":"IF(C32>0,L35,\"\")","v":52.939764612762247},{"$f":"AH34","v":33.121071115616658},{"$f":"-AI34","v":-928.11009516524632}]
[null,null,null,null,null,null,null,null,null,null,{"$f":"K35","v":50.282856382671014},{"$f":"L35","v":52.939764612762247},{"$f":"((D34-D35)^2+(E34-E35)^2)^0.5","v":9.5907526086813775},{"$f":"((I34-I31)^2+(J34-J31)^2)^0.5","v":1.5338332651247879},{"$f":"O33+N36","v":34.654904380741449},{"$f":"((D34-D35)^2+(E34-E35)^2)^0.5*Panels!$T$114","v":413.36143743416739},null,null,206.68071871708369,-206.68071871708369,20.383744582707379,null,196.48884642573,null,196.48884642573,-196.48884642573,null,192.47599650068076,-192.47599650068076,null,189.3064021438737,-189.3064021438737,{"$f":"IF(C32>0,L36,\"\")","v":52.939764612762247},null,null,{"$f":"AJ33+N36","v":34.654904380741449}]
[null,null,null,{"$f":"D31","v":53.747956426901077},{"$f":"E31","v":49.624841448689061},null,{"$f":"IF(Design!$H$17=\"x\",D37,0)","v":53.747956426901077},{"$f":"IF(Design!$H$17=\"x\",E37,0)","v":49.624841448689061},{"$f":"SUM(D37:D38)/2","v":52.587056155456992},{"$f":"SUM(E37:E38)/2","v":54.342420724344535},{"$f":"IF(Design!$H$16=\"x\",I37,0)","v":52.587056155456992},{"$f":"IF(Design!$H$16=\"x\",J37,0)","v":54.342420724344535},null,{"$f":"N36","v":1.5338332651247879},34.654904380741449,413.36143743416739,null,null,206.68071871708369,-206.68071871708369,20.383744582707379,null,196.48884642573,null,196.48884642573,-196.48884642573,null,192.47599650068076,-192.47599650068076,null,189.3064021438737,-189.3064021438737,{"$f":"IF(C35>0,L37,\"\")","v":54.342420724344535},{"$f":"O36","v":34.654904380741449},{"$f":"$R$144/2","v":928.11009516524632}]
[null,36,{"$f":"C35+1","v":7},{"$f":"(Panels!C32+D41)/2","v":51.4261558840129},{"$f":"Panels!D32","v":59.06},null,{"$f":"IF(Design!$H$17=\"x\",D38,0)","v":51.4261558840129},{"$f":"IF(Design!$H$17=\"x\",E38,0)","v":59.06},null,null,{"$f":"K37","v":52.587056155456992},{"$f":"L37","v":54.342420724344535},null,{"$f":"N37","v":1.5338332651247879},34.654904380741449,413.36143743416739,{"$f":"ATAN((E37-E38)/(D37-D38))*180/PI()","v":-76.17535719050494},null,206.68071871708369,-206.68071871708369,20.383744582707379,null,196.48884642573,null,196.48884642573,-196.48884642573,null,192.47599650068076,-192.47599650068076,null,189.3064021438737,-189.3064021438737,{"$f":"IF(C35>0,L38,\"\")","v":54.342420724344535},{"$f":"AH37","v":34.654904380741449},{"$f":"-AI37","v":-928.11009516524632}]
[null,null,null,null,null,null,null,null,null,null,{"$f":"K38","v":52.587056155456992},{"$f":"L38","v":54.342420724344535},{"$f":"((D37-D38)^2+(E37-E38)^2)^0.5","v":9.7166339155765158},{"$f":"((I37-I34)^2+(J37-J34)^2)^0.5","v":2.6975508818678655},{"$f":"O36+N39","v":37.352455262609311},{"$f":"((D37-D38)^2+(E37-E38)^2)^0.5*Panels!$T$114","v":418.78692176134786},null,null,209.39346088067393,-209.39346088067393,18.562882094629742,null,200.11201983335906,null,200.11201983335906,-200.11201983335906,null,195.50403470927967,-195.50403470927967,null,191.83042744361916,-191.83042744361916,{"$f":"IF(C35>0,L39,\"\")","v":54.342420724344535},null,null,{"$f":"AJ36+N39","v":37.352455262609311}]
[null,null,null,{"$f":"D37","v":53.747956426901077},{"$f":"E37","v":49.624841448689061},null,{"$f":"IF(Design!$H$17=\"x\",D40,0)","v":53.747956426901077},{"$f":"IF(Design!$H$17=\"x\",E40,0)","v":49.624841448689061},{"$f":"SUM(D40:D41)/2","v":53.894899800744128},{"$f":"SUM(E40:E41)/2","v":54.342420724344535},{"$f":"IF(Design!$H$16=\"x\",I40,0)","v":53.894899800744128},{"$f":"IF(Design!$H$16=\"x\",J40,0)","v":54.342420724344535},null,{"$f":"N39","v":2.6975508818678655},37.352455262609311,418.78692176134786,null,null,209.39346088067393,-209.39346088067393,18.562882094629742,null,200.11201983335906,null,200.11201983335906,-200.11201983335906,null,195.50403470927967,-195.50403470927967,null,191.83042744361916,-191.83042744361916,{"$f":"IF(C38>0,L40,\"\")","v":54.342420724344535},{"$f":"O39","v":37.352455262609311},{"$f":"$R$144/2","v":928.11009516524632}]
[null,35,{"$f":"C38+1","v":8},{"$f":"D40+(E41-E40)*Panels!Y5","v":54.041843174587186},{"$f":"E38","v":59.06},null,{"$f":"IF(Design!$H$17=\"x\",D41,0)","v":54.041843174587186},{"$f":"IF(Design!$H$17=\"x\",E41,0)","v":59.06},null,null,{"$f":"K40","v":53.894899800744128},{"$f":"L40","v":54.342420724344535},null,{"$f":"N40","v":2.6975508818678655},37.352455262609311,418.78692176134786,{"$f":"ATAN((E40-E41)/(D40-D41))*180/PI()","v":88.215925274806494},null,209.39346088067393,-209.39346088067393,18.562882094629742,null,200.11201983335906,null,200.11201983335906,-200.11201983335906,null,195.50403470927967,-195.50403470927967,null,191.83042744361916,-191.83042744361916,{"$f":"IF(C38>0,L41,\"\")","v":54.342420724344535},{"$f":"AH40","v":37.352455262609311},{"$f":"-AI40","v":-928.11009516524632}]
[null,null,null,null,null,null,null,null,null,null,{"$f":"K41","v":53.894899800744128},{"$f":"L41","v":54.342420724344535},{"$f":"((D40-D41)^2+(E40-E41)^2)^0.5","v":9.4397344405889676},{"$f":"((I40-I37)^2+(J40-J37)^2)^0.5","v":1.3078436452871358},{"$f":"O39+N42","v":38.660298907896447},{"$f":"((D40-D41)^2+(E40-E41)^2)^0.5*Panels!$T$114","v":406.85255438938452},null,null,203.42627719469226,-203.42627719469226,3.1152951212924336,null,201.86862963404604,null,201.86862963404604,-201.86862963404604,null,196.98061382348143,-196.98061382348143,null,193.0662267880721,-193.0662267880721,{"$f":"IF(C38>0,L42,\"\")","v":54.342420724344535},null,null,{"$f":"AJ39+N42","v":38.660298907896447}]
[null,null,null,{"$f":"Panels!C54","v":54.907640747589852},{"$f":"Panels!D54","v":49.624841448689061},null,{"$f":"IF(Design!$H$17=\"x\",D43,0)","v":54.907640747589852},{"$f":"IF(Design!$H$17=\"x\",E43,0)","v":49.624841448689061},{"$f":"SUM(D43:D44)/2","v":55.05458412143291},{"$f":"SUM(E43:E44)/2","v":54.342420724344535},{"$f":"IF(Design!$H$16=\"x\",I43,0)","v":55.05458412143291},{"$f":"IF(Design!$H$16=\"x\",J43,0)","v":54.342420724344535},null,{"$f":"N42","v":1.3078436452871358},38.660298907896447,406.85255438938452,null,null,203.42627719469226,-203.42627719469226,3.1152951212924336,null,201.86862963404604,null,201.86862963404604,-201.86862963404604,null,196.98061382348143,-196.98061382348143,null,193.0662267880721,-193.0662267880721,{"$f":"IF(C41>0,L43,\"\")","v":54.342420724344535},{"$f":"O42","v":38.660298907896447},{"$f":"$R$144/2","v":928.11009516524632}]
[null,34,{"$f":"C41+1","v":9},{"$f":"D43+(E44-E43)*Panels!Y5","v":55.201527495275961},{"$f":"E41","v":59.06},null,{"$f":"IF(Design!$H$17=\"x\",D44,0)","v":55.201527495275961},{"$f":"IF(Design!$H$17=\"x\",E44,0)","v":59.06},null,null,{"$f":"K43","v":55.05458412143291},{"$f":"L43","v":54.342420724344535},null,1.3078436452871358,38.660298907896447,406.85255438938452,{"$f":"ATAN((E43-E44)/(D43-D44))*180/PI()","v":88.215925274806494},null,203.42627719469226,-203.42627719469226,3.1152951212924336,null,201.86862963404604,null,201.86862963404604,-201.86862963404604,null,196.98061382348143,-196.98061382348143,null,193.0662267880721,-193.0662267880721,{"$f":"IF(C41>0,L44,\"\")","v":54.342420724344535},{"$f":"AH43","v":38.660298907896447},{"$f":"-AI43","v":-928.11009516524632}]
[null,null,null,null,null,null,null,null,null,null,{"$f":"K44","v":55.05458412143291},{"$f":"L44","v":54.342420724344535},{"$f":"((D43-D44)^2+(E43-E44)^2)^0.5","v":9.4397344405889676},{"$f":"((I43-I40)^2+(J43-J40)^2)^0.5","v":1.1596843206887826},{"$f":"O42+N45","v":39.81998322858523},{"$f":"((D43-D44)^2+(E43-E44)^2)^0.5*Panels!$T$114","v":406.85255438938452},null,null,203.42627719469226,-203.42627719469226,7.1293481198608788E-5,null,203.42624154795166,null,203.42624154795166,-203.42624154795166,null,198.29456516672039,-198.29456516672039,null,194.16868619794872,-194.16868619794872,{"$f":"IF(C41>0,L45,\"\")","v":54.342420724344535},null,null,{"$f":"AJ42+N45","v":39.81998322858523}]
[null,null,null,{"$f":"Panels!C55","v":73.297344629192736},{"$f":"Panels!D55","v":48.477564474021008},null,{"$f":"IF(Design!$H$17=\"x\",D46,0)","v":73.297344629192736},{"$f":"IF(Design!$H$17=\"x\",E46,0)","v":48.477564474021008},{"$f":"SUM(D46:D47)/2","v":73.462155720729498},{"$f":"SUM(E46:E47)/2","v":53.768782237010505},{"$f":"IF(Design!$H$16=\"x\",I46,0)","v":73.462155720729498},{"$f":"IF(Design!$H$16=\"x\",J46,0)","v":53.768782237010505},null,{"$f":"N45","v":1.1596843206887826},39.81998322858523,406.85255438938452,null,null,{"$f":"P46/2","v":203.42627719469226},{"$f":"-S46","v":-203.42627719469226},7.1293481198608788E-5,null,203.42624154795166,null,203.42624154795166,{"$f":"-Y46","v":-203.42624154795166},null,198.29456516672039,-198.29456516672039,null,194.16868619794872,-194.16868619794872,{"$f":"IF(C44>0,L46,\"\")","v":53.768782237010505},{"$f":"O45","v":39.81998322858523},{"$f":"$R$144/2","v":928.11009516524632}]
[null,33,{"$f":"C44+1","v":10},{"$f":"D46+(E47-E46)*Panels!Y5","v":73.626966812266247},{"$f":"E41","v":59.06},null,{"$f":"IF(Design!$H$17=\"x\",D47,0)","v":73.626966812266247},{"$f":"IF(Design!$H$17=\"x\",E47,0)","v":59.06},null,null,{"$f":"K46","v":73.462155720729498},{"$f":"L46","v":53.768782237010505},null,1.1596843206887826,39.81998322858523,406.85255438938452,{"$f":"ATAN((E46-E47)/(D46-D47))*180/PI()","v":88.215925274806537},null,203.42627719469226,-203.42627719469226,7.1293481198608788E-5,null,203.42624154795166,null,203.42624154795166,-203.42624154795166,null,198.29456516672039,-198.29456516672039,null,194.16868619794872,-194.16868619794872,{"$f":"IF(C44>0,L47,\"\")","v":53.768782237010505},{"$f":"AH46","v":39.81998322858523},{"$f":"-AI46","v":-928.11009516524632}]
[null,null,null,null,null,null,null,null,null,null,{"$f":"K47","v":73.462155720729498},{"$f":"L47","v":53.768782237010505},{"$f":"((D46-D47)^2+(E46-E47)^2)^0.5","v":10.58756782481588},{"$f":"((I46-I43)^2+(J46-J43)^2)^0.5","v":18.416507630313117},{"$f":"O45+N48","v":58.23649085889835},{"$f":"((D46-D47)^2+(E46-E47)^2)^0.5*Panels!$T$114","v":456.32417324956441},null,null,228.16208662478221,-228.16208662478221,-5.0391122385917697E-9,null,228.16208662730176,null,228.16208662730176,-228.16208662730176,null,219.74637403801796,-219.74637403801796,null,212.54461781587321,-212.54461781587321,{"$f":"IF(C44>0,L48,\"\")","v":53.768782237010505},null,null,{"$f":"AJ45+N48","v":58.23649085889835},null,"Panel B",{"$f":"Panels!C38","v":31.94693611859061},{"$f":"Panels!D38","v":21.796250922100036},{"$f":"Panels!C39","v":48.810468593438614},{"$f":"Panels!D39","v":60.96},{"$f":"(AP48-AN48)/(AO48-AM48)","v":2.3223929586705978},{"$f":"(AP48*AM48-AN48*AO48)/(AM48-AO48)","v":-52.397088570814198}]
[null,null,null,{"$f":"D46","v":73.297344629192736},{"$f":"E46","v":48.477564474021008},null,{"$f":"IF(Design!$H$17=\"x\",D49,0)","v":73.297344629192736},{"$f":"IF(Design!$H$17=\"x\",E49,0)","v":48.477564474021008},{"$f":"SUM(D49:D50)/2","v":76.170414017662921},{"$f":"SUM(E49:E50)/2","v":53.768782237010505},{"$f":"IF(Design!$H$16=\"x\",I49,0)","v":76.170414017662921},{"$f":"IF(Design!$H$16=\"x\",J49,0)","v":53.768782237010505},null,{"$f":"N48","v":18.416507630313117},58.23649085889835,456.32417324956441,null,null,{"$f":"P49/2","v":228.16208662478221},{"$f":"-S49","v":-228.16208662478221},-5.0391122385917697E-9,null,228.16208662730176,null,228.16208662730176,{"$f":"-Y49","v":-228.16208662730176},null,219.74637403801796,-219.74637403801796,null,212.54461781587321,-212.54461781587321,{"$f":"IF(C47>0,L49,\"\")","v":53.768782237010505},{"$f":"O48","v":58.23649085889835},{"$f":"$R$144/2","v":928.11009516524632},null,null,"Panel G",{"$f":"D31","v":53.747956426901077},{"$f":"E31","v":49.624841448689061},{"$f":"AM49-100*Panels!T7","v":-36.822848348015675},{"$f":"AN49+100*Panels!U7","v":92.015044590734931},{"$f":"(AP49-AN49)/(AO49-AM49)","v":-0.46803385757024518},{"$f":"(AP49*AM49-AN49*AO49)/(AM49-AO49)","v":74.780704831689022},{"$f":"(AR48-AR49)/(AQ49-AQ48)","v":45.576466174387015},{"$f":"AS49*AQ49+AR49","v":53.449375553670876}]
[null,32,{"$f":"C47+1","v":11},{"$f":"(D47+Panels!C33)/2","v":79.04348340613312},{"$f":"E47","v":59.06},null,{"$f":"IF(Design!$H$17=\"x\",D50,0)","v":79.04348340613312},{"$f":"IF(Design!$H$17=\"x\",E50,0)","v":59.06},null,null,{"$f":"K49","v":76.170414017662921},{"$f":"L49","v":53.768782237010505},null,18.416507630313117,58.23649085889835,456.32417324956441,{"$f":"ATAN((E49-E50)/(D49-D50))*180/PI()","v":61.498557010962344},null,228.16208662478221,-228.16208662478221,-5.0391122385917697E-9,null,228.16208662730176,null,228.16208662730176,-228.16208662730176,null,219.74637403801796,-219.74637403801796,null,212.54461781587321,-212.54461781587321,{"$f":"IF(C47>0,L50,\"\")","v":53.768782237010505},{"$f":"AH49","v":58.23649085889835},{"$f":"-AI49","v":-928.11009516524632}]
[null,null,null,null,null,null,null,null,null,null,{"$f":"K50","v":76.170414017662921},{"$f":"L50","v":53.768782237010505},{"$f":"((D49-D50)^2+(E49-E50)^2)^0.5","v":12.041845892775751},{"$f":"((I49-I46)^2+(J49-J46)^2)^0.5","v":2.7082582969334226},{"$f":"O48+N51","v":60.944749155831772},{"$f":"((D49-D50)^2+(E49-E50)^2)^0.5*Panels!$T$114","v":519.00355797863483},null,null,259.50177898931742,-259.50177898931742,55.404274913575819,null,231.79964153252951,null,231.79964153252951,-231.79964153252951,null,222.99389527352935,-222.99389527352935,null,215.38980204431547,-215.38980204431547,{"$f":"IF(C47>0,L51,\"\")","v":53.768782237010505},null,null,{"$f":"AJ48+N51","v":60.944749155831772},null,"Panel H (bottom)",{"$f":"Panels!C57","v":54.826695124683766},{"$f":"Panels!D57","v":48.327363970606164},{"$f":"Panels!C56","v":73.21639900628665},{"$f":"Panels!D56","v":47.180086995938112},{"$f":"(AP51-AN51)/(AO51-AM51)","v":-6.2386919444406719E-2},{"$f":"(AP51*AM51-AN51*AO51)/(AM51-AO51)","v":51.747832582752849}]
[null,null,null,{"$f":"D49","v":73.297344629192736},{"$f":"E49","v":48.477564474021008},null,{"$f":"IF(Design!$H$17=\"x\",D52,0)","v":73.297344629192736},{"$f":"IF(Design!$H$17=\"x\",E52,0)","v":48.477564474021008},{"$f":"SUM(D52:D53)/2","v":78.878672314596372},{"$f":"SUM(E52:E53)/2","v":51.12317335551576},{"$f":"IF(Design!$H$16=\"x\",I52,0)","v":78.878672314596372},{"$f":"IF(Design!$H$16=\"x\",J52,0)","v":51.12317335551576},null,{"$f":"N51","v":2.7082582969334226},60.944749155831772,519.00355797863483,null,null,259.50177898931742,-259.50177898931742,55.404274913575819,null,231.79964153252951,null,231.79964153252951,-231.79964153252951,null,222.99389527352935,-222.99389527352935,null,215.38980204431547,-215.38980204431547,{"$f":"IF(C50>0,L52,\"\")","v":51.12317335551576},{"$f":"O51","v":60.944749155831772},{"$f":"$R$144/2","v":928.11009516524632},null,null,"Panel G (top)",{"$f":"Panels!C62","v":62.219243022578823},{"$f":"Panels!D62","v":35.320033533165663},{"$f":"AM52+10*Panels!Y5","v":62.530723477398816},{"$f":"AN52+10*Panels!X5","v":45.315181352295959},{"$f":"IF(AO52<>AM52,(AP52-AN52)/(AO52-AM52),\"\")","v":32.08916535359041},{"$f":"IF(AQ52<>\"\",(AP52*AM52-AN52*AO52)/(AM52-AO52),AM52)","v":-1961.2435439935925},{"$f":"IF(AQ52<>\"\",(AR51-AR52)/(AQ52-AQ51),AM52)","v":62.609461573792224},{"$f":"IF(AQ52<>\"\",AS52*AQ52+AR52,AN51)","v":47.841821147090968}]
[null,31,{"$f":"C50+1","v":12},{"$f":"Panels!C33","v":84.46},{"$f":"(E49+E50)/2","v":53.768782237010505},null,{"$f":"IF(Design!$H$17=\"x\",D53,0)","v":84.46},{"$f":"IF(Design!$H$17=\"x\",E53,0)","v":53.768782237010505},null,null,{"$f":"K52","v":78.878672314596372},{"$f":"L52","v":51.12317335551576},null,2.7082582969334226,60.944749155831772,519.00355797863483,{"$f":"ATAN((E52-E53)/(D52-D53))*180/PI()","v":25.361451017828792},null,259.50177898931742,-259.50177898931742,55.404274913575819,null,231.79964153252951,null,231.79964153252951,-231.79964153252951,null,222.99389527352935,-222.99389527352935,null,215.38980204431547,-215.38980204431547,{"$f":"IF(C50>0,L53,\"\")","v":51.12317335551576},{"$f":"AH52","v":60.944749155831772},{"$f":"-AI52","v":-928.11009516524632}]
[null,null,null,null,null,null,null,null,null,null,{"$f":"K53","v":78.878672314596372},{"$f":"L53","v":51.12317335551576},{"$f":"((D52-D53)^2+(E52-E53)^2)^0.5","v":12.353212551510142},{"$f":"((I52-I49)^2+(J52-J49)^2)^0.5","v":3.7860149704871415},{"$f":"O51+N54","v":64.730764126318917},{"$f":"((D52-D53)^2+(E52-E53)^2)^0.5*Panels!$T$114","v":532.42346097008715},null,null,{"$f":"P54/2","v":266.21173048504357},{"$f":"-S54","v":-266.21173048504357},58.65392395048093,null,236.88476850980311,null,{"$f":"((_S3_-_S2_)*(O54-_L2_)/(_L3_-_L2_)+_S2_)/2","v":236.88476850980311},{"$f":"-Y54","v":-236.88476850980311},null,227.57370063269195,-227.57370063269195,null,219.43118315277471,-219.43118315277471,{"$f":"IF(C50>0,L54,\"\")","v":51.12317335551576},null,null,{"$f":"AJ51+N54","v":64.730764126318917},null,"Panel F (top)",{"$f":"Panels!C42","v":29.928483919537705},{"$f":"Panels!D42","v":21.914556063270474},{"$f":"Panels!C45","v":69.114330500949364},{"$f":"Panels!D45","v":19.469871809235062},{"$f":"(AP54-AN54)/(AO54-AM54)","v":-6.2386919444406774E-2},{"$f":"(AP54*AM54-AN54*AO54)/(AM54-AO54)","v":23.781701978651896}]
[null,null,null,{"$f":"D52","v":73.297344629192736},{"$f":"E52","v":48.477564474021008},null,{"$f":"IF(Design!$H$17=\"x\",D55,0)","v":73.297344629192736},{"$f":"IF(Design!$H$17=\"x\",E55,0)","v":48.477564474021008},{"$f":"SUM(D55:D56)/2","v":78.878672314596372},{"$f":"SUM(E55:E56)/2","v":48.30371702542611},{"$f":"IF(Design!$H$16=\"x\",I55,0)","v":78.878672314596372},{"$f":"IF(Design!$H$16=\"x\",J55,0)","v":48.30371702542611},null,{"$f":"N54","v":3.7860149704871415},64.730764126318917,532.42346097008715,null,null,266.21173048504357,-266.21173048504357,58.65392395048093,null,236.88476850980311,null,236.88476850980311,-236.88476850980311,null,227.57370063269195,-227.57370063269195,null,219.43118315277471,-219.43118315277471,{"$f":"IF(C53>0,L55,\"\")","v":48.30371702542611},{"$f":"O54","v":64.730764126318917},{"$f":"$R$144/2","v":928.11009516524632},null,null,"Panel I (bottom)",{"$f":"Panels!C61","v":62.219243022578823},{"$f":"Panels!D61","v":34.020033533165666},{"$f":"AM55+10*Panels!Y5","v":62.530723477398816},{"$f":"AN55+10*Panels!X5","v":44.015181352295961},{"$f":"IF(AO55<>AM55,(AP55-AN55)/(AO55-AM55),\"\")","v":32.08916535359041},{"$f":"IF(AQ55<>\"\",(AP55*AM55-AN55*AO55)/(AM55-AO55),AM55)","v":-1962.5435439935927},{"$f":"IF(AQ55<>\"\",(AR54-AR55)/(AQ55-AQ54),AM55)","v":61.780072983852655},{"$f":"IF(AQ55<>\"\",AS55*AQ55+AR55,AN54)","v":19.927433542138715}]
[null,30,{"$f":"C53+1","v":13},{"$f":"D53","v":84.46},{"$f":"E55-(D56-D55)*Panels!Y5","v":48.129869576831219},null,{"$f":"IF(Design!$H$17=\"x\",D56,0)","v":84.46},{"$f":"IF(Design!$H$17=\"x\",E56,0)","v":48.129869576831219},null,null,{"$f":"K55","v":78.878672314596372},{"$f":"L55","v":48.30371702542611},null,{"$f":"N55","v":3.7860149704871415},64.730764126318917,532.42346097008715,{"$f":"ATAN((E55-E56)/(D55-D56))*180/PI()","v":-1.7840747251935085},null,266.21173048504357,-266.21173048504357,58.65392395048093,null,236.88476850980311,null,236.88476850980311,-236.88476850980311,null,227.57370063269195,-227.57370063269195,null,219.43118315277471,-219.43118315277471,{"$f":"IF(C53>0,L56,\"\")","v":48.30371702542611},{"$f":"AH55","v":64.730764126318917},{"$f":"-AI55","v":-928.11009516524632}]
[null,null,null,null,null,null,null,null,null,null,{"$f":"K56","v":78.878672314596372},{"$f":"L56","v":48.30371702542611},{"$f":"((D55-D56)^2+(E55-E56)^2)^0.5","v":11.168069066268526},{"$f":"((I55-I52)^2+(J55-J52)^2)^0.5","v":2.8194563300896505},{"$f":"O54+N57","v":67.550220456408567},{"$f":"((D55-D56)^2+(E55-E56)^2)^0.5*Panels!$T$114","v":481.3437767561735},null,null,240.67188837808675,-240.67188837808675,4.221171726612738E-4,null,240.67167731950042,null,240.67167731950042,-240.67167731950042,null,231.0145376172901,-231.0145376172901,null,222.48999484491574,-222.48999484491574,{"$f":"IF(C53>0,L57,\"\")","v":48.30371702542611},null,null,{"$f":"AJ54+N57","v":67.550220456408567},null,"Panel B (top)",{"$f":"AM16","v":30.201838745593395},{"$f":"AN16","v":22.547673013043749},{"$f":"AO16","v":47.065371220441399},{"$f":"AP16","v":61.711422090943714},{"$f":"(AP57-AN57)/(AO57-AM57)","v":2.3223929586705978},{"$f":"(AP57*AM57-AN57*AO57)/(AM57-AO57)","v":-47.592864628627197}]
[null,null,null,{"$f":"Panels!C56","v":73.21639900628665},{"$f":"Panels!D56","v":47.180086995938112},null,{"$f":"IF(Design!$H$17=\"x\",D58,0)","v":73.21639900628665},{"$f":"IF(Design!$H$17=\"x\",E58,0)","v":47.180086995938112},{"$f":"SUM(D58:D59)/2","v":78.838199503143329},{"$f":"SUM(E58:E59)/2","v":47.006239547343213},{"$f":"IF(Design!$H$16=\"x\",I58,0)","v":78.838199503143329},{"$f":"IF(Design!$H$16=\"x\",J58,0)","v":47.006239547343213},null,{"$f":"N57","v":2.8194563300896505},67.550220456408567,481.3437767561735,null,null,240.67188837808675,-240.67188837808675,4.221171726612738E-4,null,240.67167731950042,null,240.67167731950042,-240.67167731950042,null,231.0145376172901,-231.0145376172901,null,222.48999484491574,-222.48999484491574,{"$f":"IF(C56>0,L58,\"\")","v":47.006239547343213},{"$f":"O57","v":67.550220456408567},{"$f":"$R$144/2","v":928.11009516524632},null,null,"Sample Point 42",{"$f":"Panels!C15","v":1.9},{"$f":"Panels!D15","v":60.96},{"$f":"AM58+10*Panels!X6","v":11.694060193753868},{"$f":"AN58-10*Panels!Y6","v":58.940994076005239},{"$f":"IF(AO58<>AM58,(AP58-AN58)/(AO58-AM58),\"\")","v":-0.2061459582699294},{"$f":"IF(AQ58<>\"\",(AP58*AM58-AN58*AO58)/(AM58-AO58),AM58)","v":61.351677320712874},{"$f":"IF(AQ58<>\"\",(AR57-AR58)/(AQ58-AQ57),AM58)","v":43.085966057093721},{"$f":"IF(AQ58<>\"\",AS58*AQ58+AR58,AN57)","v":52.469679559887638}]
[null,29,{"$f":"C56+1","v":14},{"$f":"D56","v":84.46},{"$f":"E58-(D56-D55)*Panels!Y5","v":46.832392098748322},null,{"$f":"IF(Design!$H$17=\"x\",D59,0)","v":84.46},{"$f":"IF(Design!$H$17=\"x\",E59,0)","v":46.832392098748322},null,null,{"$f":"K58","v":78.838199503143329},{"$f":"L58","v":47.006239547343213},null,{"$f":"N58","v":2.8194563300896505},67.550220456408567,481.3437767561735,{"$f":"ATAN((E58-E59)/(D58-D59))*180/PI()","v":-1.7712389160326525},null,240.67188837808675,-240.67188837808675,4.221171726612738E-4,null,240.67167731950042,null,240.67167731950042,-240.67167731950042,null,231.0145376172901,-231.0145376172901,null,222.48999484491574,-222.48999484491574,{"$f":"IF(C56>0,L59,\"\")","v":47.006239547343213},{"$f":"AH58","v":67.550220456408567},{"$f":"-AI58","v":-928.11009516524632}]
[null,null,null,null,null,null,null,null,null,null,{"$f":"K59","v":78.838199503143329},{"$f":"L59","v":47.006239547343213},{"$f":"((D58-D59)^2+(E58-E59)^2)^0.5","v":11.248975733255161},{"$f":"((I58-I55)^2+(J58-J55)^2)^0.5","v":1.2981085681094886},{"$f":"O57+N60","v":68.848329024518051},{"$f":"((D58-D59)^2+(E58-E59)^2)^0.5*Panels!$T$114","v":484.83085410329744},null,null,242.41542705164872,-242.41542705164872,4.3089717252087212E-4,null,242.41521160306246,null,242.41521160306246,-242.41521160306246,null,232.60741629125019,-232.60741629125019,null,223.91260449848829,-223.91260449848829,{"$f":"IF(C56>0,L60,\"\")","v":47.006239547343213},null,null,{"$f":"AJ57+N60","v":68.848329024518051}]
[null,null,null,{"$f":"D58","v":73.21639900628665},{"$f":"E58","v":47.180086995938112},null,{"$f":"IF(Design!$H$17=\"x\",D61,0)","v":73.21639900628665},{"$f":"IF(Design!$H$17=\"x\",E61,0)","v":47.180086995938112},{"$f":"SUM(D61:D62)/2","v":78.838199503143329},{"$f":"SUM(E61:E62)/2","v":44.128149905947552},{"$f":"IF(Design!$H$16=\"x\",I61,0)","v":78.838199503143329},{"$f":"IF(Design!$H$16=\"x\",J61,0)","v":44.128149905947552},null,{"$f":"N60","v":1.2981085681094886},68.848329024518051,484.83085410329744,null,null,242.41542705164872,-242.41542705164872,4.3089717252087212E-4,null,242.41521160306246,null,242.41521160306246,-242.41521160306246,null,232.60741629125019,-232.60741629125019,null,223.91260449848829,-223.91260449848829,{"$f":"IF(C59>0,L61,\"\")","v":44.128149905947552},{"$f":"O60","v":68.848329024518051},{"$f":"$R$144/2","v":928.11009516524632},null,null,"Cone Comp."]
[null,28,{"$f":"C59+1","v":15},{"$f":"D59","v":84.46},{"$f":"(E59+Panels!D63)/2","v":41.076212815956993},null,{"$f":"IF(Design!$H$17=\"x\",D62,0)","v":84.46},{"$f":"IF(Design!$H$17=\"x\",E62,0)","v":41.076212815956993},null,null,{"$f":"K61","v":78.838199503143329},{"$f":"L61","v":44.128149905947552},null,{"$f":"N61","v":1.2981085681094886},68.848329024518051,484.83085410329744,{"$f":"ATAN((E61-E62)/(D61-D62))*180/PI()","v":-28.496445754832557},null,242.41542705164872,-242.41542705164872,4.3089717252087212E-4,null,242.41521160306246,null,242.41521160306246,-242.41521160306246,null,232.60741629125019,-232.60741629125019,null,223.91260449848829,-223.91260449848829,{"$f":"IF(C59>0,L62,\"\")","v":44.128149905947552},{"$f":"AH61","v":68.848329024518051},{"$f":"-AI61","v":-928.11009516524632},null,null,"CC1",null,{"$f":"Panels!C38","v":31.94693611859061},{"$f":"Panels!D38","v":21.796250922100036},null,null,{"$f":"(AO62-AO63)/(AN62-AN63)","v":2.957824919597916},{"$f":"ATAN(AR62)*180/PI()","v":71.320310650582044}]
[null,null,null,null,null,null,null,null,null,null,{"$f":"K62","v":78.838199503143329},{"$f":"L62","v":44.128149905947552},{"$f":"((D61-D62)^2+(E61-E62)^2)^0.5","v":12.793586022334468},{"$f":"((I61-I58)^2+(J61-J58)^2)^0.5","v":2.8780896413956611},{"$f":"O60+N63","v":71.726418665913712},{"$f":"((D61-D62)^2+(E61-E62)^2)^0.5*Panels!$T$114","v":551.40355756261556},null,null,275.70177878130778,-275.70177878130778,58.841811901318408,null,246.28087283064858,null,246.28087283064858,-246.28087283064858,null,{"$f":"PI()*($Q$11*(O63-_L2_)*2+$O$11)^2/2","v":236.1585708342667},-236.1585708342667,null,227.09925579166048,-227.09925579166048,{"$f":"IF(C59>0,L63,\"\")","v":44.128149905947552},null,null,{"$f":"AJ60+N63","v":71.726418665913712},null,"CC2",null,{"$f":"Path!AM33","v":38.373329423674292},{"$f":"Path!AN33","v":40.804397183013762},null,null,{"$f":"(AO64-AO63)/(AN64-AN63)","v":1.8847962074904165},{"$f":"ATAN(AR63)*180/PI()","v":62.051306921961221}]
[null,null,null,{"$f":"D61","v":73.21639900628665},{"$f":"E61","v":47.180086995938112},null,{"$f":"IF(Design!$H$17=\"x\",D64,0)","v":73.21639900628665},{"$f":"IF(Design!$H$17=\"x\",E64,0)","v":47.180086995938112},{"$f":"SUM(D64:D65)/2","v":76.02729925471499},{"$f":"SUM(E64:E65)/2","v":41.250060264551891},{"$f":"IF(Design!$H$16=\"x\",I64,0)","v":76.02729925471499},{"$f":"IF(Design!$H$16=\"x\",J64,0)","v":41.250060264551891},null,{"$f":"N63","v":2.8780896413956611},71.726418665913712,551.40355756261556,null,null,275.70177878130778,-275.70177878130778,58.841811901318408,null,246.28087283064858,null,246.28087283064858,-246.28087283064858,null,236.1585708342667,-236.1585708342667,null,227.09925579166048,-227.09925579166048,{"$f":"IF(C62>0,L64,\"\")","v":41.250060264551891},{"$f":"O63","v":71.726418665913712},{"$f":"$R$144/2","v":928.11009516524632},null,null,null,null,{"$f":"Panels!C39-Design!$D$51*Panels!T6","v":48.059046502494901},{"$f":"Panels!D32","v":59.06}]
[null,27,{"$f":"C62+1","v":16},{"$f":"(D61+D62)/2","v":78.838199503143329},{"$f":"Panels!D63","v":35.320033533165663},null,{"$f":"IF(Design!$H$17=\"x\",D65,0)","v":78.838199503143329},{"$f":"IF(Design!$H$17=\"x\",E65,0)","v":35.320033533165663},null,null,{"$f":"K64","v":76.02729925471499},{"$f":"L64","v":41.250060264551891},null,{"$f":"N64","v":2.8780896413956611},71.726418665913712,551.40355756261556,{"$f":"ATAN((E64-E65)/(D64-D65))*180/PI()","v":-64.638515072544521},null,275.70177878130778,-275.70177878130778,58.841811901318408,null,246.28087283064858,null,246.28087283064858,-246.28087283064858,null,236.1585708342667,-236.1585708342667,null,227.09925579166048,-227.09925579166048,{"$f":"IF(C62>0,L65,\"\")","v":41.250060264551891},{"$f":"AH64","v":71.726418665913712},{"$f":"-AI64","v":-928.11009516524632}]
[null,null,null,null,null,null,null,null,null,null,{"$f":"K65","v":76.02729925471499},{"$f":"L65","v":41.250060264551891},{"$f":"((D64-D65)^2+(E64-E65)^2)^0.5","v":13.124995579667017},{"$f":"((I64-I61)^2+(J64-J61)^2)^0.5","v":4.023003876523549},{"$f":"O63+N66","v":75.749422542437259},{"$f":"((D64-D65)^2+(E64-E65)^2)^0.5*Panels!$T$114","v":565.68730948364839},null,null,282.8436547418242,-282.8436547418242,62.318693959629115,null,251.68430776200964,null,251.68430776200964,-251.68430776200964,null,241.16747085476138,-241.16747085476138,null,231.62971252474202,-231.62971252474202,{"$f":"IF(C62>0,L66,\"\")","v":41.250060264551891},null,null,{"$f":"AJ63+N66","v":75.749422542437259}]
[null,null,null,{"$f":"D64","v":73.21639900628665},{"$f":"E64","v":47.180086995938112},null,{"$f":"IF(Design!$H$17=\"x\",D67,0)","v":73.21639900628665},{"$f":"IF(Design!$H$17=\"x\",E67,0)","v":47.180086995938112},{"$f":"SUM(D67:D68)/2","v":73.031690263947965},{"$f":"SUM(E67:E68)/2","v":41.250060264551891},{"$f":"IF(Design!$H$16=\"x\",I67,0)","v":73.031690263947965},{"$f":"IF(Design!$H$16=\"x\",J67,0)","v":41.250060264551891},null,{"$f":"N66","v":4.023003876523549},75.749422542437259,565.68730948364839,null,null,282.8436547418242,-282.8436547418242,62.318693959629115,null,251.68430776200964,null,251.68430776200964,-251.68430776200964,null,241.16747085476138,-241.16747085476138,null,231.62971252474202,-231.62971252474202,{"$f":"IF(C65>0,L67,\"\")","v":41.250060264551891},{"$f":"O66","v":75.749422542437259},{"$f":"$R$144/2","v":928.11009516524632}]
[null,26,{"$f":"C65+1","v":17},{"$f":"D67-(E67-E68)*Panels!Y5","v":72.84698152160928},{"$f":"E65","v":35.320033533165663},null,{"$f":"IF(Design!$H$17=\"x\",D68,0)","v":72.84698152160928},{"$f":"IF(Design!$H$17=\"x\",E68,0)","v":35.320033533165663},null,null,{"$f":"K67","v":73.031690263947965},{"$f":"L67","v":41.250060264551891},null,{"$f":"N67","v":4.023003876523549},75.749422542437259,565.68730948364839,{"$f":"ATAN((E67-E68)/(D67-D68))*180/PI()","v":88.215925274806537},null,282.8436547418242,-282.8436547418242,62.318693959629115,null,251.68430776200964,null,251.68430776200964,-251.68430776200964,null,241.16747085476138,-241.16747085476138,null,231.62971252474202,-231.62971252474202,{"$f":"IF(C65>0,L68,\"\")","v":41.250060264551891},{"$f":"AH67","v":75.749422542437259},{"$f":"-AI67","v":-928.11009516524632}]
[null,null,null,null,null,null,null,null,null,null,{"$f":"K68","v":73.031690263947965},{"$f":"L68","v":41.250060264551891},{"$f":"((D67-D68)^2+(E67-E68)^2)^0.5","v":11.865805384288336},{"$f":"((I67-I64)^2+(J67-J64)^2)^0.5","v":2.9956089907670247},{"$f":"O66+N69","v":78.745031533204283},{"$f":"((D67-D68)^2+(E67-E68)^2)^0.5*Panels!$T$114","v":511.4162120628273},null,null,255.70810603141365,-255.70810603141365,5.8552006782974786E-4,null,255.70781327137973,null,255.70781327137973,-255.70781327137973,null,244.93133964560127,-244.93133964560127,null,235.06178678976289,-235.06178678976289,{"$f":"IF(C65>0,L69,\"\")","v":41.250060264551891},null,null,{"$f":"AJ66+N69","v":78.745031533204283}]
[null,null,null,{"$f":"AS52","v":62.609461573792224},{"$f":"AT52","v":47.841821147090968},null,{"$f":"IF(Design!$H$17=\"x\",D70,0)","v":62.609461573792224},{"$f":"IF(Design!$H$17=\"x\",E70,0)","v":47.841821147090968},{"$f":"SUM(D70:D71)/2","v":62.41435229818552},{"$f":"SUM(E70:E71)/2","v":41.580927340128312},{"$f":"IF(Design!$H$16=\"x\",I70,0)","v":62.41435229818552},{"$f":"IF(Design!$H$16=\"x\",J70,0)","v":41.580927340128312},null,{"$f":"N69","v":2.9956089907670247},78.745031533204283,511.4162120628273,null,null,255.70810603141365,-255.70810603141365,5.8552006782974786E-4,null,255.70781327137973,null,255.70781327137973,-255.70781327137973,null,244.93133964560127,-244.93133964560127,null,235.06178678976289,-235.06178678976289,{"$f":"IF(C68>0,L70,\"\")","v":41.580927340128312},{"$f":"O69","v":78.745031533204283},{"$f":"$R$144/2","v":928.11009516524632}]
[null,25,{"$f":"C68+1","v":18},{"$f":"Panels!C62","v":62.219243022578823},{"$f":"E68","v":35.320033533165663},null,{"$f":"IF(Design!$H$17=\"x\",D71,0)","v":62.219243022578823},{"$f":"IF(Design!$H$17=\"x\",E71,0)","v":35.320033533165663},null,null,{"$f":"K70","v":62.41435229818552},{"$f":"L70","v":41.580927340128312},null,{"$f":"N70","v":2.9956089907670247},78.745031533204283,511.4162120628273,{"$f":"ATAN((E70-E71)/(D70-D71))*180/PI()","v":88.21505974936224},null,255.70810603141365,-255.70810603141365,5.8552006782974786E-4,null,255.70781327137973,null,255.70781327137973,-255.70781327137973,null,244.93133964560127,-244.93133964560127,null,235.06178678976289,-235.06178678976289,{"$f":"IF(C68>0,L71,\"\")","v":41.580927340128312},{"$f":"AH70","v":78.745031533204283},{"$f":"-AI70","v":-928.11009516524632}]
[null,null,null,null,null,null,null,null,null,null,{"$f":"K71","v":62.41435229818552},{"$f":"L71","v":41.580927340128312},{"$f":"((D70-D71)^2+(E70-E71)^2)^0.5","v":12.527866361274942},{"$f":"((I70-I67)^2+(J70-J67)^2)^0.5","v":10.622492104064898},{"$f":"O69+N72","v":89.367523637269187},{"$f":"((D70-D71)^2+(E70-E71)^2)^0.5*Panels!$T$114","v":539.95104017095002},null,null,269.97552008547501,-269.97552008547501,5.443340493229698E-4,null,269.97524791845035,null,269.97524791845035,-269.97524791845035,null,258.51300279973083,-258.51300279973083,null,247.64706248602371,-247.64706248602371,{"$f":"IF(C68>0,L72,\"\")","v":41.580927340128312},null,null,{"$f":"AJ69+N72","v":89.367523637269187}]
[null,null,null,{"$f":"(D70+Panels!C57)/2","v":58.718078349237999},{"$f":"(E70+Panels!D57)/2","v":48.08459255884857},null,{"$f":"IF(Design!$H$17=\"x\",D73,0)","v":58.718078349237999},{"$f":"IF(Design!$H$17=\"x\",E73,0)","v":48.08459255884857},{"$f":"SUM(D73:D74)/2","v":60.468660685908411},{"$f":"SUM(E73:E74)/2","v":41.70231304600712},{"$f":"IF(Design!$H$16=\"x\",I73,0)","v":60.468660685908411},{"$f":"IF(Design!$H$16=\"x\",J73,0)","v":41.70231304600712},null,{"$f":"N72","v":10.622492104064898},89.367523637269187,539.95104017095002,null,null,269.97552008547501,-269.97552008547501,5.443340493229698E-4,null,269.97524791845035,null,269.97524791845035,-269.97524791845035,null,258.51300279973083,-258.51300279973083,null,247.64706248602371,-247.64706248602371,{"$f":"IF(C71>0,L73,\"\")","v":41.70231304600712},{"$f":"O72","v":89.367523637269187},{"$f":"$R$144/2","v":928.11009516524632}]
[null,24,{"$f":"C71+1","v":19},{"$f":"Panels!C62","v":62.219243022578823},{"$f":"E71","v":35.320033533165663},null,{"$f":"IF(Design!$H$17=\"x\",D74,0)","v":62.219243022578823},{"$f":"IF(Design!$H$17=\"x\",E74,0)","v":35.320033533165663},null,null,{"$f":"K73","v":60.468660685908411},{"$f":"L73","v":41.70231304600712},null,{"$f":"N73","v":10.622492104064898},89.367523637269187,539.95104017095002,{"$f":"ATAN((E73-E74)/(D73-D74))*180/PI()","v":-74.661684952733012},null,269.97552008547501,-269.97552008547501,5.443340493229698E-4,null,269.97524791845035,null,269.97524791845035,-269.97524791845035,null,258.51300279973083,-258.51300279973083,null,247.64706248602371,-247.64706248602371,{"$f":"IF(C71>0,L74,\"\")","v":41.70231304600712},{"$f":"AH73","v":89.367523637269187},{"$f":"-AI73","v":-928.11009516524632}]
[null,null,null,null,null,null,null,null,null,null,{"$f":"K74","v":60.468660685908411},{"$f":"L74","v":41.70231304600712},{"$f":"((D73-D74)^2+(E73-E74)^2)^0.5","v":13.23601606186668},{"$f":"((I73-I70)^2+(J73-J70)^2)^0.5","v":1.9494743752296906},{"$f":"O72+N75","v":91.316998012498871},{"$f":"((D73-D74)^2+(E73-E74)^2)^0.5*Panels!$T$114","v":570.47229226645391},null,null,285.23614613322695,-285.23614613322695,25.284984206537388,null,272.59365402995826,null,272.59365402995826,-272.59365402995826,null,261.0453528220163,-261.0453528220163,null,250.02889029806587,-250.02889029806587,{"$f":"IF(C71>0,L75,\"\")","v":41.70231304600712},null,null,{"$f":"AJ72+N75","v":91.316998012498871}]
[null,null,null,{"$f":"(AS77+D79)/2","v":52.02718135227699},{"$f":"(AT77+E79)/2","v":43.351336981143959},null,{"$f":"IF(Design!$H$17=\"x\",D76,0)","v":52.02718135227699},{"$f":"IF(Design!$H$17=\"x\",E76,0)","v":43.351336981143959},{"$f":"SUM(D76:D77)/2","v":57.12321218742791},{"$f":"SUM(E76:E77)/2","v":39.335685257154807},{"$f":"IF(Design!$H$16=\"x\",I76,0)","v":57.12321218742791},{"$f":"IF(Design!$H$16=\"x\",J76,0)","v":39.335685257154807},null,{"$f":"N75","v":1.9494743752296906},91.316998012498871,570.47229226645391,null,null,{"$f":"P76/2","v":285.23614613322695},{"$f":"-S76","v":-285.23614613322695},25.284984206537388,null,272.59365402995826,null,272.59365402995826,{"$f":"-Y76","v":-272.59365402995826},null,261.0453528220163,-261.0453528220163,null,250.02889029806587,-250.02889029806587,{"$f":"IF(C74>0,L76,\"\")","v":39.335685257154807},{"$f":"O75","v":91.316998012498871},{"$f":"$R$144/2","v":928.11009516524632},null,null,"Panel H",{"$f":"Panels!C56","v":73.21639900628665},{"$f":"Panels!D56","v":47.180086995938112},{"$f":"Panels!C57","v":54.826695124683766},{"$f":"Panels!D57","v":48.327363970606164},{"$f":"(AP76-AN76)/(AO76-AM76)","v":-6.2386919444406719E-2},{"$f":"(AP76*AM76-AN76*AO76)/(AM76-AO76)","v":51.747832582752849}]
[null,23,{"$f":"C74+1","v":20},{"$f":"D80","v":62.219243022578823},{"$f":"E80","v":35.320033533165663},null,{"$f":"IF(Design!$H$17=\"x\",D77,0)","v":62.219243022578823},{"$f":"IF(Design!$H$17=\"x\",E77,0)","v":35.320033533165663},null,null,{"$f":"K76","v":57.12321218742791},{"$f":"L76","v":39.335685257154807},null,{"$f":"N76","v":1.9494743752296906},91.316998012498871,570.47229226645391,{"$f":"ATAN((E76-E77)/(D76-D77))*180/PI()","v":-38.237967228367197},null,285.23614613322695,-285.23614613322695,25.284984206537388,null,272.59365402995826,null,272.59365402995826,-272.59365402995826,null,261.0453528220163,-261.0453528220163,null,250.02889029806587,-250.02889029806587,{"$f":"IF(C74>0,L77,\"\")","v":39.335685257154807},{"$f":"AH76","v":91.316998012498871},{"$f":"-AI76","v":-928.11009516524632},null,null,"Panel G",{"$f":"AM80","v":40.827031634244904},{"$f":"AN80","v":21.242249118506273},{"$f":"AO80","v":54.907640747589852},{"$f":"AP80","v":49.037361852150923},{"$f":"IF(AO77<>AM77,(AP77-AN77)/(AO77-AM77),\"\")","v":1.9739993142272327},{"$f":"IF(AQ77<>\"\",(AP77*AM77-AN77*AO77)/(AM77-AO77),AM77)","v":-59.350283329426702},{"$f":"IF(AQ77<>\"\",(AR76-AR77)/(AQ77-AQ76),AM77)","v":54.556505084925725},{"$f":"AS77*AQ76+AR76","v":48.344220294851226}]
[null,null,null,null,null,null,null,null,null,null,{"$f":"K77","v":57.12321218742791},{"$f":"L77","v":39.335685257154807},{"$f":"((D76-D77)^2+(E76-E77)^2)^0.5","v":12.976130246138247},{"$f":"((I76-I73)^2+(J76-J73)^2)^0.5","v":4.0979205393654743},{"$f":"O75+N78","v":95.414918551864346},{"$f":"((D76-D77)^2+(E76-E77)^2)^0.5*Panels!$T$114","v":559.27121360855847},null,null,279.63560680427923,-279.63560680427923,3.0757893906809386,null,278.09771210893877,null,278.09771210893877,-278.09771210893877,null,266.40875774026711,-266.40875774026711,null,255.11059812970322,-255.11059812970322,{"$f":"IF(C74>0,L78,\"\")","v":39.335685257154807},null,null,{"$f":"AJ75+N78","v":95.414918551864346}]
[null,null,null,{"$f":"AS80","v":49.497857619628256},{"$f":"AT80","v":38.358453667436692},null,{"$f":"IF(Design!$H$17=\"x\",D79,0)","v":49.497857619628256},{"$f":"IF(Design!$H$17=\"x\",E79,0)","v":38.358453667436692},{"$f":"SUM(D79:D80)/2","v":55.858550321103536},{"$f":"SUM(E79:E80)/2","v":36.839243600301174},{"$f":"IF(Design!$H$16=\"x\",I79,0)","v":55.858550321103536},{"$f":"IF(Design!$H$16=\"x\",J79,0)","v":36.839243600301174},null,{"$f":"N78","v":4.0979205393654743},95.414918551864346,559.27121360855847,null,null,279.63560680427923,-279.63560680427923,3.0757893906809386,null,278.09771210893877,null,278.09771210893877,-278.09771210893877,null,266.40875774026711,-266.40875774026711,null,255.11059812970322,-255.11059812970322,{"$f":"IF(C74>0,L79,\"\")","v":36.839243600301174},{"$f":"O75","v":91.316998012498871},{"$f":"$R$144/2","v":928.11009516524632},null,null,"Panel I",{"$f":"Panels!C62","v":62.219243022578823},{"$f":"Panels!D62","v":35.320033533165663},{"$f":"AM79-100*Panels!X8","v":-35.044955479960862},{"$f":"AN79+100*Panels!Y8","v":58.550954514877851},{"$f":"(AP79-AN79)/(AO79-AM79)","v":-0.23884349369419419},{"$f":"(AP79*AM79-AN79*AO79)/(AM79-AO79)","v":50.180694911686494}]
[null,22,{"$f":"C77+1","v":21},{"$f":"D74","v":62.219243022578823},{"$f":"E71","v":35.320033533165663},null,{"$f":"IF(Design!$H$17=\"x\",D80,0)","v":62.219243022578823},{"$f":"IF(Design!$H$17=\"x\",E80,0)","v":35.320033533165663},null,null,{"$f":"K79","v":55.858550321103536},{"$f":"L79","v":36.839243600301174},null,{"$f":"N79","v":4.0979205393654743},95.414918551864346,559.27121360855847,{"$f":"ATAN((E79-E80)/(D79-D80))*180/PI()","v":-13.433062801606983},null,279.63560680427923,-279.63560680427923,3.0757893906809386,null,278.09771210893877,null,278.09771210893877,-278.09771210893877,null,266.40875774026711,-266.40875774026711,null,255.11059812970322,-255.11059812970322,{"$f":"IF(C74>0,L80,\"\")","v":36.839243600301174},{"$f":"AH79","v":91.316998012498871},{"$f":"-AI79","v":-928.11009516524632},null,null,"Panel G",{"$f":"Panels!C48","v":40.827031634244904},{"$f":"Panels!D48","v":21.242249118506273},{"$f":"Panels!C49","v":54.907640747589852},{"$f":"Panels!D49","v":49.037361852150923},{"$f":"IF(AO80<>AM80,(AP80-AN80)/(AO80-AM80),\"\")","v":1.9739993142272327},{"$f":"IF(AQ80<>\"\",(AP80*AM80-AN80*AO80)/(AM80-AO80),AM80)","v":-59.350283329426702},{"$f":"IF(AQ80<>\"\",(AR79-AR80)/(AQ80-AQ79),AM80)","v":49.497857619628256},{"$f":"AS80*AQ79+AR79","v":38.358453667436692}]
[null,null,null,null,null,null,null,null,null,null,{"$f":"K80","v":55.858550321103536},{"$f":"L80","v":36.839243600301174},{"$f":"((D79-D80)^2+(E79-E80)^2)^0.5","v":13.079206531083884},{"$f":"((I79-I76)^2+(J79-J76)^2)^0.5","v":2.7984979153483689},{"$f":"O78+N81","v":98.21341646721271},{"$f":"((D79-D80)^2+(E79-E80)^2)^0.5*Panels!$T$114","v":563.71380148971537},null,null,281.85690074485768,-281.85690074485768,8.5958840884359233E-4,null,281.85647095065326,null,281.85647095065326,-281.85647095065326,null,270.10280359671498,-270.10280359671498,null,258.64015445029963,-258.64015445029963,{"$f":"IF(C74>0,L81,\"\")","v":36.839243600301174},null,null,{"$f":"AJ75+N81","v":94.115495927847235}]
[null,null,null,{"$f":"AS83","v":48.910378023090125},{"$f":"AT83","v":37.198769346747923},null,{"$f":"IF(Design!$H$17=\"x\",D82,0)","v":48.910378023090125},{"$f":"IF(Design!$H$17=\"x\",E82,0)","v":37.198769346747923},{"$f":"SUM(D82:D83)/2","v":55.564810522834478},{"$f":"SUM(E82:E83)/2","v":35.609401439956798},{"$f":"IF(Design!$H$16=\"x\",I82,0)","v":55.564810522834478},{"$f":"IF(Design!$H$16=\"x\",J82,0)","v":35.609401439956798},null,{"$f":"N81","v":2.7984979153483689},98.21341646721271,563.71380148971537,null,null,{"$f":"P82/2","v":281.85690074485768},{"$f":"-S82","v":-281.85690074485768},8.5958840884359233E-4,null,281.85647095065326,null,281.85647095065326,{"$f":"-Y82","v":-281.85647095065326},null,270.10280359671498,-270.10280359671498,null,258.64015445029963,-258.64015445029963,{"$f":"IF(C77>0,L82,\"\")","v":35.609401439956798},{"$f":"O78","v":95.414918551864346},{"$f":"$R$144/2","v":928.11009516524632},null,null,"Panel I",{"$f":"Panels!C61","v":62.219243022578823},{"$f":"Panels!D61","v":34.020033533165666},{"$f":"AM82-100*Panels!X8","v":-35.044955479960862},{"$f":"AN82+100*Panels!Y8","v":57.250954514877854},{"$f":"(AP82-AN82)/(AO82-AM82)","v":-0.23884349369419419},{"$f":"(AP82*AM82-AN82*AO82)/(AM82-AO82)","v":48.880694911686504}]
[null,21,{"$f":"C80+1","v":22},{"$f":"Panels!C61","v":62.219243022578823},{"$f":"Panels!D61","v":34.020033533165666},null,{"$f":"IF(Design!$H$17=\"x\",D83,0)","v":62.219243022578823},{"$f":"IF(Design!$H$17=\"x\",E83,0)","v":34.020033533165666},null,null,{"$f":"K82","v":55.564810522834478},{"$f":"L82","v":35.609401439956798},null,{"$f":"N82","v":2.7984979153483689},98.21341646721271,563.71380148971537,{"$f":"ATAN((E82-E83)/(D82-D83))*180/PI()","v":-13.43306280160701},null,281.85690074485768,-281.85690074485768,8.5958840884359233E-4,null,281.85647095065326,null,281.85647095065326,-281.85647095065326,null,270.10280359671498,-270.10280359671498,null,258.64015445029963,-258.64015445029963,{"$f":"IF(C77>0,L83,\"\")","v":35.609401439956798},{"$f":"AH82","v":95.414918551864346},{"$f":"-AI82","v":-928.11009516524632},null,null,"Panel G",{"$f":"AM80","v":40.827031634244904},{"$f":"AN80","v":21.242249118506273},{"$f":"AO80","v":54.907640747589852},{"$f":"AP80","v":49.037361852150923},{"$f":"IF(AO83<>AM83,(AP83-AN83)/(AO83-AM83),\"\")","v":1.9739993142272327},{"$f":"IF(AQ83<>\"\",(AP83*AM83-AN83*AO83)/(AM83-AO83),AM83)","v":-59.350283329426702},{"$f":"IF(AQ83<>\"\",(AR82-AR83)/(AQ83-AQ82),AM83)","v":48.910378023090125},{"$f":"AS83*AQ82+AR82","v":37.198769346747923}]
[null,null,null,null,null,null,null,null,null,null,{"$f":"K83","v":55.564810522834478},{"$f":"L83","v":35.609401439956798},{"$f":"((D82-D83)^2+(E82-E83)^2)^0.5","v":13.683210476608394},{"$f":"((I82-I79)^2+(J82-J79)^2)^0.5","v":1.2644345805330017},{"$f":"O81+N84","v":99.477851047745716},{"$f":"((D82-D83)^2+(E82-E83)^2)^0.5*Panels!$T$114","v":589.74637154182187},null,null,294.87318577091094,-294.87318577091094,22.636818456149854,null,283.55477654283601,null,283.55477654283601,-283.55477654283601,null,271.78021248476597,-271.78021248476597,null,260.25087657508288,-260.25087657508288,{"$f":"IF(C77>0,L84,\"\")","v":35.609401439956798},null,null,{"$f":"AJ78+N84","v":96.679353132397353}]
[null,null,null,{"$f":"(D82+Panels!C48)/2","v":44.868704828667518},{"$f":"(E82+Panels!D48)/2","v":29.220509232627098},null,{"$f":"IF(Design!$H$17=\"x\",D85,0)","v":44.868704828667518},{"$f":"IF(Design!$H$17=\"x\",E85,0)","v":29.220509232627098},{"$f":"SUM(D85:D86)/2","v":53.54397392562317},{"$f":"SUM(E85:E86)/2","v":31.620271382896384},{"$f":"IF(Design!$H$16=\"x\",I85,0)","v":53.54397392562317},{"$f":"IF(Design!$H$16=\"x\",J85,0)","v":31.620271382896384},null,{"$f":"N84","v":1.2644345805330017},99.477851047745716,589.74637154182187,null,null,{"$f":"P85/2","v":294.87318577091094},{"$f":"-S85","v":-294.87318577091094},22.636818456149854,null,283.55477654283601,null,283.55477654283601,{"$f":"-Y85","v":-283.55477654283601},null,271.78021248476597,-271.78021248476597,null,260.25087657508288,-260.25087657508288,{"$f":"IF(C83>0,L85,\"\")","v":31.620271382896384},{"$f":"O84","v":99.477851047745716},{"$f":"$R$144/2","v":928.11009516524632}]
[null,{"$f":"B89+1","v":20},{"$f":"C83+1","v":23},{"$f":"D83","v":62.219243022578823},{"$f":"E83","v":34.020033533165666},null,{"$f":"IF(Design!$H$17=\"x\",D86,0)","v":62.219243022578823},{"$f":"IF(Design!$H$17=\"x\",E86,0)","v":34.020033533165666},null,null,{"$f":"K85","v":53.54397392562317},{"$f":"L85","v":31.620271382896384},null,{"$f":"N85","v":1.2644345805330017},99.477851047745716,589.74637154182187,{"$f":"ATAN((E85-E86)/(D85-D86))*180/PI()","v":15.462565214668199},null,294.87318577091094,-294.87318577091094,22.636818456149854,null,283.55477654283601,null,{"$f":"((_S3_-_S2_)*(O86-_L2_)/(_L3_-_L2_)+_S2_)/2","v":283.55477654283601},-283.55477654283601,null,271.78021248476597,-271.78021248476597,null,260.25087657508288,-260.25087657508288,{"$f":"IF(C83>0,L86,\"\")","v":31.620271382896384},{"$f":"AH85","v":99.477851047745716},{"$f":"-AI85","v":-928.11009516524632},null,null,"S2 Section",{"$f":"AS17","v":39.856642339050744},{"$f":"AT17","v":40.165696953649679},{"$f":"AO15","v":38.111544966053522},{"$f":"AP15","v":40.917119044593377},{"$f":"(AP86-AN86)/(AO86-AM86)","v":-0.43059035132986523},{"$f":"(AP86*AM86-AN86*AO86)/(AM86-AO86)","v":57.32758258125039}]
[null,null,null,null,null,null,null,null,null,null,{"$f":"K86","v":53.54397392562317},{"$f":"L86","v":31.620271382896384},{"$f":"((D85-D86)^2+(E85-E86)^2)^0.5","v":18.002127905607026},{"$f":"((I85-I82)^2+(J85-J82)^2)^0.5","v":4.4717937301234505},{"$f":"O84+N87","v":103.94964477786917},{"$f":"((D85-D86)^2+(E85-E86)^2)^0.5*Panels!$T$114","v":775.89171273166278},null,null,387.94585636583139,-387.94585636583139,196.76971959431933,null,289.56099656867173,null,289.56099656867173,-289.56099656867173,null,277.75418352414482,-277.75418352414482,null,266.02824343928228,-266.02824343928228,{"$f":"IF(C83>0,L87,\"\")","v":31.620271382896384},null,null,{"$f":"AJ84+N87","v":101.1511468625208}]
[null,null,null,{"$f":"(Panels!C48+D91)/2","v":51.303552309048783},{"$f":"(Panels!D48+E91)/2","v":20.584841330322494},null,{"$f":"IF(Design!$H$17=\"x\",D88,0)","v":51.303552309048783},{"$f":"IF(Design!$H$17=\"x\",E88,0)","v":20.584841330322494},{"$f":"SUM(D88:D89)/2","v":56.761397665813803},{"$f":"SUM(E88:E89)/2","v":27.302437431744082},{"$f":"IF(Design!$H$16=\"x\",I88,0)","v":56.761397665813803},{"$f":"IF(Design!$H$16=\"x\",J88,0)","v":27.302437431744082},null,{"$f":"N87","v":4.4717937301234505},103.94964477786917,775.89171273166278,null,null,387.94585636583139,-387.94585636583139,196.76971959431933,null,289.56099656867173,null,289.56099656867173,-289.56099656867173,null,277.75418352414482,-277.75418352414482,null,266.02824343928228,-266.02824343928228,{"$f":"IF(C86>0,L88,\"\")","v":27.302437431744082},{"$f":"O87","v":103.94964477786917},{"$f":"$R$144/2","v":928.11009516524632}]
[null,19,{"$f":"C86+1","v":24},{"$f":"D86","v":62.219243022578823},{"$f":"E86","v":34.020033533165666},null,{"$f":"IF(Design!$H$17=\"x\",D89,0)","v":62.219243022578823},{"$f":"IF(Design!$H$17=\"x\",E89,0)","v":34.020033533165666},null,null,{"$f":"K88","v":56.761397665813803},{"$f":"L88","v":27.302437431744082},null,{"$f":"N88","v":4.4717937301234505},103.94964477786917,775.89171273166278,{"$f":"ATAN((E88-E89)/(D88-D89))*180/PI()","v":50.907176229000136},null,387.94585636583139,-387.94585636583139,{"$f":"(S89-W89)*2","v":196.76971959431933},null,{"$f":"IF($H$16=\"Par\",Y89,0)+IF($H$16=\"Con\",AB89,0)+IF($H$16=\"Exp\",AE89,0)","v":289.56099656867173},null,289.56099656867173,-289.56099656867173,null,277.75418352414482,{"$f":"-AB89","v":-277.75418352414482},null,266.02824343928228,-266.02824343928228,{"$f":"IF(C86>0,L89,\"\")","v":27.302437431744082},{"$f":"AH88","v":103.94964477786917},{"$f":"-AI88","v":-928.11009516524632}]
[null,null,null,null,null,null,null,null,null,null,{"$f":"K89","v":56.761397665813803},{"$f":"L89","v":27.302437431744082},{"$f":"((D88-D89)^2+(E88-E89)^2)^0.5","v":17.310594827468634},{"$f":"((I88-I85)^2+(J88-J85)^2)^0.5","v":5.3847474920989358},{"$f":"O87+N90","v":109.33439226996811},{"$f":"((D88-D89)^2+(E88-E89)^2)^0.5*Panels!$T$114","v":746.08663706389814},null,null,373.04331853194907,-373.04331853194907,152.49976465305542,null,296.79343620542136,null,296.79343620542136,-296.79343620542136,null,285.0339770337759,-285.0339770337759,null,273.15556540795899,-273.15556540795899,{"$f":"IF(C86>0,L90,\"\")","v":27.302437431744082},null,null,{"$f":"AJ87+N90","v":106.53589435461974}]
[null,null,null,{"$f":"AS55","v":61.780072983852655},{"$f":"AT55","v":19.927433542138715},null,{"$f":"IF(Design!$H$17=\"x\",D91,0)","v":61.780072983852655},{"$f":"IF(Design!$H$17=\"x\",E91,0)","v":19.927433542138715},{"$f":"SUM(D91:D92)/2","v":61.999658003215742},{"$f":"SUM(E91:E92)/2","v":26.973733537652191},{"$f":"IF(Design!$H$16=\"x\",I91,0)","v":61.999658003215742},{"$f":"IF(Design!$H$16=\"x\",J91,0)","v":26.973733537652191},null,{"$f":"N90","v":5.3847474920989358},109.33439226996811,746.08663706389814,null,null,373.04331853194907,-373.04331853194907,152.49976465305542,null,296.79343620542136,null,296.79343620542136,-296.79343620542136,null,285.0339770337759,-285.0339770337759,null,273.15556540795899,-273.15556540795899,{"$f":"IF(C89>0,L91,\"\")","v":26.973733537652191},{"$f":"O90","v":109.33439226996811},{"$f":"$R$144/2","v":928.11009516524632}]
[null,18,{"$f":"C89+1","v":25},{"$f":"D89","v":62.219243022578823},{"$f":"E89","v":34.020033533165666},null,{"$f":"IF(Design!$H$17=\"x\",D92,0)","v":62.219243022578823},{"$f":"IF(Design!$H$17=\"x\",E92,0)","v":34.020033533165666},null,null,{"$f":"K91","v":61.999658003215742},{"$f":"L91","v":26.973733537652191},null,{"$f":"N91","v":5.3847474920989358},109.33439226996811,746.08663706389814,{"$f":"ATAN((E91-E92)/(D91-D92))*180/PI()","v":88.215059749362283},null,373.04331853194907,-373.04331853194907,152.49976465305542,null,296.79343620542136,null,296.79343620542136,-296.79343620542136,null,285.0339770337759,-285.0339770337759,null,273.15556540795899,-273.15556540795899,{"$f":"IF(C89>0,L92,\"\")","v":26.973733537652191},{"$f":"AH91","v":109.33439226996811},{"$f":"-AI91","v":-928.11009516524632}]
[null,null,null,null,null,null,null,null,null,null,{"$f":"K92","v":61.999658003215742},{"$f":"L92","v":26.973733537652191},{"$f":"((D91-D92)^2+(E91-E92)^2)^0.5","v":14.099441294959442},{"$f":"((I91-I88)^2+(J91-J88)^2)^0.5","v":5.2485633855741378},{"$f":"O90+N93","v":114.58295565554225},{"$f":"((D91-D92)^2+(E91-E92)^2)^0.5*Panels!$T$114","v":607.68591981275199},null,null,303.842959906376,-303.842959906376,-4.7529105131616234E-6,null,303.84296228283125,null,303.84296228283125,-303.84296228283125,null,292.22028679015267,-292.22028679015267,null,280.28636053143589,-280.28636053143589,{"$f":"IF(C89>0,L93,\"\")","v":26.973733537652191},null,null,{"$f":"AJ90+N93","v":111.78445774019389}]
[null,null,null,{"$f":"Panels!C45+(E94-E95)*Panels!Y5","v":69.567539600096794},{"$f":"E92","v":34.020033533165666},null,{"$f":"IF(Design!$H$17=\"x\",D94,0)","v":69.567539600096794},{"$f":"IF(Design!$H$17=\"x\",E94,0)","v":34.020033533165666},{"$f":"SUM(D94:D95)/2","v":69.340935050523086},{"$f":"SUM(E94:E95)/2","v":26.744952671200366},{"$f":"IF(Design!$H$16=\"x\",I94,0)","v":69.340935050523086},{"$f":"IF(Design!$H$16=\"x\",J94,0)","v":26.744952671200366},null,{"$f":"N93","v":5.2485633855741378},114.58295565554225,607.68591981275199,null,null,303.842959906376,-303.842959906376,-4.7529105131616234E-6,null,303.84296228283125,null,303.84296228283125,-303.84296228283125,null,292.22028679015267,-292.22028679015267,null,280.28636053143589,-280.28636053143589,{"$f":"IF(C92>0,L94,\"\")","v":26.744952671200366},{"$f":"O93","v":114.58295565554225},{"$f":"$R$144/2","v":928.11009516524632}]
[null,17,{"$f":"C92+1","v":26},{"$f":"Panels!C45","v":69.114330500949364},{"$f":"Panels!D45","v":19.469871809235062},null,{"$f":"IF(Design!$H$17=\"x\",D95,0)","v":69.114330500949364},{"$f":"IF(Design!$H$17=\"x\",E95,0)","v":19.469871809235062},null,null,{"$f":"K94","v":69.340935050523086},{"$f":"L94","v":26.744952671200366},null,{"$f":"N94","v":5.2485633855741378},114.58295565554225,607.68591981275199,{"$f":"ATAN((E94-E95)/(D94-D95))*180/PI()","v":88.215925274806537},null,303.842959906376,-303.842959906376,-4.7529105131616234E-6,null,303.84296228283125,null,303.84296228283125,-303.84296228283125,null,{"$f":"PI()*($Q$11*(O95-_L2_)*2+$O$11)^2/2","v":292.22028679015267},-292.22028679015267,null,280.28636053143589,-280.28636053143589,{"$f":"IF(C92>0,L95,\"\")","v":26.744952671200366},{"$f":"AH94","v":114.58295565554225},{"$f":"-AI94","v":-928.11009516524632}]
[null,null,null,null,null,null,null,null,null,null,{"$f":"K95","v":69.340935050523086},{"$f":"L95","v":26.744952671200366},{"$f":"((D94-D95)^2+(E94-E95)^2)^0.5","v":14.557218301587882},{"$f":"((I94-I91)^2+(J94-J91)^2)^0.5","v":7.344841003736982},{"$f":"O93+N96","v":121.92779665927924},{"$f":"((D94-D95)^2+(E94-E95)^2)^0.5*Panels!$T$114","v":627.41610879843779},null,null,313.7080543992189,-313.7080543992189,-3.311873319944425E-5,null,313.70807095858549,null,313.70807095858549,-313.70807095858549,null,302.42701275170737,-302.42701275170737,null,{"$f":"($H$11*EXP($S$11*(O96-$I$11)))/2","v":290.57880102283627},-290.57880102283627,{"$f":"IF(C92>0,L96,\"\")","v":26.744952671200366},null,null,{"$f":"AJ93+N96","v":119.12929874393087}]
[null,null,null,{"$f":"(D94+Panels!C6)/2","v":77.013769800048394},{"$f":"E94","v":34.020033533165666},null,{"$f":"IF(Design!$H$17=\"x\",D97,0)","v":77.013769800048394},{"$f":"IF(Design!$H$17=\"x\",E97,0)","v":34.020033533165666},{"$f":"SUM(D97:D98)/2","v":73.064050150498872},{"$f":"SUM(E97:E98)/2","v":26.744952671200366},{"$f":"IF(Design!$H$16=\"x\",I97,0)","v":73.064050150498872},{"$f":"IF(Design!$H$16=\"x\",J97,0)","v":26.744952671200366},null,{"$f":"N96","v":7.344841003736982},121.92779665927924,627.41610879843779,null,null,313.7080543992189,-313.7080543992189,-3.311873319944425E-5,null,313.70807095858549,null,313.70807095858549,-313.70807095858549,null,302.42701275170737,-302.42701275170737,null,290.57880102283627,-290.57880102283627,{"$f":"IF(C95>0,L97,\"\")","v":26.744952671200366},{"$f":"O96","v":121.92779665927924},{"$f":"$R$144/2","v":928.11009516524632}]
[null,16,{"$f":"C95+1","v":27},{"$f":"D95","v":69.114330500949364},{"$f":"E95","v":19.469871809235062},null,{"$f":"IF(Design!$H$17=\"x\",D98,0)","v":69.114330500949364},{"$f":"IF(Design!$H$17=\"x\",E98,0)","v":19.469871809235062},null,null,{"$f":"K97","v":73.064050150498872},{"$f":"L97","v":26.744952671200366},null,{"$f":"N97","v":7.344841003736982},121.92779665927924,627.41610879843779,{"$f":"ATAN((E97-E98)/(D97-D98))*180/PI()","v":61.501988829826118},null,313.7080543992189,-313.7080543992189,-3.311873319944425E-5,null,313.70807095858549,null,313.70807095858549,-313.70807095858549,null,302.42701275170737,-302.42701275170737,null,290.57880102283627,-290.57880102283627,{"$f":"IF(C95>0,L98,\"\")","v":26.744952671200366},{"$f":"AH97","v":121.92779665927924},{"$f":"-AI97","v":-928.11009516524632}]
[null,null,null,null,null,null,null,null,null,null,{"$f":"K98","v":73.064050150498872},{"$f":"L98","v":26.744952671200366},{"$f":"((D97-D98)^2+(E97-E98)^2)^0.5","v":16.55621778766773},{"$f":"((I97-I94)^2+(J97-J94)^2)^0.5","v":3.7231150999757858},{"$f":"O96+N99","v":125.65091175925502},{"$f":"((D97-D98)^2+(E97-E98)^2)^0.5*Panels!$T$114","v":713.57298664847917},null,null,356.78649332423959,-356.78649332423959,76.155556737486222,null,318.70871495549648,null,318.70871495549648,-318.70871495549648,null,307.66773842148586,-307.66773842148586,null,295.93954990800785,-295.93954990800785,{"$f":"IF(C95>0,L99,\"\")","v":26.744952671200366},null,null,{"$f":"AJ96+N99","v":122.85241384390666}]
[null,null,null,{"$f":"Panels!C6","v":84.46},{"$f":"(E97+E103)/2","v":26.505958865446289},null,{"$f":"IF(Design!$H$17=\"x\",D100,0)","v":84.46},{"$f":"IF(Design!$H$17=\"x\",E100,0)","v":26.505958865446289},{"$f":"SUM(D100:D101)/2","v":76.787165250474686},{"$f":"SUM(E100:E101)/2","v":22.987915337340674},{"$f":"IF(Design!$H$16=\"x\",I100,0)","v":76.787165250474686},{"$f":"IF(Design!$H$16=\"x\",J100,0)","v":22.987915337340674},null,{"$f":"N99","v":3.7231150999757858},125.65091175925502,713.57298664847917,null,null,356.78649332423959,-356.78649332423959,76.155556737486222,null,318.70871495549648,null,318.70871495549648,-318.70871495549648,null,307.66773842148586,-307.66773842148586,null,295.93954990800785,-295.93954990800785,{"$f":"IF(C98>0,L100,\"\")","v":22.987915337340674},{"$f":"O99","v":125.65091175925502},{"$f":"$R$144/2","v":928.11009516524632}]
[null,15,{"$f":"C98+1","v":28},{"$f":"D98","v":69.114330500949364},{"$f":"E98","v":19.469871809235062},null,{"$f":"IF(Design!$H$17=\"x\",D101,0)","v":69.114330500949364},{"$f":"IF(Design!$H$17=\"x\",E101,0)","v":19.469871809235062},null,null,{"$f":"K100","v":76.787165250474686},{"$f":"L100","v":22.987915337340674},null,{"$f":"N100","v":3.7231150999757858},125.65091175925502,713.57298664847917,{"$f":"ATAN((E100-E101)/(D100-D101))*180/PI()","v":24.631756894331271},null,356.78649332423959,-356.78649332423959,76.155556737486222,null,318.70871495549648,null,318.70871495549648,-318.70871495549648,null,307.66773842148586,-307.66773842148586,null,295.93954990800785,-295.93954990800785,{"$f":"IF(C98>0,L101,\"\")","v":22.987915337340674},{"$f":"AH100","v":125.65091175925502},{"$f":"-AI100","v":-928.11009516524632}]
[null,null,null,null,null,null,null,null,null,null,{"$f":"K101","v":76.787165250474686},{"$f":"L101","v":22.987915337340674},{"$f":"((D100-D101)^2+(E100-E101)^2)^0.5","v":16.881827313317594},{"$f":"((I100-I97)^2+(J100-J97)^2)^0.5","v":5.2893208992916536},{"$f":"O99+N102","v":130.94023265854668},{"$f":"((D100-D101)^2+(E100-E101)^2)^0.5*Panels!$T$114","v":727.60675720398831},null,null,363.80337860199415,-363.80337860199415,75.980789500032415,null,325.81298385197795,null,325.81298385197795,-325.81298385197795,null,315.19049357290311,-315.19049357290311,null,303.72590179039048,-303.72590179039048,{"$f":"IF(C98>0,L102,\"\")","v":22.987915337340674},null,null,{"$f":"AJ99+N102","v":128.14173474319833}]
[null,null,null,{"$f":"D100","v":84.46},{"$f":"E101-(D103-D104)*Panels!Y5","v":18.991884197726908},null,{"$f":"IF(Design!$H$17=\"x\",D103,0)","v":84.46},{"$f":"IF(Design!$H$17=\"x\",E103,0)","v":18.991884197726908},{"$f":"SUM(D103:D104)/2","v":76.787165250474686},{"$f":"SUM(E103:E104)/2","v":19.230878003480985},{"$f":"IF(Design!$H$16=\"x\",I103,0)","v":76.787165250474686},{"$f":"IF(Design!$H$16=\"x\",J103,0)","v":19.230878003480985},null,{"$f":"N102","v":5.2893208992916536},130.94023265854668,727.60675720398831,null,null,363.80337860199415,-363.80337860199415,75.980789500032415,null,325.81298385197795,null,325.81298385197795,-325.81298385197795,null,315.19049357290311,-315.19049357290311,null,303.72590179039048,-303.72590179039048,{"$f":"IF(C101>0,L103,\"\")","v":19.230878003480985},{"$f":"O102","v":130.94023265854668},{"$f":"$R$144/2","v":928.11009516524632}]
[null,14,{"$f":"C101+1","v":29},{"$f":"D101","v":69.114330500949364},{"$f":"E101","v":19.469871809235062},null,{"$f":"IF(Design!$H$17=\"x\",D104,0)","v":69.114330500949364},{"$f":"IF(Design!$H$17=\"x\",E104,0)","v":19.469871809235062},null,null,{"$f":"K103","v":76.787165250474686},{"$f":"L103","v":19.230878003480985},null,{"$f":"N103","v":5.2893208992916536},130.94023265854668,727.60675720398831,{"$f":"ATAN((E103-E104)/(D103-D104))*180/PI()","v":-1.7840747251934879},null,363.80337860199415,-363.80337860199415,75.980789500032415,null,325.81298385197795,null,325.81298385197795,-325.81298385197795,null,315.19049357290311,-315.19049357290311,null,303.72590179039048,-303.72590179039048,{"$f":"IF(C101>0,L104,\"\")","v":19.230878003480985},{"$f":"AH103","v":130.94023265854668},{"$f":"-AI103","v":-928.11009516524632}]
[null,null,null,null,null,null,null,null,null,null,{"$f":"K104","v":76.787165250474686},{"$f":"L104","v":19.230878003480985},{"$f":"((D103-D104)^2+(E103-E104)^2)^0.5","v":15.353111884267895},{"$f":"((I103-I100)^2+(J103-J100)^2)^0.5","v":3.7570373338596887},{"$f":"O102+N105","v":134.69726999240638},{"$f":"((D103-D104)^2+(E103-E104)^2)^0.5*Panels!$T$114","v":661.71912221194623},null,null,330.85956110597311,-330.85956110597311,7.4227509537649894E-4,null,330.85918996842543,null,330.85918996842543,-330.85918996842543,null,320.5891442774892,-320.5891442774892,null,309.38072058690426,-309.38072058690426,{"$f":"IF(C101>0,L105,\"\")","v":19.230878003480985},null,null,{"$f":"AJ102+N105","v":131.89877207705803}]
[null,null,null,{"$f":"(D103+D109)/2","v":84.46},{"$f":"Panels!D44-(D103-D104)*Panels!Y5","v":17.694406719644014},null,{"$f":"IF(Design!$H$17=\"x\",D106,0)","v":84.46},{"$f":"IF(Design!$H$17=\"x\",E106,0)","v":17.694406719644014},{"$f":"SUM(D106:D107)/2","v":76.746692439021643},{"$f":"SUM(E106:E107)/2","v":17.933400525398092},{"$f":"IF(Design!$H$16=\"x\",I106,0)","v":76.746692439021643},{"$f":"IF(Design!$H$16=\"x\",J106,0)","v":17.933400525398092},null,{"$f":"N105","v":3.7570373338596887},134.69726999240638,661.71912221194623,null,null,330.85956110597311,-330.85956110597311,7.4227509537649894E-4,null,330.85918996842543,null,330.85918996842543,-330.85918996842543,null,320.5891442774892,-320.5891442774892,null,309.38072058690426,-309.38072058690426,{"$f":"IF(C104>0,L106,\"\")","v":17.933400525398092},{"$f":"O105","v":134.69726999240638},{"$f":"$R$144/2","v":928.11009516524632}]
[null,13,{"$f":"C104+1","v":30},{"$f":"Panels!C44","v":69.033384878043279},{"$f":"Panels!D44","v":18.172394331152169},null,{"$f":"IF(Design!$H$17=\"x\",D107,0)","v":69.033384878043279},{"$f":"IF(Design!$H$17=\"x\",E107,0)","v":18.172394331152169},null,null,{"$f":"K106","v":76.746692439021643},{"$f":"L106","v":17.933400525398092},null,{"$f":"N106","v":3.7570373338596887},134.69726999240638,661.71912221194623,{"$f":"ATAN((E106-E107)/(D106-D107))*180/PI()","v":-1.7747194360678751},null,330.85956110597311,-330.85956110597311,7.4227509537649894E-4,null,330.85918996842543,null,330.85918996842543,-330.85918996842543,null,320.5891442774892,-320.5891442774892,null,309.38072058690426,-309.38072058690426,{"$f":"IF(C104>0,L107,\"\")","v":17.933400525398092},{"$f":"AH106","v":134.69726999240638},{"$f":"-AI106","v":-928.11009516524632}]
[null,null,null,null,null,null,null,null,null,null,{"$f":"K107","v":76.746692439021643},{"$f":"L107","v":17.933400525398092},{"$f":"((D106-D107)^2+(E106-E107)^2)^0.5","v":15.434018474711594},{"$f":"((I106-I103)^2+(J106-J103)^2)^0.5","v":1.2981085681094851},{"$f":"O105+N108","v":135.99537856051586},{"$f":"((D106-D107)^2+(E106-E107)^2)^0.5*Panels!$T$114","v":665.20619626006976},null,null,332.60309813003488,-332.60309813003488,7.4775609482458094E-4,null,332.60272425198747,null,332.60272425198747,-332.60272425198747,null,322.46510908855061,-322.46510908855061,null,311.35891290985774,-311.35891290985774,{"$f":"IF(C104>0,L108,\"\")","v":17.933400525398092},null,null,{"$f":"AJ105+N108","v":133.19688064516751}]
[null,null,null,{"$f":"D103","v":84.46},{"$f":"(E106+Panels!D25)/2","v":9.7972033598220065},null,{"$f":"IF(Design!$H$17=\"x\",D109,0)","v":84.46},{"$f":"IF(Design!$H$17=\"x\",E109,0)","v":9.7972033598220065},{"$f":"SUM(D109:D110)/2","v":76.746692439021643},{"$f":"SUM(E109:E110)/2","v":13.984798845487088},{"$f":"IF(Design!$H$16=\"x\",I109,0)","v":76.746692439021643},{"$f":"IF(Design!$H$16=\"x\",J109,0)","v":13.984798845487088},null,{"$f":"N108","v":1.2981085681094851},135.99537856051586,665.20619626006976,null,null,332.60309813003488,-332.60309813003488,7.4775609482458094E-4,null,332.60272425198747,null,332.60272425198747,-332.60272425198747,null,322.46510908855061,-322.46510908855061,null,311.35891290985774,-311.35891290985774,{"$f":"IF(C107>0,L109,\"\")","v":13.984798845487088},{"$f":"O108","v":135.99537856051586},{"$f":"$R$144/2","v":928.11009516524632}]
[null,12,{"$f":"C107+1","v":31},{"$f":"Panels!C44","v":69.033384878043279},{"$f":"Panels!D44","v":18.172394331152169},null,{"$f":"IF(Design!$H$17=\"x\",D110,0)","v":69.033384878043279},{"$f":"IF(Design!$H$17=\"x\",E110,0)","v":18.172394331152169},null,null,{"$f":"K109","v":76.746692439021643},{"$f":"L109","v":13.984798845487088},null,{"$f":"N109","v":1.2981085681094851},135.99537856051586,665.20619626006976,{"$f":"ATAN((E109-E110)/(D109-D110))*180/PI()","v":-28.497769336170435},null,332.60309813003488,-332.60309813003488,7.4775609482458094E-4,null,332.60272425198747,null,332.60272425198747,-332.60272425198747,null,322.46510908855061,-322.46510908855061,null,311.35891290985774,-311.35891290985774,{"$f":"IF(C107>0,L110,\"\")","v":13.984798845487088},{"$f":"AH109","v":135.99537856051586},{"$f":"-AI109","v":-928.11009516524632}]
[null,null,null,null,null,null,null,null,null,null,{"$f":"K110","v":76.746692439021643},{"$f":"L110","v":13.984798845487088},{"$f":"((D109-D110)^2+(E109-E110)^2)^0.5","v":17.553469113745972},{"$f":"((I109-I106)^2+(J109-J106)^2)^0.5","v":3.948601679911004},{"$f":"O108+N111","v":139.94398024042687},{"$f":"((D109-D110)^2+(E109-E110)^2)^0.5*Panels!$T$114","v":756.55451880245141},null,null,378.27725940122571,-378.27725940122571,80.742064736404018,null,337.9062270330237,null,337.9062270330237,-337.9062270330237,null,328.20508252458649,-328.20508252458649,null,317.45429406227311,-317.45429406227311,{"$f":"IF(C107>0,L111,\"\")","v":13.984798845487088},null,null,{"$f":"AJ108+N111","v":137.14548232507852}]
[null,null,null,{"$f":"(D113+D109)/2","v":76.746692439021643},{"$f":"Panels!D25","v":1.9},null,{"$f":"IF(Design!$H$17=\"x\",D112,0)","v":76.746692439021643},{"$f":"IF(Design!$H$17=\"x\",E112,0)","v":1.9},{"$f":"SUM(D112:D113)/2","v":72.890038658532461},{"$f":"SUM(E112:E113)/2","v":10.036197165576084},{"$f":"IF(Design!$H$16=\"x\",I112,0)","v":72.890038658532461},{"$f":"IF(Design!$H$16=\"x\",J112,0)","v":10.036197165576084},null,{"$f":"N111","v":3.948601679911004},139.94398024042687,756.55451880245141,null,null,378.27725940122571,-378.27725940122571,80.742064736404018,null,337.9062270330237,null,337.9062270330237,-337.9062270330237,null,328.20508252458649,-328.20508252458649,null,317.45429406227311,-317.45429406227311,{"$f":"IF(C110>0,L112,\"\")","v":10.036197165576084},{"$f":"O111","v":139.94398024042687},{"$f":"$R$144/2","v":928.11009516524632}]
[null,11,{"$f":"C110+1","v":32},{"$f":"D110","v":69.033384878043279},{"$f":"E110","v":18.172394331152169},null,{"$f":"IF(Design!$H$17=\"x\",D113,0)","v":69.033384878043279},{"$f":"IF(Design!$H$17=\"x\",E113,0)","v":18.172394331152169},null,null,{"$f":"K112","v":72.890038658532461},{"$f":"L112","v":10.036197165576084},null,{"$f":"N112","v":3.948601679911004},139.94398024042687,756.55451880245141,{"$f":"ATAN((E112-E113)/(D112-D113))*180/PI()","v":-64.638494343134553},null,378.27725940122571,-378.27725940122571,80.742064736404018,null,337.9062270330237,null,337.9062270330237,-337.9062270330237,null,328.20508252458649,-328.20508252458649,null,317.45429406227311,-317.45429406227311,{"$f":"IF(C110>0,L113,\"\")","v":10.036197165576084},{"$f":"AH112","v":139.94398024042687},{"$f":"-AI112","v":-928.11009516524632}]
[null,null,null,null,null,null,null,null,null,null,{"$f":"K113","v":72.890038658532461},{"$f":"L113","v":10.036197165576084},{"$f":"((D112-D113)^2+(E112-E113)^2)^0.5","v":18.007940770636694},{"$f":"((I112-I109)^2+(J112-J109)^2)^0.5","v":5.5195320099767065},{"$f":"O111+N114","v":145.46351225040357},{"$f":"((D112-D113)^2+(E112-E113)^2)^0.5*Panels!$T$114","v":776.14224721444157},null,null,388.07112360722078,-388.07112360722078,85.502846427554232,null,345.31970039344367,null,345.31970039344367,-345.31970039344367,null,336.31353687318233,-336.31353687318233,null,326.17518986501142,-326.17518986501142,{"$f":"IF(C110>0,L114,\"\")","v":10.036197165576084},null,null,{"$f":"AJ111+N114","v":142.66501433505522}]
[null,null,null,{"$f":"D113","v":69.033384878043279},{"$f":"E113","v":18.172394331152169},null,{"$f":"IF(Design!$H$17=\"x\",D115,0)","v":69.033384878043279},{"$f":"IF(Design!$H$17=\"x\",E115,0)","v":18.172394331152169},{"$f":"SUM(D115:D116)/2","v":68.779958238679399},{"$f":"SUM(E115:E116)/2","v":10.036197165576084},{"$f":"IF(Design!$H$16=\"x\",I115,0)","v":68.779958238679399},{"$f":"IF(Design!$H$16=\"x\",J115,0)","v":10.036197165576084},null,{"$f":"N114","v":5.5195320099767065},145.46351225040357,776.14224721444157,null,null,388.07112360722078,{"$f":"-S115","v":-388.07112360722078},85.502846427554232,null,345.31970039344367,null,345.31970039344367,{"$f":"-Y115","v":-345.31970039344367},null,336.31353687318233,-336.31353687318233,null,326.17518986501142,-326.17518986501142,{"$f":"IF(C113>0,L115,\"\")","v":10.036197165576084},{"$f":"O114","v":145.46351225040357},{"$f":"$R$144/2","v":928.11009516524632}]
[null,10,{"$f":"C113+1","v":33},{"$f":"D113-(E115-E116)*Panels!Y5","v":68.526531599315533},{"$f":"E112","v":1.9},null,{"$f":"IF(Design!$H$17=\"x\",D116,0)","v":68.526531599315533},{"$f":"IF(Design!$H$17=\"x\",E116,0)","v":1.9},null,null,{"$f":"K115","v":68.779958238679399},{"$f":"L115","v":10.036197165576084},null,{"$f":"N115","v":5.5195320099767065},145.46351225040357,776.14224721444157,{"$f":"ATAN((E115-E116)/(D115-D116))*180/PI()","v":88.215925274806537},null,388.07112360722078,-388.07112360722078,85.502846427554232,null,345.31970039344367,null,345.31970039344367,-345.31970039344367,null,336.31353687318233,-336.31353687318233,null,326.17518986501142,-326.17518986501142,{"$f":"IF(C113>0,L116,\"\")","v":10.036197165576084},{"$f":"AH115","v":145.46351225040357},{"$f":"-AI115","v":-928.11009516524632}]
[null,null,null,null,null,null,null,null,null,null,{"$f":"K116","v":68.779958238679399},{"$f":"L116","v":10.036197165576084},{"$f":"((D115-D116)^2+(E115-E116)^2)^0.5","v":16.28028616194047},{"$f":"((I115-I112)^2+(J115-J112)^2)^0.5","v":4.1100804198530625},{"$f":"O114+N117","v":149.57359267025663},{"$f":"((D115-D116)^2+(E115-E116)^2)^0.5*Panels!$T$114","v":701.68033357963429},null,null,350.84016678981715,-350.84016678981715,1.5192701800970099E-4,null,350.84009082630814,null,350.84009082630814,-350.84009082630814,null,342.41571019631522,-342.41571019631522,null,332.8244024380009,-332.8244024380009,{"$f":"IF(C113>0,L117,\"\")","v":10.036197165576084},null,null,{"$f":"AJ114+N117","v":146.77509475490828}]
[null,null,null,{"$f":"Panels!C43","v":29.847538296631615},{"$f":"Panels!D43","v":20.617078585187581},null,{"$f":"IF(Design!$H$17=\"x\",D118,0)","v":29.847538296631615},{"$f":"IF(Design!$H$17=\"x\",E118,0)","v":20.617078585187581},{"$f":"SUM(D118:D119)/2","v":29.556038089100827},{"$f":"SUM(E118:E119)/2","v":11.25853929259379},{"$f":"IF(Design!$H$16=\"x\",I118,0)","v":29.556038089100827},{"$f":"IF(Design!$H$16=\"x\",J118,0)","v":11.25853929259379},null,{"$f":"N117","v":4.1100804198530625},149.57359267025663,701.68033357963429,null,null,350.84016678981715,-350.84016678981715,1.5192701800970099E-4,null,350.84009082630814,null,350.84009082630814,-350.84009082630814,null,342.41571019631522,-342.41571019631522,null,332.8244024380009,-332.8244024380009,{"$f":"IF(C116>0,L118,\"\")","v":11.25853929259379},{"$f":"O117","v":149.57359267025663},{"$f":"$R$144/2","v":928.11009516524632}]
["S3",9,{"$f":"C116+1","v":34},{"$f":"D118-(E118-E119)*Panels!Y5","v":29.264537881570039},{"$f":"E116","v":1.9},null,{"$f":"IF(Design!$H$17=\"x\",D119,0)","v":29.264537881570039},{"$f":"IF(Design!$H$17=\"x\",E119,0)","v":1.9},null,null,{"$f":"K118","v":29.556038089100827},{"$f":"L118","v":11.25853929259379},null,{"$f":"N118","v":4.1100804198530625},149.57359267025663,701.68033357963429,{"$f":"ATAN((E118-E119)/(D118-D119))*180/PI()","v":88.215925274806494},null,350.84016678981715,-350.84016678981715,1.5192701800970099E-4,null,350.84009082630814,null,350.84009082630814,-350.84009082630814,null,342.41571019631522,-342.41571019631522,null,332.8244024380009,-332.8244024380009,{"$f":"IF(C116>0,L119,\"\")","v":11.25853929259379},{"$f":"AH118","v":149.57359267025663},{"$f":"-AI118","v":-928.11009516524632}]
[null,null,null,null,null,null,null,null,null,null,{"$f":"K119","v":29.556038089100827},{"$f":"L119","v":11.25853929259379},{"$f":"((D118-D119)^2+(E118-E119)^2)^0.5","v":18.726156045703817},{"$f":"((I118-I115)^2+(J118-J115)^2)^0.5","v":39.242961562247032},{"$f":"O117+N120","v":188.81655423250368},{"$f":"((D118-D119)^2+(E118-E119)^2)^0.5*Panels!$T$114","v":807.09732556983454},null,null,403.54866278491727,-403.54866278491727,0,null,403.54866278491727,null,403.54866278491727,-403.54866278491727,null,403.44182203159551,-403.44182203159551,null,403.54866278491721,-403.54866278491721,{"$f":"IF(C116>0,L120,\"\")","v":11.25853929259379},null,null,{"$f":"AJ117+N120","v":186.0180563171553}]
[null,null,null,{"$f":"D118","v":29.847538296631615},{"$f":"E118","v":20.617078585187581},null,{"$f":"IF(Design!$H$17=\"x\",D121,0)","v":29.847538296631615},{"$f":"IF(Design!$H$17=\"x\",E121,0)","v":20.617078585187581},{"$f":"SUM(D121:D122)/2","v":22.714903618708316},{"$f":"SUM(E121:E122)/2","v":11.25853929259379},{"$f":"IF(Design!$H$16=\"x\",I121,0)","v":22.714903618708316},{"$f":"IF(Design!$H$16=\"x\",J121,0)","v":11.25853929259379},null,{"$f":"N120","v":39.242961562247032},188.81655423250368,807.09732556983454,null,null,403.54866278491727,-403.54866278491727,0,null,403.54866278491727,null,{"$f":"((_S5_-_S3_)*(O121-_L3_)/(_L5_-_L3_)+_S3_)/2","v":403.54866278491727},-403.54866278491727,null,{"$f":"Y121","v":403.54866278491727},-403.54866278491727,null,{"$f":"Y121","v":403.54866278491727},-403.54866278491727,{"$f":"IF(C119>0,L121,\"\")","v":11.25853929259379},{"$f":"O120","v":188.81655423250368},{"$f":"$R$144/2","v":928.11009516524632}]
[null,8,{"$f":"C119+1","v":35},{"$f":"(D119+Panels!C27)/2","v":15.582268940785019},{"$f":"E119","v":1.9},null,{"$f":"IF(Design!$H$17=\"x\",D122,0)","v":15.582268940785019},{"$f":"IF(Design!$H$17=\"x\",E122,0)","v":1.9},null,null,{"$f":"K121","v":22.714903618708316},{"$f":"L121","v":11.25853929259379},null,39.242961562247032,188.81655423250368,807.09732556983454,{"$f":"ATAN((E121-E122)/(D121-D122))*180/PI()","v":52.687069698378686},null,403.54866278491727,-403.54866278491727,0,null,403.54866278491727,null,403.54866278491727,-403.54866278491727,null,403.54866278491727,-403.54866278491727,null,403.54866278491727,-403.54866278491727,{"$f":"IF(C119>0,L122,\"\")","v":11.25853929259379},{"$f":"AH121","v":188.81655423250368},{"$f":"-AI121","v":-928.11009516524632}]
[null,null,null,null,null,null,null,null,null,null,{"$f":"K122","v":22.714903618708316},{"$f":"L122","v":11.25853929259379},{"$f":"((D121-D122)^2+(E121-E122)^2)^0.5","v":23.533528009181783},{"$f":"((I121-I118)^2+(J121-J118)^2)^0.5","v":6.841134470392511},{"$f":"O120+N123","v":195.65768870289619},{"$f":"((D121-D122)^2+(E121-E122)^2)^0.5*Panels!$T$114","v":1014.2950571957349},null,null,507.14752859786745,-507.14752859786745,85.634230802540628,null,464.33041319659714,null,464.33041319659714,-464.33041319659714,null,464.33041319659714,-464.33041319659714,null,464.33041319659714,-464.33041319659714,{"$f":"IF(C119>0,L123,\"\")","v":11.25853929259379},null,null,{"$f":"AJ120+N123","v":192.85919078754782}]
[null,null,null,{"$f":"D121","v":29.847538296631615},{"$f":"E121","v":20.617078585187581},null,{"$f":"IF(Design!$H$17=\"x\",D124,0)","v":29.847538296631615},{"$f":"IF(Design!$H$17=\"x\",E124,0)","v":20.617078585187581},{"$f":"SUM(D124:D125)/2","v":15.873769148315807},{"$f":"SUM(E124:E125)/2","v":15.937808938890687},{"$f":"IF(Design!$H$16=\"x\",I124,0)","v":15.873769148315807},{"$f":"IF(Design!$H$16=\"x\",J124,0)","v":15.937808938890687},null,{"$f":"N123","v":6.841134470392511},195.65768870289619,1014.2950571957349,null,null,507.14752859786745,-507.14752859786745,85.634230802540628,null,464.33041319659714,null,464.33041319659714,-464.33041319659714,null,464.33041319659714,-464.33041319659714,null,464.33041319659714,-464.33041319659714,{"$f":"IF(C122>0,L124,\"\")","v":15.937808938890687},{"$f":"O123","v":195.65768870289619},{"$f":"$R$144/2","v":928.11009516524632}]
[null,7,{"$f":"C122+1","v":36},{"$f":"Panels!C24","v":1.9},{"$f":"(E121+E122)/2","v":11.25853929259379},null,{"$f":"IF(Design!$H$17=\"x\",D125,0)","v":1.9},{"$f":"IF(Design!$H$17=\"x\",E125,0)","v":11.25853929259379},null,null,{"$f":"K124","v":15.873769148315807},{"$f":"L124","v":15.937808938890687},null,6.841134470392511,195.65768870289619,1014.2950571957349,{"$f":"ATAN((E124-E125)/(D124-D125))*180/PI()","v":18.513686204304474},null,507.14752859786745,-507.14752859786745,85.634230802540628,null,464.33041319659714,null,464.33041319659714,-464.33041319659714,null,464.33041319659714,-464.33041319659714,null,464.33041319659714,-464.33041319659714,{"$f":"IF(C122>0,L125,\"\")","v":15.937808938890687},{"$f":"AH124","v":195.65768870289619},{"$f":"-AI124","v":-928.11009516524632}]
[null,null,null,null,null,null,null,null,null,null,{"$f":"K125","v":15.873769148315807},{"$f":"L125","v":15.937808938890687},{"$f":"((D124-D125)^2+(E124-E125)^2)^0.5","v":29.472820607005239},{"$f":"((I124-I121)^2+(J124-J121)^2)^0.5","v":8.2883463528467534},{"$f":"O123+N126","v":203.94603505574295},{"$f":"((D124-D125)^2+(E124-E125)^2)^0.5*Panels!$T$114","v":1270.2785681619259},null,null,635.13928408096297,-635.13928408096297,194.33801747020198,null,537.97027534586198,null,537.97027534586198,-537.97027534586198,null,537.97027534586198,-537.97027534586198,null,537.97027534586198,-537.97027534586198,{"$f":"IF(C122>0,L126,\"\")","v":15.937808938890687},null,null,{"$f":"AJ123+N126","v":201.14753714039458}]
[null,null,null,{"$f":"D124","v":29.847538296631615},{"$f":"E124","v":20.617078585187581},null,{"$f":"IF(Design!$H$17=\"x\",D127,0)","v":29.847538296631615},{"$f":"IF(Design!$H$17=\"x\",E127,0)","v":20.617078585187581},{"$f":"SUM(D127:D128)/2","v":15.873769148315807},{"$f":"SUM(E127:E128)/2","v":23.438390854286062},{"$f":"IF(Design!$H$16=\"x\",I127,0)","v":15.873769148315807},{"$f":"IF(Design!$H$16=\"x\",J127,0)","v":23.438390854286062},null,{"$f":"N126","v":8.2883463528467534},203.94603505574295,1270.2785681619259,null,null,635.13928408096297,-635.13928408096297,194.33801747020198,null,537.97027534586198,null,537.97027534586198,-537.97027534586198,null,537.97027534586198,-537.97027534586198,null,537.97027534586198,-537.97027534586198,{"$f":"IF(C125>0,L127,\"\")","v":23.438390854286062},{"$f":"O126","v":203.94603505574295},{"$f":"$R$144/2","v":928.11009516524632}]
[null,6,{"$f":"C125+1","v":37},{"$f":"D125","v":1.9},{"$f":"E127+(D127-D128)*Panels!Y6","v":26.259703123384543},null,{"$f":"IF(Design!$H$17=\"x\",D128,0)","v":1.9},{"$f":"IF(Design!$H$17=\"x\",E128,0)","v":26.259703123384543},null,null,{"$f":"K127","v":15.873769148315807},{"$f":"L127","v":23.438390854286062},null,8.2883463528467534,203.94603505574295,1270.2785681619259,{"$f":"ATAN((E127-E128)/(D127-D128))*180/PI()","v":-11.414601719415719},null,635.13928408096297,-635.13928408096297,194.33801747020198,null,537.97027534586198,null,537.97027534586198,-537.97027534586198,null,537.97027534586198,-537.97027534586198,null,537.97027534586198,-537.97027534586198,{"$f":"IF(C125>0,L128,\"\")","v":23.438390854286062},{"$f":"AH127","v":203.94603505574295},{"$f":"-AI127","v":-928.11009516524632}]
[null,null,null,null,null,null,null,null,null,null,{"$f":"K128","v":15.873769148315807},{"$f":"L128","v":23.438390854286062},{"$f":"((D127-D128)^2+(E127-E128)^2)^0.5","v":28.511473278677713},{"$f":"((I127-I124)^2+(J127-J124)^2)^0.5","v":7.5005819153953759},{"$f":"O126+N129","v":211.44661697113833},{"$f":"((D127-D128)^2+(E127-E128)^2)^0.5*Panels!$T$114","v":1228.8444983110094},null,null,614.42224915550469,-614.42224915550469,19.622399099230051,null,604.61104960588966,null,604.61104960588966,-604.61104960588966,null,604.61104960588966,-604.61104960588966,null,604.61104960588966,-604.61104960588966,{"$f":"IF(C125>0,L129,\"\")","v":23.438390854286062},null,null,{"$f":"AJ126+N129","v":208.64811905578995}]
[null,null,null,{"$f":"Panels!C42","v":29.928483919537705},{"$f":"Panels!D42","v":21.914556063270474},null,{"$f":"IF(Design!$H$17=\"x\",D130,0)","v":29.928483919537705},{"$f":"IF(Design!$H$17=\"x\",E130,0)","v":21.914556063270474},{"$f":"SUM(D130:D131)/2","v":15.914241959768852},{"$f":"SUM(E130:E131)/2","v":24.744039816977399},{"$f":"IF(Design!$H$16=\"x\",I130,0)","v":15.914241959768852},{"$f":"IF(Design!$H$16=\"x\",J130,0)","v":24.744039816977399},null,{"$f":"N129","v":7.5005819153953759},211.44661697113833,1228.8444983110094,null,null,614.42224915550469,-614.42224915550469,19.622399099230051,null,604.61104960588966,null,604.61104960588966,-604.61104960588966,null,604.61104960588966,-604.61104960588966,null,604.61104960588966,-604.61104960588966,{"$f":"IF(C128>0,L130,\"\")","v":24.744039816977399},{"$f":"O129","v":211.44661697113833},{"$f":"$R$144/2","v":928.11009516524632}]
[null,5,{"$f":"C128+1","v":38},{"$f":"D128","v":1.9},{"$f":"E130+(D130-D131)*Panels!Y6","v":27.573523570684319},null,{"$f":"IF(Design!$H$17=\"x\",D131,0)","v":1.9},{"$f":"IF(Design!$H$17=\"x\",E131,0)","v":27.573523570684319},null,null,{"$f":"K130","v":15.914241959768852},{"$f":"L130","v":24.744039816977399},null,7.5005819153953759,211.44661697113833,1228.8444983110094,{"$f":"ATAN((E130-E131)/(D130-D131))*180/PI()","v":-11.414601719415717},null,614.42224915550469,-614.42224915550469,19.622399099230051,null,604.61104960588966,null,604.61104960588966,-604.61104960588966,null,604.61104960588966,-604.61104960588966,null,604.61104960588966,-604.61104960588966,{"$f":"IF(C128>0,L131,\"\")","v":24.744039816977399},{"$f":"AH130","v":211.44661697113833},{"$f":"-AI130","v":-928.11009516524632}]
[null,null,null,null,null,null,null,null,null,null,{"$f":"K131","v":15.914241959768852},{"$f":"L131","v":24.744039816977399},{"$f":"((D130-D131)^2+(E130-E131)^2)^0.5","v":28.594052250035311},{"$f":"((I130-I127)^2+(J130-J127)^2)^0.5","v":1.3062761049042717},{"$f":"O129+N132","v":212.7528930760426},{"$f":"((D130-D131)^2+(E130-E131)^2)^0.5*Panels!$T$114","v":1232.403651976522},null,null,616.20182598826102,-616.20182598826102,-3.0313197154328009E-2,null,616.21698258683818,null,616.21698258683818,-616.21698258683818,null,616.21698258683818,-616.21698258683818,null,616.21698258683818,-616.21698258683818,{"$f":"IF(C128>0,L132,\"\")","v":24.744039816977399},null,null,{"$f":"AJ129+N132","v":209.95439516069422}]
[null,null,null,{"$f":"Panels!C37","v":30.201838745593395},{"$f":"Panels!D37","v":22.547673013043749},null,{"$f":"IF(Design!$H$17=\"x\",D133,0)","v":30.201838745593395},{"$f":"IF(Design!$H$17=\"x\",E133,0)","v":22.547673013043749},{"$f":"SUM(D133:D134)/2","v":16.050919372796699},{"$f":"SUM(E133:E134)/2","v":25.404752017408622},{"$f":"IF(Design!$H$16=\"x\",I133,0)","v":16.050919372796699},{"$f":"IF(Design!$H$16=\"x\",J133,0)","v":25.404752017408622},null,{"$f":"N132","v":1.3062761049042717},212.7528930760426,1232.403651976522,null,null,{"$f":"P133/2","v":616.20182598826102},-616.20182598826102,-3.0313197154328009E-2,null,616.21698258683818,null,616.21698258683818,-616.21698258683818,null,{"$f":"Y133","v":616.21698258683818},{"$f":"-AB133","v":-616.21698258683818},null,616.21698258683818,-616.21698258683818,{"$f":"IF(C131>0,L133,\"\")","v":25.404752017408622},{"$f":"O132","v":212.7528930760426},{"$f":"$R$144/2","v":928.11009516524632}]
[null,4,{"$f":"C131+1","v":39},{"$f":"(D131+D143)/2","v":1.9},{"$f":"E133+(D133-D134)*Panels!Y6","v":28.261831021773496},null,{"$f":"IF(Design!$H$17=\"x\",D134,0)","v":1.9},{"$f":"IF(Design!$H$17=\"x\",E134,0)","v":28.261831021773496},null,null,{"$f":"K133","v":16.050919372796699},{"$f":"L133","v":25.404752017408622},null,1.3062761049042717,212.7528930760426,1232.403651976522,{"$f":"ATAN((E133-E134)/(D133-D134))*180/PI()","v":-11.414601719415721},null,616.20182598826102,-616.20182598826102,-3.0313197154328009E-2,null,616.21698258683818,null,616.21698258683818,-616.21698258683818,null,616.21698258683818,-616.21698258683818,null,616.21698258683818,-616.21698258683818,{"$f":"IF(C131>0,L134,\"\")","v":25.404752017408622},{"$f":"AH133","v":212.7528930760426},{"$f":"-AI133","v":-928.11009516524632}]
[null,null,null,null,null,null,null,null,null,null,{"$f":"K134","v":16.050919372796699},{"$f":"L134","v":25.404752017408622},{"$f":"((D133-D134)^2+(E133-E134)^2)^0.5","v":28.872922923221715},{"$f":"((I133-I130)^2+(J133-J130)^2)^0.5","v":0.67470091672581445},{"$f":"O132+N135","v":213.42759399276841},{"$f":"((D133-D134)^2+(E133-E134)^2)^0.5*Panels!$T$114","v":1244.422977990856},null,null,622.211488995428,-622.211488995428,-8.1360238937122631E-5,null,622.21152967554747,null,622.21152967554747,-622.21152967554747,null,622.21152967554747,-622.21152967554747,null,{"$f":"Y135","v":622.21152967554747},{"$f":"-AE135","v":-622.21152967554747},{"$f":"IF(C131>0,L135,\"\")","v":25.404752017408622},null,null,{"$f":"AJ132+N135","v":210.62909607742003}]
[null,null,null,{"$f":"Path!AS16","v":38.111544966053529},{"$f":"Path!AT16","v":40.917119044593392},null,{"$f":"IF(Design!$H$17=\"x\",D136,0)","v":38.111544966053529},{"$f":"IF(Design!$H$17=\"x\",E136,0)","v":40.917119044593392},{"$f":"SUM(D136:D137)/2","v":20.005772483026764},{"$f":"SUM(E136:E137)/2","v":44.572685234766624},{"$f":"IF(Design!$H$16=\"x\",I136,0)","v":20.005772483026764},{"$f":"IF(Design!$H$16=\"x\",J136,0)","v":44.572685234766624},null,{"$f":"N135","v":0.67470091672581445},213.42759399276841,1244.422977990856,null,null,{"$f":"P136/2","v":622.211488995428},{"$f":"-S136","v":-622.211488995428},-8.1360238937122631E-5,null,622.21152967554747,null,622.21152967554747,{"$f":"-Y136","v":-622.21152967554747},null,622.21152967554747,-622.21152967554747,null,622.21152967554747,-622.21152967554747,{"$f":"IF(C134>0,L136,\"\")","v":44.572685234766624},{"$f":"O135","v":213.42759399276841},{"$f":"$R$144/2","v":928.11009516524632}]
["S4",{"$f":"B140+1","v":3},{"$f":"C134+1","v":40},{"$f":"(D128+D134)/2","v":1.9},{"$f":"E136+(D136-D137)*Panels!Y6","v":48.228251424939856},null,{"$f":"IF(Design!$H$17=\"x\",D137,0)","v":1.9},{"$f":"IF(Design!$H$17=\"x\",E137,0)","v":48.228251424939856},null,null,{"$f":"K136","v":20.005772483026764},{"$f":"L136","v":44.572685234766624},null,{"$f":"N136","v":0.67470091672581445},213.42759399276841,1244.422977990856,{"$f":"ATAN((E136-E137)/(D136-D137))*180/PI()","v":-11.414601719415717},null,622.211488995428,-622.211488995428,-8.1360238937122631E-5,null,622.21152967554747,null,622.21152967554747,-622.21152967554747,null,622.21152967554747,-622.21152967554747,null,622.21152967554747,-622.21152967554747,{"$f":"IF(C134>0,L137,\"\")","v":44.572685234766624},{"$f":"AH136","v":213.42759399276841},{"$f":"-AI136","v":-928.11009516524632}]
[null,null,null,null,null,null,null,null,null,null,{"$f":"K137","v":20.005772483026764},{"$f":"L137","v":44.572685234766624},{"$f":"((D136-D137)^2+(E136-E137)^2)^0.5","v":36.942233899853264},{"$f":"((I136-I133)^2+(J136-J133)^2)^0.5","v":19.571676651441816},{"$f":"O135+N138","v":232.99927064421021},{"$f":"((D136-D137)^2+(E136-E137)^2)^0.5*Panels!$T$114","v":1592.2102810836757},null,null,796.10514054183784,-796.10514054183784,8.4226125034092547E-3,null,796.10092923558614,null,796.10092923558614,-796.10092923558614,null,796.10092923558614,-796.10092923558614,null,796.10092923558614,-796.10092923558614,{"$f":"IF(C134>0,L138,\"\")","v":44.572685234766624},null,null,{"$f":"AJ135+N138","v":230.20077272886184}]
[null,null,null,{"$f":"Panels!C15","v":1.9},{"$f":"Panels!D15","v":60.96},null,{"$f":"IF(Design!$H$17=\"x\",D139,0)","v":1.9},{"$f":"IF(Design!$H$17=\"x\",E139,0)","v":60.96},{"$f":"SUM(D139:D140)/2","v":22.49298302854686},{"$f":"SUM(E139:E140)/2","v":56.714839779943823},{"$f":"IF(Design!$H$16=\"x\",I139,0)","v":22.49298302854686},{"$f":"IF(Design!$H$16=\"x\",J139,0)","v":56.714839779943823},null,{"$f":"N138","v":19.571676651441816},232.99927064421021,1592.2102810836757,null,null,796.10514054183784,-796.10514054183784,8.4226125034092547E-3,null,796.10092923558614,null,796.10092923558614,-796.10092923558614,null,796.10092923558614,-796.10092923558614,null,796.10092923558614,-796.10092923558614,{"$f":"IF(C137>0,L139,\"\")","v":56.714839779943823},{"$f":"O138","v":232.99927064421021},{"$f":"$R$144/2","v":928.11009516524632},null,null,"Panel B",{"$f":"Panels!C37","v":30.201838745593395},{"$f":"Panels!D37","v":22.547673013043749},{"$f":"Panels!C36","v":47.065371220441399},{"$f":"Panels!D36","v":61.711422090943714},{"$f":"(AP139-AN139)/(AO139-AM139)","v":2.3223929586705978},{"$f":"(AP139*AM139-AN139*AO139)/(AM139-AO139)","v":-47.592864628627197}]
[null,{"$f":"B143+1","v":2},{"$f":"C137+1","v":41},{"$f":"AS140","v":43.085966057093721},{"$f":"AT140","v":52.469679559887645},null,{"$f":"IF(Design!$H$17=\"x\",D140,0)","v":43.085966057093721},{"$f":"IF(Design!$H$17=\"x\",E140,0)","v":52.469679559887645},null,null,{"$f":"K139","v":22.49298302854686},{"$f":"L139","v":56.714839779943823},null,{"$f":"N139","v":19.571676651441816},232.99927064421021,1592.2102810836757,{"$f":"ATAN((E139-E140)/(D139-D140))*180/PI()","v":-11.648122550969262},null,796.10514054183784,-796.10514054183784,8.4226125034092547E-3,null,796.10092923558614,null,796.10092923558614,-796.10092923558614,null,796.10092923558614,-796.10092923558614,null,796.10092923558614,-796.10092923558614,{"$f":"IF(C137>0,L140,\"\")","v":56.714839779943823},{"$f":"AH139","v":232.99927064421021},{"$f":"-AI139","v":-928.11009516524632},null,null,"Panel A",{"$f":"Panels!C15","v":1.9},{"$f":"Panels!D15","v":60.96},{"$f":"AM140+100*Panels!X6","v":99.840601937538693},{"$f":"AN140-100*Panels!Y6","v":40.769940760052414},{"$f":"(AP140-AN140)/(AO140-AM140)","v":-0.2061459582699291},{"$f":"(AP140*AM140-AN140*AO140)/(AM140-AO140)","v":61.351677320712867},{"$f":"(AR139-AR140)/(AQ140-AQ139)","v":43.085966057093721},{"$f":"AS140*AQ140+AR140","v":52.469679559887645}]
[null,null,null,null,null,null,null,null,null,null,{"$f":"K140","v":22.49298302854686},{"$f":"L140","v":56.714839779943823},{"$f":"((D139-D140)^2+(E139-E140)^2)^0.5","v":42.051983796628022},{"$f":"((I139-I136)^2+(J139-J136)^2)^0.5","v":12.394278248317395},{"$f":"O138+N141","v":245.3935488925276},{"$f":"((D139-D140)^2+(E139-E140)^2)^0.5*Panels!$T$114","v":1812.4405016346677},null,null,906.22025081733386,-906.22025081733386,-1.4150556544336723E-3,null,906.22095834516108,null,906.22095834516108,-906.22095834516108,null,906.22095834516108,-906.22095834516108,null,906.22095834516108,-906.22095834516108,{"$f":"IF(C137>0,L141,\"\")","v":56.714839779943823},null,null,{"$f":"AJ138+N141","v":242.59505097717923}]
[null,null,null,{"$f":"(Panels!C36+D140)/2","v":45.07566863876756},{"$f":"(Panels!D36+E140)/2","v":57.090550825415676},null,{"$f":"IF(Design!$H$17=\"x\",D142,0)","v":45.07566863876756},{"$f":"IF(Design!$H$17=\"x\",E142,0)","v":57.090550825415676},{"$f":"SUM(D142:D143)/2","v":23.487834319383779},{"$f":"SUM(E142:E143)/2","v":61.54079561815751},{"$f":"IF(Design!$H$16=\"x\",I142,0)","v":23.487834319383779},{"$f":"IF(Design!$H$16=\"x\",J142,0)","v":61.54079561815751},null,{"$f":"N141","v":12.394278248317395},245.3935488925276,1812.4405016346677,null,null,{"$f":"P142/2","v":906.22025081733386},{"$f":"-S142","v":-906.22025081733386},-1.4150556544336723E-3,null,906.22095834516108,null,906.22095834516108,{"$f":"-Y142","v":-906.22095834516108},null,906.22095834516108,-906.22095834516108,null,906.22095834516108,-906.22095834516108,{"$f":"IF(C140>0,L142,\"\")","v":61.54079561815751},{"$f":"O141","v":245.3935488925276},{"$f":"$R$144/2","v":928.11009516524632},null,null,"Panel A",{"$f":"D142","v":45.07566863876756},{"$f":"E142","v":57.090550825415676},{"$f":"AM142-100*Panels!X6","v":-52.864933298771128},{"$f":"AN142+100*Panels!Y6","v":77.280610065363263},{"$f":"(AP142-AN142)/(AO142-AM142)","v":-0.2061459582699291},{"$f":"(AP142*AM142-AN142*AO142)/(AM142-AO142)","v":66.382717731612203}]
["S5",1,{"$f":"C140+1","v":42},{"$f":"D131","v":1.9},{"$f":"AT143","v":65.991040410899345},null,{"$f":"IF(Design!$H$17=\"x\",D143,0)","v":1.9},{"$f":"IF(Design!$H$17=\"x\",E143,0)","v":65.991040410899345},null,null,{"$f":"K142","v":23.487834319383779},{"$f":"L142","v":61.54079561815751},null,{"$f":"N142","v":12.394278248317395},245.3935488925276,1812.4405016346677,{"$f":"ATAN((E142-E143)/(D142-D143))*180/PI()","v":-11.648122550969273},null,906.22025081733386,-906.22025081733386,-1.4150556544336723E-3,null,906.22095834516108,null,906.22095834516108,-906.22095834516108,null,906.22095834516108,-906.22095834516108,null,906.22095834516108,-906.22095834516108,{"$f":"IF(C140>0,L143,\"\")","v":61.54079561815751},{"$f":"AH142","v":245.3935488925276},{"$f":"-AI142","v":-928.11009516524632},null,null,"Panel A",{"$f":"Panels!C14","v":1.9},{"$f":"Panels!D14","v":0},{"$f":"Panels!C15","v":1.9},{"$f":"Panels!D15","v":60.96},{"$f":"IF(AO143<>AM143,(AP143-AN143)/(AO143-AM143),\"\")","v":""},{"$f":"IF(AQ143<>\"\",(AP143*AM143-AN143*AO143)/(AM143-AO143),AM143)","v":1.9},{"$f":"IF(AQ143<>\"\",(AR142-AR143)/(AQ143-AQ142),AM143)","v":1.9},{"$f":"AS143*AQ142+AR142","v":65.991040410899345}]
[null,null,null,null,null,null,null,null,null,null,{"$f":"K143","v":23.487834319383779},{"$f":"L143","v":61.54079561815751},{"$f":"((D142-D143)^2+(E142-E143)^2)^0.5","v":44.083523875320587},{"$f":"((I142-I139)^2+(J142-J139)^2)^0.5","v":4.9274312621556335},{"$f":"O141+N144","v":250.32098015468324},{"$f":"((D142-D143)^2+(E142-E143)^2)^0.5*Panels!$T$114","v":1899.9998790263173},{"$f":"($O$141+O144)/2","v":247.85726452360541},{"$f":"($P$141+P144)/2","v":1856.2201903304926},949.99993951315867,-949.99993951315867,0,null,949.99993951315867,null,949.99993951315867,-949.99993951315867,null,949.99993951315867,-949.99993951315867,null,949.99993951315867,-949.99993951315867,{"$f":"IF(C140>0,L144,\"\")","v":61.54079561815751},null,null,{"$f":"AJ141+N144","v":247.52248223933486}]

{"sheet":"Guides","index":3,"n_rows":30,"n_cols":30,"rows_kept":30,"cut":false,"hidden":false,"merged":[]}
["Guides",null,"x","y",null,"x","y"]
[null,null,{"$f":"AB6","v":59.490186664578914},{"$f":"AC6","v":60.960000000000015},null,{"$f":"IF(Design!$H$20=\"x\",C2,0)","v":59.490186664578914},{"$f":"IF(Design!$H$20=\"x\",D2,0)","v":60.960000000000015},null,null,null,null,null,null,null,null,null,null,null,null,null,"Intersection points"]
[null,1,{"$f":"AB7","v":28.608716969710155},{"$f":"AC7","v":0},null,{"$f":"IF(Design!$H$20=\"x\",C3,0)","v":28.608716969710155},{"$f":"IF(Design!$H$20=\"x\",D3,0)","v":0}]
[null,null,null,null,null,null,null,null,null,null,null,null,null,null,null,null,null,null,null,null,null,"x1","y1","x2","y2","a","b","x","y","l"]
[null,null,{"$f":"Panels!C39","v":48.810468593438614},{"$f":"Panels!D39","v":60.96},null,{"$f":"IF(Design!$H$20=\"x\",C5,0)","v":48.810468593438614},{"$f":"IF(Design!$H$20=\"x\",D5,0)","v":60.96},null,null,null,null,null,null,null,null,null,null,null,null,null,"Front",{"$f":"Panels!C19","v":0},{"$f":"Panels!D19","v":60.96},{"$f":"Panels!C18","v":86.36},{"$f":"Panels!D18","v":60.96},{"$f":"(Y5-W5)/(X5-V5)","v":0},{"$f":"(Y5*V5-W5*X5)/(V5-X5)","v":60.960000000000008}]
[null,2,{"$f":"(D6-Panels!D38)*(Panels!C39-Panels!C38)/(Panels!D39-Panels!D38)+Panels!C38","v":22.56168077636945},{"$f":"Panels!D20","v":0},null,{"$f":"IF(Design!$H$20=\"x\",C6,0)","v":22.56168077636945},{"$f":"IF(Design!$H$20=\"x\",D6,0)","v":0},null,null,null,null,null,null,null,null,null,null,null,null,null,"Panel G1",{"$f":"Panels!C51","v":39.667347313556128},{"$f":"Panels!D51","v":21.829728715044407},{"$f":"Panels!C50","v":53.747956426901077},{"$f":"Panels!D50","v":49.624841448689061},{"$f":"(Y6-W6)/(X6-V6)","v":1.973999314227233},{"$f":"(Y6*V6-W6*X6)/(V6-X6)","v":-56.473587679128848},{"$f":"(AA5-AA6)/(Z6-Z5)","v":59.490186664578914},{"$f":"AB6*Z6+AA6","v":60.960000000000015},{"$f":"(AB6^2+AC6^2)^0.5","v":85.177484756163381}]
[null,null,null,null,null,null,null,null,null,null,null,null,null,null,null,null,null,null,null,null,"Back",{"$f":"Panels!C20","v":0},{"$f":"Panels!D20","v":0},{"$f":"Panels!C21","v":86.36},{"$f":"Panels!D21","v":0},{"$f":"(Y7-W7)/(X7-V7)","v":0},{"$f":"(Y7*V7-W7*X7)/(V7-X7)","v":0},{"$f":"(AA6-AA7)/(Z7-Z6)","v":28.608716969710155},{"$f":"AB7*Z7+AA7","v":0},{"$f":"(AB7^2+AC7^2)^0.5","v":28.608716969710155}]
[null,null,{"$f":"AB14","v":75.203512267863985},{"$f":"AC14","v":60.960000000000036},null,{"$f":"IF(Design!$H$20=\"x\",C8,0)","v":75.203512267863985},{"$f":"IF(Design!$H$20=\"x\",D8,0)","v":60.960000000000036}]
[null,3,{"$f":"AB15","v":66.412859932827686},{"$f":"AC15","v":0},null,{"$f":"IF(Design!$H$20=\"x\",C9,0)","v":66.412859932827686},{"$f":"IF(Design!$H$20=\"x\",D9,0)","v":0},null,null,null,null,null,null,null,null,null,null,null,null,null,"Front",{"$f":"V5","v":0},{"$f":"W5","v":60.96},{"$f":"X5","v":86.36},{"$f":"Y5","v":60.96},{"$f":"(Y9-W9)/(X9-V9)","v":0},{"$f":"(Y9*V9-W9*X9)/(V9-X9)","v":60.960000000000008}]
[null,null,null,null,null,null,null,null,null,null,null,null,null,null,null,null,null,null,null,null,"Panel G1",{"$f":"V6","v":39.667347313556128},{"$f":"W6","v":21.829728715044407},{"$f":"X6","v":53.747956426901077},{"$f":"Y6","v":49.624841448689061},{"$f":"(Y10-W10)/(X10-V10)","v":1.973999314227233},{"$f":"(Y10*V10-W10*X10)/(V10-X10)","v":-56.473587679128848},{"$f":"(AA9-AA10)/(Z10-Z9)","v":59.490186664578914},{"$f":"AB10*Z10+AA10","v":60.960000000000015},{"$f":"(AB10^2+AC10^2)^0.5","v":85.177484756163381}]
[null,null,{"$f":"Panels!C20","v":0},{"$f":"Panels!D20","v":0},null,{"$f":"IF(Design!$H$20=\"x\",C11,0)","v":0},{"$f":"IF(Design!$H$20=\"x\",D11,0)","v":0},null,null,null,null,null,null,null,null,null,null,null,null,null,"Back",{"$f":"V7","v":0},{"$f":"W7","v":0},{"$f":"X7","v":86.36},{"$f":"Y7","v":0},{"$f":"(Y11-W11)/(X11-V11)","v":0},{"$f":"(Y11*V11-W11*X11)/(V11-X11)","v":0},{"$f":"(AA10-AA11)/(Z11-Z10)","v":28.608716969710155},{"$f":"AB11*Z11+AA11","v":0},{"$f":"(AB11^2+AC11^2)^0.5","v":28.608716969710155}]
[null,4,{"$f":"Panels!C19","v":0},{"$f":"Panels!D19","v":60.96},null,{"$f":"IF(Design!$H$20=\"x\",C12,0)","v":0},{"$f":"IF(Design!$H$20=\"x\",D12,0)","v":60.96}]
[null,null,null,null,null,null,null,null,null,null,null,null,null,null,null,null,null,null,null,null,"Front",{"$f":"V9","v":0},{"$f":"W9","v":60.96},{"$f":"X9","v":86.36},{"$f":"Y9","v":60.96},{"$f":"(Y13-W13)/(X13-V13)","v":0},{"$f":"(Y13*V13-W13*X13)/(V13-X13)","v":60.960000000000008}]
[null,null,{"$f":"Panels!C20","v":0},{"$f":"(C14-Panels!C43)*(Panels!D44-Panels!D43)/(Panels!C44-Panels!C43)+Panels!D43","v":22.479174552513385},null,{"$f":"IF(Design!$H$20=\"x\",C14,0)","v":0},{"$f":"IF(Design!$H$20=\"x\",D14,0)","v":22.479174552513385},null,null,null,null,null,null,null,null,null,null,null,null,null,"Edges",{"$f":"Panels!C44","v":69.033384878043279},{"$f":"Panels!D44","v":18.172394331152169},{"$f":"Panels!C56","v":73.21639900628665},{"$f":"Panels!D56","v":47.180086995938112},{"$f":"(Y14-W14)/(X14-V14)","v":6.9346389410756126},{"$f":"(Y14*V14-W14*X14)/(V14-X14)","v":-460.54920467838713},{"$f":"(AA13-AA14)/(Z14-Z13)","v":75.203512267863985},{"$f":"AB14*Z14+AA14","v":60.960000000000036},{"$f":"(AB14^2+AC14^2)^0.5","v":96.807488643300587}]
[null,5,{"$f":"Panels!C21","v":86.36},{"$f":"(C15-Panels!C43)*(Panels!D44-Panels!D43)/(Panels!C44-Panels!C43)+Panels!D43","v":17.091440189294417},null,{"$f":"IF(Design!$H$20=\"x\",C15,0)","v":86.36},{"$f":"IF(Design!$H$20=\"x\",D15,0)","v":17.091440189294417},null,null,null,null,null,null,null,null,null,null,null,null,null,"Back",{"$f":"V11","v":0},{"$f":"W11","v":0},{"$f":"X11","v":86.36},{"$f":"Y11","v":0},{"$f":"(Y15-W15)/(X15-V15)","v":0},{"$f":"(Y15*V15-W15*X15)/(V15-X15)","v":0},{"$f":"(AA14-AA15)/(Z15-Z14)","v":66.412859932827686},{"$f":"AB15*Z15+AA15","v":0},{"$f":"(AB15^2+AC15^2)^0.5","v":66.412859932827686}]
[]
[null,null,{"$f":"Panels!C20","v":0},{"$f":"Panels!D20","v":0},null,{"$f":"IF(Design!$H$20=\"x\",C17,0)","v":0},{"$f":"IF(Design!$H$20=\"x\",D17,0)","v":0}]
[null,6,{"$f":"Panels!C21","v":86.36},{"$f":"Panels!D21","v":0},null,{"$f":"IF(Design!$H$20=\"x\",C18,0)","v":86.36},{"$f":"IF(Design!$H$20=\"x\",D18,0)","v":0}]
[]
[null,null,{"$f":"Panels!C20","v":0},{"$f":"(C20-Panels!C54)*(Panels!D55-Panels!D54)/(Panels!C55-Panels!C54)+Panels!D54","v":53.050360008891374},null,{"$f":"IF(Design!$H$20=\"x\",C20,0)","v":0},{"$f":"IF(Design!$H$20=\"x\",D20,0)","v":53.050360008891374}]
[null,7,{"$f":"Panels!C21","v":86.36},{"$f":"(C21-Panels!C54)*(Panels!D55-Panels!D54)/(Panels!C55-Panels!C54)+Panels!D54","v":47.662625645672406},null,{"$f":"IF(Design!$H$20=\"x\",C21,0)","v":86.36},{"$f":"IF(Design!$H$20=\"x\",D21,0)","v":47.662625645672406}]
[]
[null,null,{"$f":"Panels!C23","v":0},{"$f":"Panels!D61","v":34.020033533165666},null,{"$f":"IF(Design!$H$20=\"x\",C23,0)","v":0},{"$f":"IF(Design!$H$20=\"x\",D23,0)","v":34.020033533165666}]
[null,8,{"$f":"Panels!C21","v":86.36},{"$f":"Panels!D60","v":34.020033533165666},null,{"$f":"IF(Design!$H$20=\"x\",C24,0)","v":86.36},{"$f":"IF(Design!$H$20=\"x\",D24,0)","v":34.020033533165666}]
[]
[null,null,{"$f":"Panels!C20","v":0},{"$f":"Panels!D20","v":0},null,{"$f":"IF(Design!$H$20=\"x\",C26,0)","v":0},{"$f":"IF(Design!$H$20=\"x\",D26,0)","v":0}]
[null,9,{"$f":"Panels!C19","v":0},{"$f":"Panels!D19","v":60.96},null,{"$f":"IF(Design!$H$20=\"x\",C27,0)","v":0},{"$f":"IF(Design!$H$20=\"x\",D27,0)","v":60.96}]
[]
[null,null,{"$f":"Panels!C23","v":0},{"$f":"Panels!D23","v":0},null,{"$f":"IF(Design!$H$20=\"x\",C29,0)","v":0},{"$f":"IF(Design!$H$20=\"x\",D29,0)","v":0}]
[null,10,{"$f":"Panels!C21","v":86.36},{"$f":"Panels!D21","v":0},null,{"$f":"IF(Design!$H$20=\"x\",C30,0)","v":86.36},{"$f":"IF(Design!$H$20=\"x\",D30,0)","v":0}]

{"sheet":"Layout","index":4,"n_rows":0,"n_cols":0,"rows_kept":0,"cut":false,"hidden":false,"merged":[]}

{"sheet":"Instructions","index":5,"n_rows":12,"n_cols":3,"rows_kept":12,"cut":false,"hidden":false,"merged":[]}
[]
[null,"Instructions"]
[]
[null,1,{"$f":"CONCATENATE(\"Cut out the side panels, \",Design!$E$49,\"cm x \",Design!$F$49,\"cm (2 are required)\")","v":"Cut out the side panels, 86.4cm x 61cm (2 are required)"}]
[null,{"$f":"B4+1","v":2},"Draw out the guides on the side panels as illustrated. One panel must mirror the other"]
[null,3,{"$f":"CONCATENATE(\"Prepare the speaker baffle.  This panel should be \",ROUND(Design!$E$48,1),\"cm x \",ROUND(Design!$F$48,1),\" cm. Cut the mounting hole for the speaker so that it is \",Design!D16,\" cm from one of the ends that measures \",Design!E47,\" cm.\")","v":"Prepare the speaker baffle.  This panel should be 43.1cm x 42.6 cm. Cut the mounting hole for the speaker so that it is 20 cm from one of the ends that measures 43.1 cm."}]
[null,4,"Using the guides on the side panel, join the speaker baffle and all of the internal panels to the side panel."]
[null,5,"Cut out and join all the rest of the bracing panels to the internal panels."]
[null,6,{"$f":"CONCATENATE(\"Cut out the front panel (\",ROUND(Design!E51,1),\"cm x \",ROUND(Design!F51,1),\"cm), top and bottom panels (\",ROUND(Design!E47,1),\"cm x \",ROUND(Design!F47,1),\"cm), and back panel (\",ROUND(Design!E50,1),\"cm x \",ROUND(Design!F50,1),\"cm)\")","v":"Cut out the front panel (43.1cm x 35.6cm), top and bottom panels (43.1cm x 61cm), and back panel (43.1cm x 82.6cm)"}]
[null,7,"Join the front panel, top and bottom panels and back panels to the side panel to which the other panels have already been joined.  "]
[null,8,"Double-check to ensure that all joins are airtight. "]
[null,9,"Finally, join the remaining side panel to the rest of the box.  This should complete the build. Again, ensure that all joins are airtight."]

{"sheet":"Bracing","index":6,"n_rows":21,"n_cols":28,"rows_kept":21,"cut":false,"hidden":false,"merged":[]}
["Bracing",null,"x","y",null,"x","y",null,null,null,null,null,null,null,null,null,null,null,"Intersection points"]
[null,null,{"$f":"Z5","v":71.318671730995916},{"$f":"AA5","v":34.020033533165666},null,{"$f":"IF(Design!$H$19=\"x\",C2,0)","v":0},{"$f":"IF(Design!$H$19=\"x\",D2,0)","v":0}]
[null,1,{"$f":"Panels!C60","v":84.46},{"$f":"Panels!D60","v":34.020033533165666},null,{"$f":"IF(Design!$H$19=\"x\",C3,0)","v":0},{"$f":"IF(Design!$H$19=\"x\",D3,0)","v":0},null,null,null,null,null,null,null,null,null,null,null,null,"x1","y1","x2","y2","a","b","x","y","l"]
[null,null,{"$f":"Panels!C25","v":84.46},{"$f":"Panels!D25","v":1.9},null,{"$f":"IF(Design!$H$19=\"x\",C4,0)","v":0},{"$f":"IF(Design!$H$19=\"x\",D4,0)","v":0},null,null,null,null,null,null,null,null,null,null,null,"Guide 1",{"$f":"Guides!C9","v":66.412859932827686},{"$f":"Guides!D9","v":0},{"$f":"Guides!C8","v":75.203512267863985},{"$f":"Guides!D8","v":60.960000000000036},{"$f":"(W4-U4)/(V4-T4)","v":6.9346389410756188},{"$f":"(W4*T4-U4*V4)/(T4-V4)","v":-460.54920467838758}]
[null,null,{"$f":"Panels!C24","v":1.9},{"$f":"Panels!D24","v":1.9},null,{"$f":"IF(Design!$H$19=\"x\",C5,0)","v":0},{"$f":"IF(Design!$H$19=\"x\",D5,0)","v":0},null,null,null,null,null,null,null,null,null,null,null,"Guide 2",{"$f":"Guides!C23","v":0},{"$f":"Guides!D23","v":34.020033533165666},{"$f":"Guides!C24","v":86.36},{"$f":"Guides!D24","v":34.020033533165666},{"$f":"(W5-U5)/(V5-T5)","v":0},{"$f":"(W5*T5-U5*V5)/(T5-V5)","v":34.020033533165666},{"$f":"(Y4-Y5)/(X5-X4)","v":71.318671730995916},{"$f":"Z5*X5+Y5","v":34.020033533165666},{"$f":"(Z5^2+AA5^2)^0.5","v":79.017185593206705}]
[null,null,{"$f":"C5","v":1.9},{"$f":"(Guides!D20+Guides!D14)/2","v":37.76476728070238},null,{"$f":"IF(Design!$H$19=\"x\",C6,0)","v":0},{"$f":"IF(Design!$H$19=\"x\",D6,0)","v":0}]
[null,null,{"$f":"Z8","v":29.383021814377031},{"$f":"AA8","v":20.646058337546592},null,{"$f":"IF(Design!$H$19=\"x\",C7,0)","v":0},{"$f":"IF(Design!$H$19=\"x\",D7,0)","v":0},null,null,null,null,null,null,null,null,null,null,null,"Guide 3",{"$f":"Guides!C14","v":0},{"$f":"Guides!D14","v":22.479174552513385},{"$f":"Guides!C15","v":86.36},{"$f":"Guides!D15","v":17.091440189294417},{"$f":"(W7-U7)/(V7-T7)","v":-6.238691944440676E-2},{"$f":"(W7*T7-U7*V7)/(T7-V7)","v":22.479174552513385}]
[null,null,{"$f":"Panels!C44","v":69.033384878043279},{"$f":"Panels!D44","v":18.172394331152169},null,{"$f":"IF(Design!$H$19=\"x\",C8,0)","v":0},{"$f":"IF(Design!$H$19=\"x\",D8,0)","v":0},null,null,null,null,null,null,null,null,null,null,null,"Panel B",{"$f":"Panels!C36","v":47.065371220441399},{"$f":"Panels!D36","v":61.711422090943714},{"$f":"Panels!C37","v":30.201838745593395},{"$f":"Panels!D37","v":22.547673013043749},{"$f":"(W8-U8)/(V8-T8)","v":2.3223929586705978},{"$f":"(W8*T8-U8*V8)/(T8-V8)","v":-47.592864628627197},{"$f":"(Y7-Y8)/(X8-X7)","v":29.383021814377031},{"$f":"Z8*X8+Y8","v":20.646058337546592},{"$f":"(Z8^2+AA8^2)^0.5","v":35.911303176319478}]
[null,null,{"$f":"C2","v":71.318671730995916},{"$f":"D2","v":34.020033533165666},null,{"$f":"IF(Design!$H$19=\"x\",C9,0)","v":0},{"$f":"IF(Design!$H$19=\"x\",D9,0)","v":0}]
[null,null,null,null,null,null,null,null,null,null,null,null,null,null,null,null,null,null,"Guide 3",{"$f":"Guides!C8","v":75.203512267863985},{"$f":"Guides!D8","v":60.960000000000036},{"$f":"Guides!C9","v":66.412859932827686},{"$f":"Guides!D9","v":0},{"$f":"(W10-U10)/(V10-T10)","v":6.9346389410756188},{"$f":"(W10*T10-U10*V10)/(T10-V10)","v":-460.54920467838758}]
[null,null,{"$f":"Panels!C32","v":48.810468593438614},{"$f":"Panels!D32","v":59.06},null,{"$f":"IF(Design!$H$19=\"x\",C11,0)","v":0},{"$f":"IF(Design!$H$19=\"x\",D11,0)","v":0},null,null,null,null,null,null,null,null,null,null,null,"Panel I",{"$f":"Panels!C62","v":62.219243022578823},{"$f":"Panels!D62","v":35.320033533165663},{"$f":"Panels!C63","v":84.46},{"$f":"Panels!D63","v":35.320033533165663},{"$f":"(W11-U11)/(V11-T11)","v":0},{"$f":"(W11*T11-U11*V11)/(T11-V11)","v":35.320033533165656},{"$f":"(Y10-Y11)/(X11-X10)","v":71.506136429741773},{"$f":"Z11*X11+Y11","v":35.320033533165656},{"$f":"(Z11^2+AA11^2)^0.5","v":79.753572433420118}]
[null,2,{"$f":"Panels!C54","v":54.907640747589852},{"$f":"Panels!D54","v":49.624841448689061},null,{"$f":"IF(Design!$H$19=\"x\",C12,0)","v":0},{"$f":"IF(Design!$H$19=\"x\",D12,0)","v":0}]
[null,null,{"$f":"Panels!C55","v":73.297344629192736},{"$f":"Panels!D55","v":48.477564474021008},null,{"$f":"IF(Design!$H$19=\"x\",C13,0)","v":0},{"$f":"IF(Design!$H$19=\"x\",D13,0)","v":0}]
[null,null,{"$f":"Z11","v":71.506136429741773},{"$f":"AA11","v":35.320033533165656},null,{"$f":"IF(Design!$H$19=\"x\",C14,0)","v":0},{"$f":"IF(Design!$H$19=\"x\",D14,0)","v":0}]
[null,null,{"$f":"Panels!C63","v":84.46},{"$f":"Panels!D63","v":35.320033533165663},null,{"$f":"IF(Design!$H$19=\"x\",C15,0)","v":0},{"$f":"IF(Design!$H$19=\"x\",D15,0)","v":0}]
[null,null,{"$f":"Panels!C33","v":84.46},{"$f":"Panels!D33","v":59.06},null,{"$f":"IF(Design!$H$19=\"x\",C16,0)","v":0},{"$f":"IF(Design!$H$19=\"x\",D16,0)","v":0}]
[null,null,{"$f":"C11","v":48.810468593438614},{"$f":"D11","v":59.06},null,{"$f":"IF(Design!$H$19=\"x\",C17,0)","v":0},{"$f":"IF(Design!$H$19=\"x\",D17,0)","v":0}]
[]
[]
[]
[null,3]