{"text_format":"1","workbook":"xlsx","n_sheets":3,"sheets":["SPlanar TH","Panels","Path"],"not_rendered":{"charts":6,"images":0,"macros":1,"external_links":1,"defined_names":2,"comments":0,"pivot_tables":0},"unopened":[],"bounds":{"document_bytes":16777216,"sheet_cells":100000,"rows_first":2000,"rows_last":500,"rows_between":2000,"halvings":0,"cell_chars":16384,"cell_head_chars":4096},"cells_cut":0,"cells_raw":0,"read":"whole","date_system":"1900"}

{"sheet":"SPlanar TH","index":0,"n_rows":105,"n_cols":13,"rows_kept":105,"cut":false,"hidden":false,"merged":[[102,3,102,7],[103,3,103,7],[104,3,104,7],[96,3,96,7],[97,3,97,7],[98,3,98,7],[99,3,99,7],[100,3,100,7],[101,3,101,7],[95,3,95,7],[84,3,84,7],[85,3,85,7],[86,3,86,7],[87,3,87,7],[88,3,88,7],[89,3,89,7],[90,3,90,7],[91,3,91,7],[92,3,92,7],[93,3,93,7],[94,3,94,7],[83,3,83,7],[72,3,72,7],[73,3,73,7],[74,3,74,7],[75,3,75,7],[76,3,76,7],[77,3,77,7],[78,3,78,7],[79,3,79,7],[80,3,80,7],[81,3,81,7],[82,3,82,7],[71,3,71,7],[17,9,17,11],[11,9,11,11],[12,9,12,11],[13,9,13,11],[14,9,14,11],[65,3,65,17],[67,3,67,7],[68,3,68,7],[69,3,69,7],[70,3,70,7],[4,9,4,11],[6,9,6,11],[10,9,10,11],[15,9,15,11],[16,9,16,11],[5,9,5,11]]}
[null,"Version","=",0.4]
[]
[null,"Driver"]
[null,"Frame Width","=",46,"cm",{"$f":"D4/2.54","v":18.110236220472441},"in",null,null,"Plot"]
[null,"Mounting Width","=",42.2,"cm",{"$f":"D5/2.54","v":16.614173228346459},"in",null,"x","Advanced Centerline"]
[null,"Mounting Depth","=",24.8,"cm",9.7637795275590555,"in",null,"x","Sample points"]
[null,"Magnet Width","=",15,"cm",5.9055118110236222,"in",null,"x","Driver"]
[null,"Magnet Height","=",10,"cm",3.9370078740157481,"in"]
[]
[null,"Horn Parameters",null,null,null,null,null,null,null,"Plot"]
[null,"S1","=",{"$f":"Path!D7","v":1006.7200000000001},"cm^2",{"$f":"D11/2.54^2","v":156.0419120838242},"in^2",null,"x","Panel A"]
[null,"S2","=",{"$f":"Path!D8","v":1006.7208086619752},"cm^2",{"$f":"D12/2.54^2","v":156.04203742668102},"in^2",null,"x","Panel B"]
[null,"S3","=",{"$f":"Path!D9","v":2495.5205266131943},"cm^2",{"$f":"D13/2.54^2","v":386.80645523795562},"in^2",null,"x","Panel C"]
[null,null,null,null,null,null,null,null,"x","Panel D"]
[null,"S5","=",{"$f":"Path!D11","v":2917.2},"cm^2",{"$f":"D15/2.54^2","v":452.16690433380865},"in^2",null,"x","Panel E"]
[null,"S6","=",{"$f":"Path!D12","v":2917.2},"cm^2",{"$f":"D16/2.54^2","v":452.16690433380865},"in^2",null,"x","Panel F (baffle)"]
[null,"L12","=",{"$f":"Path!G8","v":120.64912145963081},"cm",{"$f":"D17/2.54","v":47.49965411796488},"in",null,"x","Panel G"]
[null,"L23","=",{"$f":"Path!G9","v":165.91324291552894},"cm",{"$f":"D18/2.54","v":65.320174376192497},"in",null,"x","Panel H"]
[null,"L45","=",{"$f":"Path!G12","v":78.900000000000006},"cm",{"$f":"D19/2.54","v":31.062992125984255},"in",null,"x","Panel I"]
[]
[null,"d (external)","=",91.5,"cm",{"$f":"D21/2.54","v":36.023622047244096},"in"]
[null,"h (external)","=",61,"cm",{"$f":"D22/2.54","v":24.015748031496063},"in"]
[null,"w (external)","=",143.5,"cm",{"$f":"D23/2.54","v":56.496062992125985},"in"]
[]
[null,"w (internal)","=",{"$f":"D23-2*D28","v":139.69999999999999},"cm",{"$f":"D25/2.54","v":54.999999999999993},"in"]
[null,"L (actual)","=",{"$f":"Path!N153","v":0},"cm",0,"in"]
[]
[null,"p","=",1.9,"cm",{"$f":"D28/2.54","v":0.74803149606299213},"in",null,null,null,null,null,{"$f":"ABS(I34)+ABS(I41)+ABS(I43)+ABS(I44)+ABS(I45)","v":1.5928037628327729E-3}]
[]
[null,"Vol. (net)","=",{"$f":"D31-K49","v":654.40224498539112},"l.",null,null,{"$f":"(D30*1000/2.54^3)/1728","v":23.109997183453018},"cu.ft."]
[null,"Vol. (gross)","=",{"$f":"(D21*D22*D23)/10^3","v":800.94524999999999},"l.",null,null,{"$f":"(D31*1000/2.54^3)/1728","v":28.28511456590936},"cu.ft."]
[null,"Internal Width","=",{"$f":"D22-2*E39","v":57.2},"cm"]
[]
[null,"Expansion 1","=",null,null,null,null,4.4918920693090474,{"$f":"Path!T81","v":6.0703837334585842E-7}]
[]
[null,"Panels",null,"x (cm)","p (cm)",null,null,"y (cm)","Err","#","v","Panel"]
[null,{"$f":"J11","v":"Panel A"},null,{"$f":"D22-2*D28","v":57.2},{"$f":"D28","v":1.9},null,null,{"$f":"Panels!K10","v":89.6},null,2,{"$f":"H37*D37*D28*J37/10^3","v":19.475455999999998},"(sides)"]
[null,"Panel B",null,{"$f":"D37","v":57.2},{"$f":"D28","v":1.9},null,null,8.8000000000000007,null,1,{"$f":"D38*H38*$D$49*J38/10^3","v":0.95638400000000012},"(center)"]
[null,"Panel C",null,{"$f":"Panels!K28","v":143.5},{"$f":"D28","v":1.9},null,null,{"$f":"Panels!K29","v":91.5},null,2,49.894949999999994,"(top, bottom)"]
[null,"Panel D",null,{"$f":"D38","v":57.2},{"$f":"D28","v":1.9},null,null,{"$f":"D39","v":143.5},null,1,15.59558,"(back)"]
[null,"Panel E",null,{"$f":"D38","v":57.2},{"$f":"D28","v":1.9},null,null,20.579754582167812,{"$f":"Path!T57","v":-8.0866197504292359E-4},2,4.4732154559799957,"(front)"]
[null,"Panel F (baffle)",null,{"$f":"D38","v":57.2},{"$f":"D28","v":1.9},null,null,54.8,null,1,5.9556639999999996,"1st inside"]
[null,"Panel G",null,{"$f":"D38","v":57.2},{"$f":"D28","v":1.9},null,null,78.899999999999991,{"$f":"Path!T48","v":4.5474735088646412E-13},2,17.149703999999996,"2nd inside"]
[null,null,null,null,null,null,null,10.700000000000008,{"$f":"Path!T33","v":4.5474735088646412E-13}]
[null,{"$f":"J18","v":"Panel H"},null,{"$f":"D38","v":57.2},{"$f":"D28","v":1.9},null,null,75.01532737683516,{"$f":"Path!T72","v":-7.8353474850700877E-4},2,{"$f":"D45*H45*$D$49*J45/10^3","v":16.30533155862889},"3rd inside"]
[null,{"$f":"J19","v":"Panel I"},null,{"$f":"D38","v":57.2},{"$f":"D28","v":1.9},null,null,{"$f":"Panels!K88","v":77},null,2,{"$f":"D46*H46*$D$49*J46/10^3","v":16.736720000000002},"3rd inside"]
[]
[]
[null,"Thickness",null,{"$f":"D28","v":1.9},"cm.",null,null,null,null,"Pnl Vol",{"$f":"SUM(K37:K48)","v":146.54300501460887},"l"]
[]
[]
[null,"Cone Volume","=",4000,"cm^3"]
[null,"Cone Vol. Adj. (S1)","=",0,"cm^3"]
[null,"Cone Area Adj. (S1)","=",{"$f":"D52-D53","v":4000},"cm^2"]
[]
[]
[null,null,null,null,null,null,null,"Lossy Inductance OFF"]
[]
[]
[]
[]
[]
[]
[]
[]
[null,"Filename","=","I:\\Users\\Brian.Steele\\OneDrive\\Hornresp\\Import\\BOXPLAN.TXT"]
[]
[null,"ID","=","29.00",null,null,null,null,null,{"$f":"CONCATENATE(B68,C68,D68)","v":"ID=29.00"}]
[null,"Ang","=","2.0 x PI",null,null,null,null,null,{"$f":"CONCATENATE(B69,C69,D69)","v":"Ang=2.0 x PI"}]
[null,"Eg","=",2.83,null,null,null,null,null,"Eg=2.83"]
[null,"Rg","=",0,null,null,null,null,null,"Rg=0"]
[null,"Fta","=",0,null,null,null,null,null,"Fta=0"]
[null,"S1","=",{"$f":"ROUND(D11,0)","v":1007},null,null,null,null,null,"S1=1007"]
[null,"S2","=",{"$f":"ROUND(D12,0)","v":1007},null,null,null,null,null,"S2=1007"]
[null,"Par","=",{"$f":"ROUND(D17,1)","v":120.6},null,null,null,null,null,"Par=120.6"]
[null,"F12","=",0,null,null,null,null,null,"F12=0"]
[null,"S2","=",{"$f":"D74","v":1007},null,null,null,null,null,"S2=1007"]
[null,"S3","=",{"$f":"ROUND(D13,0)","v":2496},null,null,null,null,null,"S3=2496"]
[null,"Par","=",{"$f":"ROUND(D18,1)","v":165.9},null,null,null,null,null,"Par=165.9"]
[null,"F23","=",0,null,null,null,null,null,"F23=0"]
[null,"S3","=",0,null,null,null,null,null,"S3=0"]
[null,"S4","=",0,null,null,null,null,null,"S4=0"]
[null,"L34","=",0,null,null,null,null,null,"L34=0"]
[null,"F34","=",0,null,null,null,null,null,"F34=0"]
[null,"S5","=",{"$f":"D15","v":2917.2},null,null,null,null,null,"S5=2917.2"]
[null,"S6","=",{"$f":"D16","v":2917.2},null,null,null,null,null,"S6=2917.2"]
[null,"Par","=",{"$f":"ROUND(D19,1)","v":78.900000000000006},null,null,null,null,null,"Par=78.9"]
[null,"F56","=",0,null,null,null,null,null,"F56=0"]
[null,"Sd","=",1210,null,null,null,null,null,"Sd=1210"]
[null,"Bl","=",26.4,null,null,null,null,null,"Bl=26.4"]
[null,"Cms","=",8.7000000000000001E-5,null,null,null,null,null,"Cms=0.000087"]
[null,"Rms","=",8.9,null,null,null,null,null,"Rms=8.9"]
[null,"Mmd","=",243.16,null,null,null,null,null,"Mmd=243.16"]
[null,"Le","=",1.64,null,null,null,null,null,"Le=1.64"]
[null,"Re","=",3.2,null,null,null,null,null,"Re=3.2"]
[null,"CH","=",1,null,null,null,null,null,"CH=1"]
[null,"Vrc","=",0,null,null,null,null,null,"Vrc=0"]
[null,"Lrc","=",0,null,null,null,null,null,"Lrc=0"]
[null,"Ap1","=",0,null,null,null,null,null,"Ap1=0"]
[null,"Lp","=",0,null,null,null,null,null,"Lp=0"]
[null,"Vtc","=",{"$f":"D52","v":4000},null,null,null,null,null,"Vtc=4000"]
[null,"Atc","=",{"$f":"D89","v":1210},null,null,null,null,null,"Atc=1210"]
[null,"Pmax","=",1000,null,null,null,null,null,"Pmax=1000"]
[null,"Xmax","=",12,null,null,null,null,null,"Xmax=12"]
[null,"Comment","=","BOXPLAN-Export (7.2 Beta)",null,null,null,null,null,"Comment=BOXPLAN-Export (7.2 Beta)"]

{"sheet":"Panels","index":1,"n_rows":149,"n_cols":23,"rows_kept":149,"cut":false,"hidden":false,"merged":[]}
[]
[]
[null,null,null,null,null,null,null,null,null,null,null,null,null,null,null,"Exp.","Cos","Sin","Tan","1/2","Cos","Sin","Tan"]
[null,null,null,null,null,null,null,null,null,null,null,null,null,null,1,{"$f":"'SPlanar TH'!H34","v":4.4918920693090474},{"$f":"COS(P4*PI()/180)","v":0.9969284265047943},{"$f":"SIN(P4*PI()/180)","v":7.8318021085028139E-2},{"$f":"TAN(P4*PI()/180)","v":7.8559321815718633E-2},{"$f":"P4/2","v":2.2459460346545237},{"$f":"COS(T4*PI()/180)","v":0.99923181156946617},{"$f":"SIN(T4*PI()/180)","v":3.9189115167388516E-2},{"$f":"TAN(T4*PI()/180)","v":3.9219242936066295E-2}]
[null,null,"dX","dY"]
[null,null,0,0]
[]
[null,null,"x","y",null,"x","y",null,"dx","dy"]
[{"$f":"'SPlanar TH'!J11","v":"Panel A"},null,{"$f":"C27-'SPlanar TH'!$D$28","v":141.6},{"$f":"D27","v":91.5},null,{"$f":"IF('SPlanar TH'!$I$11=\"x\",C9,$C$6)","v":141.6},{"$f":"IF('SPlanar TH'!$I$11=\"x\",D9,$D$6)","v":91.5}]
[null,null,{"$f":"C9","v":141.6},{"$f":"D29+'SPlanar TH'!$D$28","v":1.9},null,{"$f":"IF('SPlanar TH'!$I$11=\"x\",C10,$C$6)","v":141.6},{"$f":"IF('SPlanar TH'!$I$11=\"x\",D10,$D$6)","v":1.9},null,{"$f":"C9-C10","v":0},89.6,{"$f":"(I10^2+J10^2)^0.5","v":89.6}]
[null,null,{"$f":"C10+'SPlanar TH'!$D$28","v":143.5},{"$f":"D10","v":1.9},null,{"$f":"IF('SPlanar TH'!$I$11=\"x\",C11,$C$6)","v":143.5},{"$f":"IF('SPlanar TH'!$I$11=\"x\",D11,$D$6)","v":1.9},null,-1.9000000000000057,0,{"$f":"(I11^2+J11^2)^0.5","v":1.9000000000000057}]
[null,null,{"$f":"C11","v":143.5},{"$f":"D9","v":91.5},null,{"$f":"IF('SPlanar TH'!$I$11=\"x\",C12,$C$6)","v":143.5},{"$f":"IF('SPlanar TH'!$I$11=\"x\",D12,$D$6)","v":91.5},null,0,-89.6,{"$f":"(I12^2+J12^2)^0.5","v":89.6}]
[null,null,{"$f":"C9","v":141.6},{"$f":"D9","v":91.5},null,{"$f":"IF('SPlanar TH'!$I$11=\"x\",C13,$C$6)","v":141.6},{"$f":"IF('SPlanar TH'!$I$11=\"x\",D13,$D$6)","v":91.5},null,1.9000000000000057,0,{"$f":"(I13^2+J13^2)^0.5","v":1.9000000000000057}]
[]
[{"$f":"'SPlanar TH'!J11","v":"Panel A"},null,{"$f":"C28","v":0},{"$f":"D9","v":91.5},null,{"$f":"IF('SPlanar TH'!$I$11=\"x\",C15,$C$6)","v":0},{"$f":"IF('SPlanar TH'!$I$11=\"x\",D15,$D$6)","v":91.5}]
[null,null,{"$f":"C15","v":0},{"$f":"D35","v":1.9},null,{"$f":"IF('SPlanar TH'!$I$11=\"x\",C16,$C$6)","v":0},{"$f":"IF('SPlanar TH'!$I$11=\"x\",D16,$D$6)","v":1.9},null,{"$f":"C15-C16","v":0},89.6,{"$f":"(I16^2+J16^2)^0.5","v":89.6}]
[null,null,{"$f":"C16+'SPlanar TH'!$D$28","v":1.9},{"$f":"D16","v":1.9},null,{"$f":"IF('SPlanar TH'!$I$11=\"x\",C17,$C$6)","v":1.9},{"$f":"IF('SPlanar TH'!$I$11=\"x\",D17,$D$6)","v":1.9},null,-1.9,0,{"$f":"(I17^2+J17^2)^0.5","v":1.9}]
[null,null,{"$f":"C17","v":1.9},{"$f":"D15","v":91.5},null,{"$f":"IF('SPlanar TH'!$I$11=\"x\",C18,$C$6)","v":1.9},{"$f":"IF('SPlanar TH'!$I$11=\"x\",D18,$D$6)","v":91.5},null,0,-89.6,{"$f":"(I18^2+J18^2)^0.5","v":89.6}]
[null,null,{"$f":"C15","v":0},{"$f":"D15","v":91.5},null,{"$f":"IF('SPlanar TH'!$I$11=\"x\",C19,$C$6)","v":0},{"$f":"IF('SPlanar TH'!$I$11=\"x\",D19,$D$6)","v":91.5},null,1.9,0,{"$f":"(I19^2+J19^2)^0.5","v":1.9}]
[]
[{"$f":"'SPlanar TH'!J12","v":"Panel B"},null,{"$f":"(C27+'SPlanar TH'!$D$28)/2","v":72.7},{"$f":"D29+'SPlanar TH'!$D$28","v":1.9},null,{"$f":"IF('SPlanar TH'!$I$12=\"x\",C21,$C$6)","v":72.7},{"$f":"IF('SPlanar TH'!$I$12=\"x\",D21,$D$6)","v":1.9}]
[null,null,{"$f":"C21","v":72.7},{"$f":"D21+'SPlanar TH'!H38","v":10.700000000000001},null,{"$f":"IF('SPlanar TH'!$I$12=\"x\",C22,$C$6)","v":72.7},{"$f":"IF('SPlanar TH'!$I$12=\"x\",D22,$D$6)","v":10.700000000000001},null,{"$f":"C21-C22","v":0},-8.8000000000000007,{"$f":"(I22^2+J22^2)^0.5","v":8.8000000000000007}]
[null,null,{"$f":"C22-'SPlanar TH'!$D$28","v":70.8},{"$f":"D22","v":10.700000000000001},null,{"$f":"IF('SPlanar TH'!$I$12=\"x\",C23,$C$6)","v":70.8},{"$f":"IF('SPlanar TH'!$I$12=\"x\",D23,$D$6)","v":10.700000000000001},null,1.9000000000000057,0,{"$f":"(I23^2+J23^2)^0.5","v":1.9000000000000057}]
[null,null,{"$f":"C23","v":70.8},{"$f":"D21","v":1.9},null,{"$f":"IF('SPlanar TH'!$I$12=\"x\",C24,$C$6)","v":70.8},{"$f":"IF('SPlanar TH'!$I$12=\"x\",D24,$D$6)","v":1.9},null,0,8.8000000000000007,{"$f":"(I24^2+J24^2)^0.5","v":8.8000000000000007}]
[null,null,{"$f":"C21","v":72.7},{"$f":"D24","v":1.9},null,{"$f":"IF('SPlanar TH'!$I$12=\"x\",C25,$C$6)","v":72.7},{"$f":"IF('SPlanar TH'!$I$12=\"x\",D25,$D$6)","v":1.9},null,-1.9000000000000057,0,{"$f":"(I25^2+J25^2)^0.5","v":1.9000000000000057}]
[]
[{"$f":"'SPlanar TH'!J13","v":"Panel C"},null,{"$f":"'SPlanar TH'!D23+$C$6","v":143.5},{"$f":"'SPlanar TH'!D21","v":91.5},null,{"$f":"IF('SPlanar TH'!$I$13=\"x\",C27,$C$6)","v":143.5},{"$f":"IF('SPlanar TH'!$I$13=\"x\",D27,$D$6)","v":91.5}]
[null,null,{"$f":"C6","v":0},{"$f":"D27","v":91.5},null,{"$f":"IF('SPlanar TH'!$I$13=\"x\",C28,$C$6)","v":0},{"$f":"IF('SPlanar TH'!$I$13=\"x\",D28,$D$6)","v":91.5},null,{"$f":"C27-C28","v":143.5},0,{"$f":"(I28^2+J28^2)^0.5","v":143.5}]
[null,null,{"$f":"C28","v":0},{"$f":"D6","v":0},null,{"$f":"IF('SPlanar TH'!$I$13=\"x\",C29,$C$6)","v":0},{"$f":"IF('SPlanar TH'!$I$13=\"x\",D29,$D$6)","v":0},null,0,91.5,{"$f":"(I29^2+J29^2)^0.5","v":91.5}]
[null,null,{"$f":"C27","v":143.5},{"$f":"D29","v":0},null,{"$f":"IF('SPlanar TH'!$I$13=\"x\",C30,$C$6)","v":143.5},{"$f":"IF('SPlanar TH'!$I$13=\"x\",D30,$D$6)","v":0},null,-143.5,0,{"$f":"(I30^2+J30^2)^0.5","v":143.5}]
[null,null,{"$f":"C27","v":143.5},{"$f":"D27","v":91.5},null,{"$f":"IF('SPlanar TH'!$I$13=\"x\",C31,$C$6)","v":143.5},{"$f":"IF('SPlanar TH'!$I$13=\"x\",D31,$D$6)","v":91.5},null,0,-91.5,{"$f":"(I31^2+J31^2)^0.5","v":91.5}]
[]
[{"$f":"'SPlanar TH'!J14","v":"Panel D"},null,{"$f":"C28","v":0},{"$f":"D29","v":0},null,{"$f":"IF('SPlanar TH'!$I$14=\"x\",C33,$C$6)","v":0},{"$f":"IF('SPlanar TH'!$I$14=\"x\",D33,$D$6)","v":0}]
[null,null,{"$f":"C27","v":143.5},{"$f":"D33","v":0},null,{"$f":"IF('SPlanar TH'!$I$14=\"x\",C34,$C$6)","v":143.5},{"$f":"IF('SPlanar TH'!$I$14=\"x\",D34,$D$6)","v":0},null,{"$f":"C33-C34","v":-143.5},0,{"$f":"(I34^2+J34^2)^0.5","v":143.5}]
[null,null,{"$f":"C34","v":143.5},{"$f":"D29+'SPlanar TH'!$D$28","v":1.9},null,{"$f":"IF('SPlanar TH'!$I$14=\"x\",C35,$C$6)","v":143.5},{"$f":"IF('SPlanar TH'!$I$14=\"x\",D35,$D$6)","v":1.9},null,0,-1.9,{"$f":"(I35^2+J35^2)^0.5","v":1.9}]
[null,null,{"$f":"C33","v":0},{"$f":"D35","v":1.9},null,{"$f":"IF('SPlanar TH'!$I$14=\"x\",C36,$C$6)","v":0},{"$f":"IF('SPlanar TH'!$I$14=\"x\",D36,$D$6)","v":1.9},null,143.5,0,{"$f":"(I36^2+J36^2)^0.5","v":143.5}]
[null,null,{"$f":"C33","v":0},{"$f":"D33","v":0},null,{"$f":"IF('SPlanar TH'!$I$14=\"x\",C37,$C$6)","v":0},{"$f":"IF('SPlanar TH'!$I$14=\"x\",D37,$D$6)","v":0},null,0,1.9,{"$f":"(I37^2+J37^2)^0.5","v":1.9}]
[]
[{"$f":"'SPlanar TH'!J15","v":"Panel E"},null,{"$f":"C83","v":97.25},{"$f":"D27","v":91.5},null,{"$f":"IF('SPlanar TH'!$I$15=\"x\",C39,$C$6)","v":97.25},{"$f":"IF('SPlanar TH'!$I$15=\"x\",D39,$C$6)","v":91.5}]
[null,null,{"$f":"C39+'SPlanar TH'!H41","v":117.82975458216781},{"$f":"D39","v":91.5},null,{"$f":"IF('SPlanar TH'!$I$15=\"x\",C40,$C$6)","v":117.82975458216781},{"$f":"IF('SPlanar TH'!$I$15=\"x\",D40,$C$6)","v":91.5},null,{"$f":"C39-C40","v":-20.579754582167809},0,{"$f":"(I40^2+J40^2)^0.5","v":20.579754582167809}]
[null,null,{"$f":"C40","v":117.82975458216781},{"$f":"D40-'SPlanar TH'!$D$28","v":89.6},null,{"$f":"IF('SPlanar TH'!$I$15=\"x\",C41,$C$6)","v":117.82975458216781},{"$f":"IF('SPlanar TH'!$I$15=\"x\",D41,$C$6)","v":89.6},null,0,1.9000000000000057,{"$f":"(I41^2+J41^2)^0.5","v":1.9000000000000057}]
[null,null,{"$f":"C39","v":97.25},{"$f":"D41","v":89.6},null,{"$f":"IF('SPlanar TH'!$I$15=\"x\",C42,$C$6)","v":97.25},{"$f":"IF('SPlanar TH'!$I$15=\"x\",D42,$C$6)","v":89.6},null,20.579754582167809,0,{"$f":"(I42^2+J42^2)^0.5","v":20.579754582167809}]
[null,null,{"$f":"C42","v":97.25},{"$f":"D40","v":91.5},null,{"$f":"IF('SPlanar TH'!$I$15=\"x\",C43,$C$6)","v":97.25},{"$f":"IF('SPlanar TH'!$I$15=\"x\",D43,$C$6)","v":91.5},null,0,-1.9000000000000057,{"$f":"(I43^2+J43^2)^0.5","v":1.9000000000000057}]
[]
[{"$f":"A39","v":"Panel E"},null,{"$f":"C89","v":46.250000000000007},{"$f":"D39","v":91.5},null,{"$f":"IF('SPlanar TH'!$I$15=\"x\",C45,$C$6)","v":46.250000000000007},{"$f":"IF('SPlanar TH'!$I$15=\"x\",D45,$D$6)","v":91.5}]
[null,null,{"$f":"C45-'SPlanar TH'!H41","v":25.670245417832195},{"$f":"D45","v":91.5},null,{"$f":"IF('SPlanar TH'!$I$15=\"x\",C46,$C$6)","v":25.670245417832195},{"$f":"IF('SPlanar TH'!$I$15=\"x\",D46,$D$6)","v":91.5},null,{"$f":"C45-C46","v":20.579754582167812},0,{"$f":"(I46^2+J46^2)^0.5","v":20.579754582167812}]
[null,null,{"$f":"C46","v":25.670245417832195},{"$f":"D46-'SPlanar TH'!$D$28","v":89.6},null,{"$f":"IF('SPlanar TH'!$I$15=\"x\",C47,$C$6)","v":25.670245417832195},{"$f":"IF('SPlanar TH'!$I$15=\"x\",D47,$D$6)","v":89.6},null,0,1.9000000000000057,{"$f":"(I47^2+J47^2)^0.5","v":1.9000000000000057}]
[null,null,{"$f":"C45","v":46.250000000000007},{"$f":"D47","v":89.6},null,{"$f":"IF('SPlanar TH'!$I$15=\"x\",C48,$C$6)","v":46.250000000000007},{"$f":"IF('SPlanar TH'!$I$15=\"x\",D48,$D$6)","v":89.6},null,-20.579754582167812,0,{"$f":"(I48^2+J48^2)^0.5","v":20.579754582167812}]
[null,null,{"$f":"C45","v":46.250000000000007},{"$f":"D45","v":91.5},null,{"$f":"IF('SPlanar TH'!$I$15=\"x\",C49,$C$6)","v":46.250000000000007},{"$f":"IF('SPlanar TH'!$I$15=\"x\",D49,$D$6)","v":91.5},null,0,-1.9000000000000057,{"$f":"(I49^2+J49^2)^0.5","v":1.9000000000000057}]
[]
[{"$f":"'SPlanar TH'!J16","v":"Panel F (baffle)"},null,{"$f":"C21+('SPlanar TH'!H42-'SPlanar TH'!$D$28)/2","v":99.15},{"$f":"D22","v":10.700000000000001},null,{"$f":"IF('SPlanar TH'!$I$16=\"x\",C51,$C$6)","v":99.15},{"$f":"IF('SPlanar TH'!$I$16=\"x\",D51,$D$6)","v":10.700000000000001}]
[null,null,{"$f":"C51","v":99.15},{"$f":"D51+'SPlanar TH'!$D$28","v":12.600000000000001},null,{"$f":"IF('SPlanar TH'!$I$16=\"x\",C52,$C$6)","v":99.15},{"$f":"IF('SPlanar TH'!$I$16=\"x\",D52,$D$6)","v":12.600000000000001},null,{"$f":"C51-C52","v":0},-1.9000000000000004,{"$f":"(I52^2+J52^2)^0.5","v":1.9000000000000004}]
[null,null,{"$f":"C52-'SPlanar TH'!H42","v":44.350000000000009},{"$f":"D52","v":12.600000000000001},null,{"$f":"IF('SPlanar TH'!$I$16=\"x\",C53,$C$6)","v":44.350000000000009},{"$f":"IF('SPlanar TH'!$I$16=\"x\",D53,$D$6)","v":12.600000000000001},null,54.8,0,{"$f":"(I53^2+J53^2)^0.5","v":54.8}]
[null,null,{"$f":"C53","v":44.350000000000009},{"$f":"D53-'SPlanar TH'!$D$28","v":10.700000000000001},null,{"$f":"IF('SPlanar TH'!$I$16=\"x\",C54,$C$6)","v":44.350000000000009},{"$f":"IF('SPlanar TH'!$I$16=\"x\",D54,$D$6)","v":10.700000000000001},null,0,1.9000000000000004,{"$f":"(I54^2+J54^2)^0.5","v":1.9000000000000004}]
[null,null,{"$f":"C51","v":99.15},{"$f":"D51","v":10.700000000000001},null,{"$f":"IF('SPlanar TH'!$I$16=\"x\",C55,$C$6)","v":99.15},{"$f":"IF('SPlanar TH'!$I$16=\"x\",D55,$D$6)","v":10.700000000000001},null,-54.8,0,{"$f":"(I55^2+J55^2)^0.5","v":54.8}]
[]
[{"$f":"'SPlanar TH'!J17","v":"Panel G"},null,{"$f":"C51+'SPlanar TH'!H44","v":109.85000000000001},{"$f":"D36","v":1.9},null,{"$f":"IF('SPlanar TH'!$I$17=\"x\",C57,$C$6)","v":109.85000000000001},{"$f":"IF('SPlanar TH'!$I$17=\"x\",D57,$D$6)","v":1.9}]
[null,null,{"$f":"C57","v":109.85000000000001},{"$f":"D57+'SPlanar TH'!H43","v":80.8},null,{"$f":"IF('SPlanar TH'!$I$17=\"x\",C58,$C$6)","v":109.85000000000001},{"$f":"IF('SPlanar TH'!$I$17=\"x\",D58,$D$6)","v":80.8},null,{"$f":"C57-C58","v":0},-78.899999999999991,{"$f":"(I58^2+J58^2)^0.5","v":78.899999999999991}]
[null,null,{"$f":"C58-'SPlanar TH'!$D$28","v":107.95},{"$f":"D58","v":80.8},null,{"$f":"IF('SPlanar TH'!$I$17=\"x\",C59,$C$6)","v":107.95},{"$f":"IF('SPlanar TH'!$I$17=\"x\",D59,$D$6)","v":80.8},null,1.9000000000000057,0,{"$f":"(I59^2+J59^2)^0.5","v":1.9000000000000057}]
[null,null,{"$f":"C59","v":107.95},{"$f":"D57","v":1.9},null,{"$f":"IF('SPlanar TH'!$I$17=\"x\",C60,$C$6)","v":107.95},{"$f":"IF('SPlanar TH'!$I$17=\"x\",D60,$D$6)","v":1.9},null,0,78.899999999999991,{"$f":"(I60^2+J60^2)^0.5","v":78.899999999999991}]
[null,null,{"$f":"C57","v":109.85000000000001},{"$f":"D57","v":1.9},null,{"$f":"IF('SPlanar TH'!$I$17=\"x\",C61,$C$6)","v":109.85000000000001},{"$f":"IF('SPlanar TH'!$I$17=\"x\",D61,$D$6)","v":1.9},null,-1.9000000000000057,0,{"$f":"(I61^2+J61^2)^0.5","v":1.9000000000000057}]
[]
[{"$f":"A57","v":"Panel G"},null,{"$f":"C53-'SPlanar TH'!H44","v":33.65},{"$f":"D60","v":1.9},null,{"$f":"IF('SPlanar TH'!$I$17=\"x\",C63,$C$6)","v":33.65},{"$f":"IF('SPlanar TH'!$I$17=\"x\",D63,$D$6)","v":1.9}]
[null,null,{"$f":"C63","v":33.65},{"$f":"D63+'SPlanar TH'!H43","v":80.8},null,{"$f":"IF('SPlanar TH'!$I$17=\"x\",C64,$C$6)","v":33.65},{"$f":"IF('SPlanar TH'!$I$17=\"x\",D64,$D$6)","v":80.8},null,{"$f":"C63-C64","v":0},-78.899999999999991,{"$f":"(I64^2+J64^2)^0.5","v":78.899999999999991}]
[null,null,{"$f":"C64+'SPlanar TH'!$D$28","v":35.549999999999997},{"$f":"D64","v":80.8},null,{"$f":"IF('SPlanar TH'!$I$17=\"x\",C65,$C$6)","v":35.549999999999997},{"$f":"IF('SPlanar TH'!$I$17=\"x\",D65,$D$6)","v":80.8},null,-1.8999999999999986,0,{"$f":"(I65^2+J65^2)^0.5","v":1.8999999999999986}]
[null,null,{"$f":"C65","v":35.549999999999997},{"$f":"D63","v":1.9},null,{"$f":"IF('SPlanar TH'!$I$17=\"x\",C66,$C$6)","v":35.549999999999997},{"$f":"IF('SPlanar TH'!$I$17=\"x\",D66,$D$6)","v":1.9},null,0,78.899999999999991,{"$f":"(I66^2+J66^2)^0.5","v":78.899999999999991}]
[null,null,{"$f":"C63","v":33.65},{"$f":"D63","v":1.9},null,{"$f":"IF('SPlanar TH'!$I$17=\"x\",C67,$C$6)","v":33.65},{"$f":"IF('SPlanar TH'!$I$17=\"x\",D67,$D$6)","v":1.9},null,1.8999999999999986,0,{"$f":"(I67^2+J67^2)^0.5","v":1.8999999999999986}]
[]
[{"$f":"'SPlanar TH'!J18","v":"Panel H"},null,{"$f":"C46","v":25.670245417832195},{"$f":"D46","v":91.5},null,{"$f":"IF('SPlanar TH'!$I$18=\"x\",C69,$C$6)","v":25.670245417832195},{"$f":"IF('SPlanar TH'!$I$18=\"x\",D69,$D$6)","v":91.5}]
[null,null,{"$f":"C69-'SPlanar TH'!H45*R4","v":19.795193426632931},{"$f":"D69-'SPlanar TH'!H45*Q4","v":16.715087714469703},null,{"$f":"IF('SPlanar TH'!$I$18=\"x\",C70,$C$6)","v":19.795193426632931},{"$f":"IF('SPlanar TH'!$I$18=\"x\",D70,$D$6)","v":16.715087714469703},null,{"$f":"C69-C70","v":5.875051991199264},74.784912285530297,{"$f":"(I70^2+J70^2)^0.5","v":75.01532737683516}]
[null,null,{"$f":"C70-'SPlanar TH'!E45*Q4","v":17.901029416273822},{"$f":"D70+'SPlanar TH'!E45*R4","v":16.863891954531258},null,{"$f":"IF('SPlanar TH'!$I$18=\"x\",C71,$C$6)","v":17.901029416273822},{"$f":"IF('SPlanar TH'!$I$18=\"x\",D71,$D$6)","v":16.863891954531258},null,1.8941640103591091,-0.14880424006155479,{"$f":"(I71^2+J71^2)^0.5","v":1.9}]
[null,null,{"$f":"C71+'SPlanar TH'!H45*R4","v":23.776081407473086},{"$f":"D71+'SPlanar TH'!H45*Q4","v":91.648804240061551},null,{"$f":"IF('SPlanar TH'!$I$18=\"x\",C72,$C$6)","v":23.776081407473086},{"$f":"IF('SPlanar TH'!$I$18=\"x\",D72,$D$6)","v":91.648804240061551},null,-5.875051991199264,-74.784912285530297,{"$f":"(I72^2+J72^2)^0.5","v":75.01532737683516}]
[null,null,{"$f":"C69","v":25.670245417832195},{"$f":"D69","v":91.5},null,{"$f":"IF('SPlanar TH'!$I$18=\"x\",C73,$C$6)","v":25.670245417832195},{"$f":"IF('SPlanar TH'!$I$18=\"x\",D73,$D$6)","v":91.5},null,-1.8941640103591091,0.14880424006155124,{"$f":"(I73^2+J73^2)^0.5","v":1.8999999999999997}]
[]
[{"$f":"A69","v":"Panel H"},null,{"$f":"C40","v":117.82975458216781},{"$f":"D40","v":91.5},null,{"$f":"IF('SPlanar TH'!$I$18=\"x\",C75,$C$6)","v":117.82975458216781},{"$f":"IF('SPlanar TH'!$I$18=\"x\",D75,$D$6)","v":91.5}]
[null,null,{"$f":"C75+'SPlanar TH'!H45*R4","v":123.70480657336708},{"$f":"D75-'SPlanar TH'!H45*Q4","v":16.715087714469703},null,{"$f":"IF('SPlanar TH'!$I$18=\"x\",C76,$C$6)","v":123.70480657336708},{"$f":"IF('SPlanar TH'!$I$18=\"x\",D76,$D$6)","v":16.715087714469703},null,{"$f":"C75-C76","v":-5.8750519911992711},74.784912285530297,{"$f":"(I76^2+J76^2)^0.5","v":75.01532737683516}]
[null,null,{"$f":"C76+'SPlanar TH'!E45*Q4","v":125.59897058372619},{"$f":"D76+'SPlanar TH'!E45*R4","v":16.863891954531258},null,{"$f":"IF('SPlanar TH'!$I$18=\"x\",C77,$C$6)","v":125.59897058372619},{"$f":"IF('SPlanar TH'!$I$18=\"x\",D77,$D$6)","v":16.863891954531258},null,-1.8941640103591055,-0.14880424006155479,{"$f":"(I77^2+J77^2)^0.5","v":1.8999999999999964}]
[null,null,{"$f":"C77-'SPlanar TH'!H45*R4","v":119.72391859252691},{"$f":"D77+'SPlanar TH'!H45*Q4","v":91.648804240061551},null,{"$f":"IF('SPlanar TH'!$I$18=\"x\",C78,$C$6)","v":119.72391859252691},{"$f":"IF('SPlanar TH'!$I$18=\"x\",D78,$D$6)","v":91.648804240061551},null,5.8750519911992711,-74.784912285530297,{"$f":"(I78^2+J78^2)^0.5","v":75.01532737683516}]
[null,null,{"$f":"C75","v":117.82975458216781},{"$f":"D75","v":91.5},null,{"$f":"IF('SPlanar TH'!$I$18=\"x\",C79,$C$6)","v":117.82975458216781},{"$f":"IF('SPlanar TH'!$I$18=\"x\",D79,$D$6)","v":91.5},null,1.8941640103591055,0.14880424006155124,{"$f":"(I79^2+J79^2)^0.5","v":1.8999999999999961}]
[]
[{"$f":"'SPlanar TH'!J19","v":"Panel I"},null,{"$f":"C52","v":99.15},{"$f":"D52","v":12.600000000000001},null,{"$f":"IF('SPlanar TH'!$I$19=\"x\",C81,$C$6)","v":99.15},{"$f":"IF('SPlanar TH'!$I$19=\"x\",D81,$D$6)","v":12.600000000000001}]
[null,null,{"$f":"C81+'SPlanar TH'!$H$35","v":99.15},{"$f":"D48","v":89.6},null,{"$f":"IF('SPlanar TH'!$I$19=\"x\",C82,$C$6)","v":99.15},{"$f":"IF('SPlanar TH'!$I$19=\"x\",D82,$D$6)","v":89.6},null,{"$f":"C81-C82","v":0},-77,{"$f":"(I82^2+J82^2)^0.5","v":77}]
[null,null,{"$f":"C82-'SPlanar TH'!$D$28","v":97.25},{"$f":"D82","v":89.6},null,{"$f":"IF('SPlanar TH'!$I$19=\"x\",C83,$C$6)","v":97.25},{"$f":"IF('SPlanar TH'!$I$19=\"x\",D83,$D$6)","v":89.6},null,1.9000000000000057,0,{"$f":"(I83^2+J83^2)^0.5","v":1.9000000000000057}]
[null,null,{"$f":"C83","v":97.25},{"$f":"D81","v":12.600000000000001},null,{"$f":"IF('SPlanar TH'!$I$19=\"x\",C84,$C$6)","v":97.25},{"$f":"IF('SPlanar TH'!$I$19=\"x\",D84,$D$6)","v":12.600000000000001},null,0,77,{"$f":"(I84^2+J84^2)^0.5","v":77}]
[null,null,{"$f":"C81","v":99.15},{"$f":"D81","v":12.600000000000001},null,{"$f":"IF('SPlanar TH'!$I$19=\"x\",C85,$C$6)","v":99.15},{"$f":"IF('SPlanar TH'!$I$19=\"x\",D85,$D$6)","v":12.600000000000001},null,-1.9000000000000057,0,{"$f":"(I85^2+J85^2)^0.5","v":1.9000000000000057}]
[]
[{"$f":"A81","v":"Panel I"},null,{"$f":"C53","v":44.350000000000009},{"$f":"D53","v":12.600000000000001},null,{"$f":"IF('SPlanar TH'!$I$19=\"x\",C87,$C$6)","v":44.350000000000009},{"$f":"IF('SPlanar TH'!$I$19=\"x\",D87,$D$6)","v":12.600000000000001}]
[null,null,{"$f":"C87+'SPlanar TH'!$H$35","v":44.350000000000009},{"$f":"D48","v":89.6},null,{"$f":"IF('SPlanar TH'!$I$19=\"x\",C88,$C$6)","v":44.350000000000009},{"$f":"IF('SPlanar TH'!$I$19=\"x\",D88,$D$6)","v":89.6},null,{"$f":"C87-C88","v":0},-77,{"$f":"(I88^2+J88^2)^0.5","v":77}]
[null,null,{"$f":"C88+'SPlanar TH'!$D$28","v":46.250000000000007},{"$f":"D88","v":89.6},null,{"$f":"IF('SPlanar TH'!$I$19=\"x\",C89,$C$6)","v":46.250000000000007},{"$f":"IF('SPlanar TH'!$I$19=\"x\",D89,$D$6)","v":89.6},null,-1.8999999999999986,0,{"$f":"(I89^2+J89^2)^0.5","v":1.8999999999999986}]
[null,null,{"$f":"C89","v":46.250000000000007},{"$f":"D87","v":12.600000000000001},null,{"$f":"IF('SPlanar TH'!$I$19=\"x\",C90,$C$6)","v":46.250000000000007},{"$f":"IF('SPlanar TH'!$I$19=\"x\",D90,$D$6)","v":12.600000000000001},null,0,77,{"$f":"(I90^2+J90^2)^0.5","v":77}]
[null,null,{"$f":"C87","v":44.350000000000009},{"$f":"D90","v":12.600000000000001},null,{"$f":"IF('SPlanar TH'!$I$19=\"x\",C91,$C$6)","v":44.350000000000009},{"$f":"IF('SPlanar TH'!$I$19=\"x\",D91,$D$6)","v":12.600000000000001},null,1.8999999999999986,0,{"$f":"(I91^2+J91^2)^0.5","v":1.8999999999999986}]
[]
["Vertical Divider",null,{"$f":"(C28+C27)/2","v":71.75},{"$f":"D52","v":12.600000000000001},null,{"$f":"C93","v":71.75},{"$f":"D93","v":12.600000000000001}]
[null,null,{"$f":"C93","v":71.75},{"$f":"D27","v":91.5},null,{"$f":"C94","v":71.75},{"$f":"D94","v":91.5}]
[]
["Vertical Axis",null,{"$f":"C29","v":0},{"$f":"D29","v":0},null,{"$f":"C96","v":0},{"$f":"D96","v":0}]
[null,null,{"$f":"C96","v":0},{"$f":"MAX(C9:D49)","v":143.5},null,{"$f":"C97","v":0},{"$f":"D97","v":143.5}]
[]
["Horizontal Axis",null,{"$f":"C96","v":0},{"$f":"D96","v":0},null,{"$f":"C99","v":0},{"$f":"D99","v":0}]
[null,null,{"$f":"D97","v":143.5},{"$f":"C97","v":0},null,{"$f":"C100","v":143.5},{"$f":"D100","v":0}]
[]
[]
[]
[]
[]
[]
[]
[]
[]
[]
[]
[]
[]
[]
[]
[]
[]
[]
[]
[]
[]
[]
[]
[]
[]
[]
[null,null,"x","y","dX","dY","l","Delta"]
[null,null,{"$f":"C52","v":99.15},{"$f":"D52","v":12.600000000000001}]
[null,null,{"$f":"C53","v":44.350000000000009},{"$f":"D53","v":12.600000000000001},{"$f":"C128-C129","v":54.8},{"$f":"D128-D129","v":0},{"$f":"(E129^2+F129^2)^0.5","v":54.8},{"$f":"F129/E129","v":0}]
[]
[]
[]
[null,null,null,null,{"$f":"'SPlanar TH'!I7","v":"x"}]
[null,null,{"$f":"C135+('SPlanar TH'!$D$4*COS(ATAN($H$129)))/2+C131","v":94.75},{"$f":"D135+('SPlanar TH'!$D$4*SIN(ATAN($H$129)))/2","v":12.600000000000001},{"$f":"$E$133","v":"x"},{"$f":"IF(E134=\"x\",C134,\"\")","v":94.75},{"$f":"IF(E134=\"x\",D134,\"\")","v":12.600000000000001}]
[null,null,{"$f":"(C53+C52)/2","v":71.75},{"$f":"D128-(F129*'SPlanar TH'!D17/G129)-D131","v":12.600000000000001},"x",{"$f":"IF(E135=\"x\",C135,\"\")","v":71.75},{"$f":"IF(E135=\"x\",D135,\"\")","v":12.600000000000001}]
[null,null,{"$f":"C135+'SPlanar TH'!$D$6*SIN(ATAN($H$129))","v":71.75},{"$f":"D135+'SPlanar TH'!$D$6*COS(ATAN($H$129))","v":37.400000000000006},"x",71.75,37.400000000000006]
[null,null,{"$f":"C136+'SPlanar TH'!$D$7*COS(ATAN($H$129))/2","v":79.25},{"$f":"D136+'SPlanar TH'!$D$7*SIN(ATAN($H$129))/2","v":37.400000000000006},"x",79.25,37.400000000000006]
[null,null,{"$f":"C137-'SPlanar TH'!$D$8*SIN(ATAN($H$129))","v":79.25},{"$f":"D137-'SPlanar TH'!$D$8*COS(ATAN($H$129))","v":27.400000000000006},"x",79.25,27.400000000000006]
[null,null,{"$f":"C135+'SPlanar TH'!$D$5*COS(ATAN($H$129))/2","v":92.85},{"$f":"D135+('SPlanar TH'!$D$5)*SIN(ATAN($H$129))/2","v":12.600000000000001},"x",92.85,12.600000000000001]
[]
[null,null,{"$f":"C142-('SPlanar TH'!$D$4*COS(ATAN($H$129)))/2","v":48.75},{"$f":"D142-('SPlanar TH'!$D$4*SIN(ATAN($H$129)))/2","v":12.600000000000001},{"$f":"$E$133","v":"x"},{"$f":"IF(E141=\"x\",C141,\"\")","v":48.75},{"$f":"IF(E141=\"x\",D141,\"\")","v":12.600000000000001}]
[null,null,{"$f":"C135","v":71.75},{"$f":"D135","v":12.600000000000001},"x",71.75,12.600000000000001]
[null,null,{"$f":"C136","v":71.75},{"$f":"D136","v":37.400000000000006},"x",71.75,37.400000000000006]
[null,null,{"$f":"C143-'SPlanar TH'!$D$7*COS(ATAN($H$129))/2","v":64.25},{"$f":"D143-'SPlanar TH'!$D$7*SIN(ATAN($H$129))/2","v":37.400000000000006},"x",64.25,37.400000000000006]
[null,null,{"$f":"C144-'SPlanar TH'!$D$8*SIN(ATAN($H$129))","v":64.25},{"$f":"D144-'SPlanar TH'!$D$8*COS(ATAN($H$129))","v":27.400000000000006},"x",64.25,27.400000000000006]
[null,null,{"$f":"C142-'SPlanar TH'!$D$5*COS(ATAN($H$129))/2","v":50.65},{"$f":"D142-('SPlanar TH'!$D$5)*SIN(ATAN($H$129))/2","v":12.600000000000001},"x",50.65,12.600000000000001]
[]
[null,null,{"$f":"C145","v":64.25},{"$f":"D145","v":27.400000000000006},{"$f":"$E$133","v":"x"},{"$f":"IF(E148=\"x\",C148,\"\")","v":64.25},{"$f":"IF(E148=\"x\",D148,\"\")","v":27.400000000000006}]
[null,null,{"$f":"C138","v":79.25},{"$f":"D138","v":27.400000000000006},{"$f":"$E$133","v":"x"},79.25,27.400000000000006]

{"sheet":"Path","index":2,"n_rows":93,"n_cols":34,"rows_kept":93,"cut":false,"hidden":false,"merged":[]}
[]
[]
[null,null,null,null,null,null,null,null,null,null,null,null,null,null,null,"Exp.","Cos","Sin","Tan","1/2","Cos","Sin","Tan"]
[null,null,null,null,null,null,null,null,null,null,null,null,null,null,1,{"$f":"'SPlanar TH'!H34","v":4.4918920693090474},{"$f":"COS(P4*PI()/180)","v":0.9969284265047943},{"$f":"SIN(P4*PI()/180)","v":7.8318021085028139E-2},{"$f":"TAN(P4*PI()/180)","v":7.8559321815718633E-2},{"$f":"P4/2","v":2.2459460346545237},{"$f":"COS(T4*PI()/180)","v":0.99923181156946617},{"$f":"SIN(T4*PI()/180)","v":3.9189115167388516E-2},{"$f":"TAN(T4*PI()/180)","v":3.9219242936066295E-2}]
[]
[null,null,null,"S","L","W","d","y"]
[null,null,"S1",{"$f":"Q18","v":1006.7200000000001},0,{"$f":"$O$14","v":57.2},null,{"$f":"D7/F7","v":17.600000000000001}]
[null,null,"S2",{"$f":"Q57","v":1006.7208086619752},{"$f":"N57","v":120.64912145963081},57.2,{"$f":"E8-E7","v":120.64912145963081},17.600014137447118,{"$f":"ATAN((H8-H7)/(E8-E7))*180/PI()","v":6.713816421476053E-6}]
[null,null,"S3",{"$f":"Q84","v":2495.5205266131943},{"$f":"N84","v":286.56236437515975},57.2,{"$f":"E9-E8","v":165.91324291552894},43.627981234496403,{"$f":"(ATAN((H9-H8)/(E9-E8))*180/PI())/2","v":4.4578612494491283},{"$f":"I9-'SPlanar TH'!H34","v":-3.403081985991907E-2}]
[]
[null,null,"S5",{"$f":"Q90","v":2917.2},{"$f":"N90","v":0},57.2,{"$f":"E11","v":0},{"$f":"D11/F11","v":50.999999999999993}]
[null,null,"S6",{"$f":"Q93","v":2917.2},{"$f":"N93","v":78.900000000000006},57.2,{"$f":"E12-E11","v":78.900000000000006},{"$f":"D12/F12","v":50.999999999999993},{"$f":"ATAN((H12-H11)/(E12-E11))*180/PI()","v":0}]
[null,null,null,null,null,null,null,null,null,null,null,null,null,null,"W"]
[null,null,null,null,null,null,null,null,null,null,null,null,null,null,{"$f":"'SPlanar TH'!D32","v":57.2}]
["Path Calculations",null,"x","y",null,"x","y",null,"d","x","y","dS","d","L","W","p","S",null,null,"Error",null,null,null,null,"Intersection points","x1","y1","x2","y2","a","b","x","y","l"]
[null,null,{"$f":"Panels!C22","v":72.7},{"$f":"Panels!D22","v":10.700000000000001},null,{"$f":"IF('SPlanar TH'!$I$6=\"x\",C16,0)","v":72.7},{"$f":"IF('SPlanar TH'!$I$6=\"x\",D16,0)","v":10.700000000000001},{"$f":"SUM(C16:C17)/2","v":72.7},{"$f":"SUM(D16:D17)/2","v":6.3000000000000007},{"$f":"IF('SPlanar TH'!$I$5=\"x\",H16,0)","v":72.7},{"$f":"IF('SPlanar TH'!$I$5=\"x\",I16,0)","v":6.3000000000000007}]
[{"$f":"A20+1","v":23},1,{"$f":"Panels!C21","v":72.7},{"$f":"Panels!D21","v":1.9},"S1",{"$f":"IF('SPlanar TH'!$I$6=\"x\",C17,0)","v":72.7},{"$f":"IF('SPlanar TH'!$I$6=\"x\",D17,0)","v":1.9},null,null,{"$f":"J16","v":72.7},{"$f":"K16","v":6.3000000000000007}]
[null,null,null,null,null,null,null,null,null,{"$f":"J17","v":72.7},{"$f":"K17","v":6.3000000000000007},null,0,{"$f":"M18","v":0},{"$f":"$O$14","v":57.2},2,{"$f":"((C16-C17)^2+(D16-D17)^2)^0.5*O18*P18","v":1006.7200000000001},{"$f":"Q18/2","v":503.36000000000007},{"$f":"-R18","v":-503.36000000000007},{"$f":"(U18-R18)*2","v":0},{"$f":"($D$7)/2","v":503.36000000000007},{"$f":"-U18","v":-503.36000000000007}]
[null,null,{"$f":"(C16+C22)/2","v":85.925000000000011},{"$f":"(D16+D22)/2","v":10.700000000000001},null,{"$f":"IF('SPlanar TH'!$I$6=\"x\",C19,0)","v":85.925000000000011},{"$f":"IF('SPlanar TH'!$I$6=\"x\",D19,0)","v":10.700000000000001},{"$f":"SUM(C19:C20)/2","v":85.925000000000011},{"$f":"SUM(D19:D20)/2","v":6.3000000000000007},{"$f":"IF('SPlanar TH'!$I$5=\"x\",H19,0)","v":85.925000000000011},{"$f":"IF('SPlanar TH'!$I$5=\"x\",I19,0)","v":6.3000000000000007},null,{"$f":"M18","v":0},{"$f":"N18","v":0},null,null,{"$f":"Q18","v":1006.7200000000001},503.36000000000007,-503.36000000000007,{"$f":"(U19-R19)*2","v":0},{"$f":"($D$7)/2","v":503.36000000000007},-503.36000000000007]
[22,{"$f":"B17+1","v":2},{"$f":"(C17+C23)/2","v":85.925000000000011},{"$f":"(D17+D23)/2","v":1.9},null,{"$f":"IF('SPlanar TH'!$I$6=\"x\",C20,0)","v":85.925000000000011},{"$f":"IF('SPlanar TH'!$I$6=\"x\",D20,0)","v":1.9},null,null,{"$f":"J19","v":85.925000000000011},{"$f":"K19","v":6.3000000000000007},null,{"$f":"M19","v":0},{"$f":"N19","v":0},null,null,{"$f":"Q19","v":1006.7200000000001},503.36000000000007,-503.36000000000007,0,503.36000000000007,-503.36000000000007]
[null,null,null,null,null,null,null,null,null,{"$f":"J20","v":85.925000000000011},{"$f":"K20","v":6.3000000000000007},null,{"$f":"((H19-H16)^2+(I19-I16)^2)^0.5","v":13.225000000000009},{"$f":"N18+M21","v":13.225000000000009},{"$f":"$O$14","v":57.2},2,{"$f":"((C19-C20)^2+(D19-D20)^2)^0.5*O21*P21","v":1006.7200000000001},503.36000000000007,-503.36000000000007,0,503.36000000000007,-503.36000000000007]
[null,null,{"$f":"Panels!C51","v":99.15},{"$f":"D16","v":10.700000000000001},null,{"$f":"IF('SPlanar TH'!$I$6=\"x\",C22,0)","v":99.15},{"$f":"IF('SPlanar TH'!$I$6=\"x\",D22,0)","v":10.700000000000001},{"$f":"SUM(C22:C23)/2","v":99.15},{"$f":"SUM(D22:D23)/2","v":6.3000000000000007},{"$f":"IF('SPlanar TH'!$I$5=\"x\",H22,0)","v":99.15},{"$f":"IF('SPlanar TH'!$I$5=\"x\",I22,0)","v":6.3000000000000007},null,{"$f":"M21","v":13.225000000000009},{"$f":"N21","v":13.225000000000009},null,null,{"$f":"Q21","v":1006.7200000000001},503.36000000000007,-503.36000000000007,0,503.36000000000007,-503.36000000000007]
[21,{"$f":"B20+1","v":3},{"$f":"C22","v":99.15},{"$f":"D17","v":1.9},null,{"$f":"IF('SPlanar TH'!$I$6=\"x\",C23,0)","v":99.15},{"$f":"IF('SPlanar TH'!$I$6=\"x\",D23,0)","v":1.9},null,null,{"$f":"J22","v":99.15},{"$f":"K22","v":6.3000000000000007},null,{"$f":"M22","v":13.225000000000009},{"$f":"N22","v":13.225000000000009},null,null,1006.7200000000001,503.36000000000007,-503.36000000000007,0,503.36000000000007,-503.36000000000007]
[null,null,null,null,null,null,null,null,null,{"$f":"J23","v":99.15},{"$f":"K23","v":6.3000000000000007},null,{"$f":"((H22-H19)^2+(I22-I19)^2)^0.5","v":13.224999999999994},{"$f":"N21+M24","v":26.450000000000003},{"$f":"$O$14","v":57.2},2,{"$f":"((C22-C23)^2+(D22-D23)^2)^0.5*O24*P24","v":1006.7200000000001},503.36000000000007,-503.36000000000007,0,503.36000000000007,-503.36000000000007]
[null,null,{"$f":"C22","v":99.15},{"$f":"D22","v":10.700000000000001},null,{"$f":"IF('SPlanar TH'!$I$6=\"x\",C25,0)","v":99.15},{"$f":"IF('SPlanar TH'!$I$6=\"x\",D25,0)","v":10.700000000000001},{"$f":"SUM(C25:C26)/2","v":101.35000000000001},{"$f":"SUM(D25:D26)/2","v":6.3000000000000007},{"$f":"IF('SPlanar TH'!$I$5=\"x\",H25,0)","v":101.35000000000001},{"$f":"IF('SPlanar TH'!$I$5=\"x\",I25,0)","v":6.3000000000000007},null,{"$f":"M24","v":13.224999999999994},{"$f":"N24","v":26.450000000000003},null,null,{"$f":"Q24","v":1006.7200000000001},503.36000000000007,-503.36000000000007,0,503.36000000000007,-503.36000000000007]
[20,{"$f":"B23+1","v":4},{"$f":"(C23+Panels!C60)/2","v":103.55000000000001},{"$f":"D23","v":1.9},null,{"$f":"IF('SPlanar TH'!$I$6=\"x\",C26,0)","v":103.55000000000001},{"$f":"IF('SPlanar TH'!$I$6=\"x\",D26,0)","v":1.9},null,null,{"$f":"J25","v":101.35000000000001},{"$f":"K25","v":6.3000000000000007},null,{"$f":"M25","v":13.224999999999994},{"$f":"N25","v":26.450000000000003},null,null,1006.7200000000001,503.36000000000007,-503.36000000000007,0,503.36000000000007,-503.36000000000007]
[null,null,null,null,null,null,null,null,null,{"$f":"J26","v":101.35000000000001},{"$f":"K26","v":6.3000000000000007},null,{"$f":"((H25-H22)^2+(I25-I22)^2)^0.5","v":2.2000000000000028},{"$f":"N24+M27","v":28.650000000000006},{"$f":"$O$14","v":57.2},2,{"$f":"((C25-C26)^2+(D25-D26)^2)^0.5*O27*P27","v":1125.5471771542946},562.77358857714728,-562.77358857714728,-118.82717715429442,503.36000000000007,-503.36000000000007]
[null,null,{"$f":"C25","v":99.15},{"$f":"D25","v":10.700000000000001},null,{"$f":"IF('SPlanar TH'!$I$6=\"x\",C28,0)","v":99.15},{"$f":"IF('SPlanar TH'!$I$6=\"x\",D28,0)","v":10.700000000000001},{"$f":"SUM(C28:C29)/2","v":103.55000000000001},{"$f":"SUM(D28:D29)/2","v":8.5},{"$f":"IF('SPlanar TH'!$I$5=\"x\",H28,0)","v":103.55000000000001},{"$f":"IF('SPlanar TH'!$I$5=\"x\",I28,0)","v":8.5},null,{"$f":"M27","v":2.2000000000000028},{"$f":"N27","v":28.650000000000006},null,null,{"$f":"Q27","v":1125.5471771542946},562.77358857714728,-562.77358857714728,-118.82717715429442,503.36000000000007,-503.36000000000007]
[19,{"$f":"B26+1","v":5},{"$f":"Panels!C60","v":107.95},{"$f":"(D26+D28)/2","v":6.3000000000000007},null,{"$f":"IF('SPlanar TH'!$I$6=\"x\",C29,0)","v":107.95},{"$f":"IF('SPlanar TH'!$I$6=\"x\",D29,0)","v":6.3000000000000007},null,null,{"$f":"J28","v":103.55000000000001},{"$f":"K28","v":8.5},null,{"$f":"M28","v":2.2000000000000028},{"$f":"N28","v":28.650000000000006},null,null,1125.5471771542946,562.77358857714728,-562.77358857714728,-118.82717715429442,503.36000000000007,-503.36000000000007]
[null,null,null,null,null,null,null,null,null,{"$f":"J29","v":103.55000000000001},{"$f":"K29","v":8.5},null,{"$f":"((H28-H25)^2+(I28-I25)^2)^0.5","v":3.111269837220811},{"$f":"N27+M30","v":31.761269837220816},{"$f":"$O$14","v":57.2},2,{"$f":"((C28-C29)^2+(D28-D29)^2)^0.5*O30*P30","v":1125.5471771542939},562.77358857714694,-562.77358857714694,-118.82717715429374,503.36000000000007,-503.36000000000007]
[null,null,{"$f":"C28","v":99.15},{"$f":"D28","v":10.700000000000001},null,{"$f":"IF('SPlanar TH'!$I$6=\"x\",C31,0)","v":99.15},{"$f":"IF('SPlanar TH'!$I$6=\"x\",D31,0)","v":10.700000000000001},{"$f":"SUM(C31:C32)/2","v":103.55000000000001},{"$f":"SUM(D31:D32)/2","v":10.700000000000001},{"$f":"IF('SPlanar TH'!$I$5=\"x\",H31,0)","v":103.55000000000001},{"$f":"IF('SPlanar TH'!$I$5=\"x\",I31,0)","v":10.700000000000001},null,{"$f":"M30","v":3.111269837220811},{"$f":"N30","v":31.761269837220816},null,null,{"$f":"Q30","v":1125.5471771542939},562.77358857714694,-562.77358857714694,-118.82717715429374,503.36000000000007,-503.36000000000007]
[18,{"$f":"B29+1","v":6},{"$f":"C29","v":107.95},{"$f":"D31","v":10.700000000000001},null,{"$f":"IF('SPlanar TH'!$I$6=\"x\",C32,0)","v":107.95},{"$f":"IF('SPlanar TH'!$I$6=\"x\",D32,0)","v":10.700000000000001},null,null,{"$f":"J31","v":103.55000000000001},{"$f":"K31","v":10.700000000000001},null,{"$f":"M31","v":3.111269837220811},{"$f":"N31","v":31.761269837220816},null,null,1125.5471771542939,562.77358857714694,-562.77358857714694,-118.82717715429374,503.36000000000007,-503.36000000000007]
[null,null,null,null,null,null,null,null,null,{"$f":"J32","v":103.55000000000001},{"$f":"K32","v":10.700000000000001},null,{"$f":"((H31-H28)^2+(I31-I28)^2)^0.5","v":2.2000000000000011},{"$f":"N30+M33","v":33.961269837220819},{"$f":"$O$14","v":57.2},2,{"$f":"((C31-C32)^2+(D31-D32)^2)^0.5*O33*P33","v":1006.7199999999997},503.35999999999984,-503.35999999999984,4.5474735088646412E-13,503.36000000000007,-503.36000000000007]
[null,null,{"$f":"C31","v":99.15},{"$f":"Panels!D59","v":80.8},null,{"$f":"IF('SPlanar TH'!$I$6=\"x\",C34,0)","v":99.15},{"$f":"IF('SPlanar TH'!$I$6=\"x\",D34,0)","v":80.8},{"$f":"SUM(C34:C35)/2","v":103.55000000000001},{"$f":"SUM(D34:D35)/2","v":80.8},{"$f":"IF('SPlanar TH'!$I$5=\"x\",H34,0)","v":103.55000000000001},{"$f":"IF('SPlanar TH'!$I$5=\"x\",I34,0)","v":80.8},null,{"$f":"M33","v":2.2000000000000011},{"$f":"N33","v":33.961269837220819},null,null,{"$f":"Q33","v":1006.7199999999997},503.35999999999984,-503.35999999999984,4.5474735088646412E-13,503.36000000000007,-503.36000000000007]
[17,{"$f":"B32+1","v":7},{"$f":"C32","v":107.95},{"$f":"D34","v":80.8},null,{"$f":"IF('SPlanar TH'!$I$6=\"x\",C35,0)","v":107.95},{"$f":"IF('SPlanar TH'!$I$6=\"x\",D35,0)","v":80.8},null,null,{"$f":"J34","v":103.55000000000001},{"$f":"K34","v":80.8},null,{"$f":"M34","v":2.2000000000000011},{"$f":"N34","v":33.961269837220819},null,null,1006.7199999999997,503.35999999999984,-503.35999999999984,4.5474735088646412E-13,503.36000000000007,-503.36000000000007]
[null,null,null,null,null,null,null,null,null,{"$f":"J35","v":103.55000000000001},{"$f":"K35","v":80.8},null,{"$f":"((H34-H31)^2+(I34-I31)^2)^0.5","v":70.099999999999994},{"$f":"N33+M36","v":104.06126983722081},{"$f":"$O$14","v":57.2},2,{"$f":"((C34-C35)^2+(D34-D35)^2)^0.5*O36*P36","v":1006.7199999999997},503.35999999999984,-503.35999999999984,4.5474735088646412E-13,503.36000000000007,-503.36000000000007]
[null,null,{"$f":"C35","v":107.95},{"$f":"D35","v":80.8},null,{"$f":"IF('SPlanar TH'!$I$6=\"x\",C37,0)","v":107.95},{"$f":"IF('SPlanar TH'!$I$6=\"x\",D37,0)","v":80.8},{"$f":"SUM(C37:C38)/2","v":103.55000000000001},{"$f":"SUM(D37:D38)/2","v":83},{"$f":"IF('SPlanar TH'!$I$5=\"x\",H37,0)","v":103.55000000000001},{"$f":"IF('SPlanar TH'!$I$5=\"x\",I37,0)","v":83},null,{"$f":"M36","v":70.099999999999994},{"$f":"N36","v":104.06126983722081},null,null,{"$f":"Q36","v":1006.7199999999997},503.35999999999984,-503.35999999999984,4.5474735088646412E-13,503.36000000000007,-503.36000000000007]
[16,{"$f":"B35+1","v":8},{"$f":"C34","v":99.15},{"$f":"(D37+Panels!D82)/2","v":85.199999999999989},null,{"$f":"IF('SPlanar TH'!$I$6=\"x\",C38,0)","v":99.15},{"$f":"IF('SPlanar TH'!$I$6=\"x\",D38,0)","v":85.199999999999989},null,null,{"$f":"J37","v":103.55000000000001},{"$f":"K37","v":83},null,{"$f":"M37","v":70.099999999999994},{"$f":"N37","v":104.06126983722081},null,null,1006.7199999999997,503.35999999999984,-503.35999999999984,4.5474735088646412E-13,503.36000000000007,-503.36000000000007]
[null,null,null,null,null,null,null,null,null,{"$f":"J38","v":103.55000000000001},{"$f":"K38","v":83},null,{"$f":"((H37-H34)^2+(I37-I34)^2)^0.5","v":2.2000000000000028},{"$f":"N36+M39","v":106.26126983722081},{"$f":"$O$14","v":57.2},2,{"$f":"((C37-C38)^2+(D37-D38)^2)^0.5*O39*P39","v":1125.5471771542934},562.77358857714671,-562.77358857714671,-118.82717715429328,503.36000000000007,-503.36000000000007]
[null,null,{"$f":"C37","v":107.95},{"$f":"D37","v":80.8},null,{"$f":"IF('SPlanar TH'!$I$6=\"x\",C40,0)","v":107.95},{"$f":"IF('SPlanar TH'!$I$6=\"x\",D40,0)","v":80.8},{"$f":"SUM(C40:C41)/2","v":105.75},{"$f":"SUM(D40:D41)/2","v":85.199999999999989},{"$f":"IF('SPlanar TH'!$I$5=\"x\",H40,0)","v":105.75},{"$f":"IF('SPlanar TH'!$I$5=\"x\",I40,0)","v":85.199999999999989},null,{"$f":"M39","v":2.2000000000000028},{"$f":"N39","v":106.26126983722081},null,null,{"$f":"Q39","v":1125.5471771542934},562.77358857714671,-562.77358857714671,-118.82717715429328,503.36000000000007,-503.36000000000007]
[15,{"$f":"B38+1","v":9},{"$f":"(C40+C38)/2","v":103.55000000000001},{"$f":"Panels!D82","v":89.6},null,{"$f":"IF('SPlanar TH'!$I$6=\"x\",C41,0)","v":103.55000000000001},{"$f":"IF('SPlanar TH'!$I$6=\"x\",D41,0)","v":89.6},null,null,{"$f":"J40","v":105.75},{"$f":"K40","v":85.199999999999989},null,{"$f":"M40","v":2.2000000000000028},{"$f":"N40","v":106.26126983722081},null,null,1125.5471771542934,562.77358857714671,-562.77358857714671,-118.82717715429328,503.36000000000007,-503.36000000000007]
[null,null,null,null,null,null,null,null,null,{"$f":"J41","v":105.75},{"$f":"K41","v":85.199999999999989},null,{"$f":"((H40-H37)^2+(I40-I37)^2)^0.5","v":3.1112698372207932},{"$f":"N39+M42","v":109.3725396744416},{"$f":"$O$14","v":57.2},2,{"$f":"((C40-C41)^2+(D40-D41)^2)^0.5*O42*P42","v":1125.5471771542934},562.77358857714671,-562.77358857714671,-118.82717715429328,503.36000000000007,-503.36000000000007]
[null,null,{"$f":"C40","v":107.95},{"$f":"D40","v":80.8},null,{"$f":"IF('SPlanar TH'!$I$6=\"x\",C43,0)","v":107.95},{"$f":"IF('SPlanar TH'!$I$6=\"x\",D43,0)","v":80.8},{"$f":"SUM(C43:C44)/2","v":107.95},{"$f":"SUM(D43:D44)/2","v":85.199999999999989},{"$f":"IF('SPlanar TH'!$I$5=\"x\",H43,0)","v":107.95},{"$f":"IF('SPlanar TH'!$I$5=\"x\",I43,0)","v":85.199999999999989},null,{"$f":"M42","v":3.1112698372207932},{"$f":"N42","v":109.3725396744416},null,null,{"$f":"Q42","v":1125.5471771542934},562.77358857714671,-562.77358857714671,-118.82717715429328,503.36000000000007,-503.36000000000007]
[14,{"$f":"B41+1","v":10},{"$f":"C43","v":107.95},{"$f":"D41","v":89.6},null,{"$f":"IF('SPlanar TH'!$I$6=\"x\",C44,0)","v":107.95},{"$f":"IF('SPlanar TH'!$I$6=\"x\",D44,0)","v":89.6},null,null,{"$f":"J43","v":107.95},{"$f":"K43","v":85.199999999999989},null,{"$f":"M43","v":3.1112698372207932},{"$f":"N43","v":109.3725396744416},null,null,1125.5471771542934,562.77358857714671,-562.77358857714671,-118.82717715429328,503.36000000000007,-503.36000000000007]
[null,null,null,null,null,null,null,null,null,{"$f":"J44","v":107.95},{"$f":"K44","v":85.199999999999989},null,{"$f":"((H43-H40)^2+(I43-I40)^2)^0.5","v":2.2000000000000028},{"$f":"N42+M45","v":111.5725396744416},{"$f":"$O$14","v":57.2},2,{"$f":"((C43-C44)^2+(D43-D44)^2)^0.5*O45*P45","v":1006.7199999999997},503.35999999999984,-503.35999999999984,4.5474735088646412E-13,503.36000000000007,-503.36000000000007]
[null,null,{"$f":"Panels!C58","v":109.85000000000001},{"$f":"Panels!D58","v":80.8},null,{"$f":"IF('SPlanar TH'!$I$6=\"x\",C46,0)","v":109.85000000000001},{"$f":"IF('SPlanar TH'!$I$6=\"x\",D46,0)","v":80.8},{"$f":"SUM(C46:C47)/2","v":109.85000000000001},{"$f":"SUM(D46:D47)/2","v":85.199999999999989},{"$f":"IF('SPlanar TH'!$I$5=\"x\",H46,0)","v":109.85000000000001},{"$f":"IF('SPlanar TH'!$I$5=\"x\",I46,0)","v":85.199999999999989},null,{"$f":"M45","v":2.2000000000000028},{"$f":"N45","v":111.5725396744416},null,null,{"$f":"Q45","v":1006.7199999999997},503.35999999999984,-503.35999999999984,4.5474735088646412E-13,503.36000000000007,-503.36000000000007]
[13,{"$f":"B44+1","v":11},{"$f":"C46","v":109.85000000000001},{"$f":"D44","v":89.6},null,{"$f":"IF('SPlanar TH'!$I$6=\"x\",C47,0)","v":109.85000000000001},{"$f":"IF('SPlanar TH'!$I$6=\"x\",D47,0)","v":89.6},null,null,{"$f":"J46","v":109.85000000000001},{"$f":"K46","v":85.199999999999989},null,{"$f":"M46","v":2.2000000000000028},{"$f":"N46","v":111.5725396744416},null,null,1006.7199999999997,503.35999999999984,-503.35999999999984,4.5474735088646412E-13,503.36000000000007,-503.36000000000007]
[null,null,null,null,null,null,null,null,null,{"$f":"J47","v":109.85000000000001},{"$f":"K47","v":85.199999999999989},null,{"$f":"((H46-H43)^2+(I46-I43)^2)^0.5","v":1.9000000000000057},{"$f":"N45+M48","v":113.47253967444161},{"$f":"$O$14","v":57.2},2,{"$f":"((C46-C47)^2+(D46-D47)^2)^0.5*O48*P48","v":1006.7199999999997},503.35999999999984,-503.35999999999984,4.5474735088646412E-13,503.36000000000007,-503.36000000000007]
[null,null,{"$f":"C46","v":109.85000000000001},{"$f":"D46","v":80.8},null,{"$f":"IF('SPlanar TH'!$I$6=\"x\",C49,0)","v":109.85000000000001},{"$f":"IF('SPlanar TH'!$I$6=\"x\",D49,0)","v":80.8},{"$f":"SUM(C49:C50)/2","v":111.88213970555735},{"$f":"SUM(D49:D50)/2","v":85.199999999999989},{"$f":"IF('SPlanar TH'!$I$5=\"x\",H49,0)","v":111.88213970555735},{"$f":"IF('SPlanar TH'!$I$5=\"x\",I49,0)","v":85.199999999999989},null,{"$f":"M48","v":1.9000000000000057},{"$f":"N48","v":113.47253967444161},null,null,{"$f":"Q48","v":1006.7199999999997},503.35999999999984,-503.35999999999984,4.5474735088646412E-13,503.36000000000007,-503.36000000000007]
[12,{"$f":"B47+1","v":12},{"$f":"(C49+Panels!C41+'SPlanar TH'!E41*R4)/2","v":113.91427941111469},{"$f":"D47","v":89.6},null,{"$f":"IF('SPlanar TH'!$I$6=\"x\",C50,0)","v":113.91427941111469},{"$f":"IF('SPlanar TH'!$I$6=\"x\",D50,0)","v":89.6},null,null,{"$f":"J49","v":111.88213970555735},{"$f":"K49","v":85.199999999999989},null,{"$f":"M49","v":1.9000000000000057},{"$f":"N49","v":113.47253967444161},null,null,1006.7199999999997,{"$f":"Q50/2","v":503.35999999999984},{"$f":"-R50","v":-503.35999999999984},4.5474735088646412E-13,503.36000000000007,{"$f":"-U50","v":-503.36000000000007}]
[null,null,null,null,null,null,null,null,null,{"$f":"J50","v":111.88213970555735},{"$f":"K50","v":85.199999999999989},null,{"$f":"((H49-H46)^2+(I49-I46)^2)^0.5","v":2.0321397055573414},{"$f":"N48+M51","v":115.50467937999895},{"$f":"$O$14","v":57.2},2,{"$f":"((C49-C50)^2+(D49-D50)^2)^0.5*O51*P51","v":1108.9035015110901},554.45175075554505,-554.45175075554505,-102.18350151108996,503.36000000000007,-503.36000000000007]
[null,null,{"$f":"C49","v":109.85000000000001},{"$f":"D49","v":80.8},null,{"$f":"IF('SPlanar TH'!$I$6=\"x\",C52,0)","v":109.85000000000001},{"$f":"IF('SPlanar TH'!$I$6=\"x\",D52,0)","v":80.8},{"$f":"SUM(C52:C53)/2","v":114.08045145683354},{"$f":"SUM(D52:D53)/2","v":83},{"$f":"IF('SPlanar TH'!$I$5=\"x\",H52,0)","v":114.08045145683354},{"$f":"IF('SPlanar TH'!$I$5=\"x\",I52,0)","v":83},null,{"$f":"M51","v":2.0321397055573414},{"$f":"N51","v":115.50467937999895},null,null,{"$f":"Q51","v":1108.9035015110901},554.45175075554505,-554.45175075554505,-102.18350151108996,503.36000000000007,-503.36000000000007]
[11,{"$f":"B50+1","v":13},{"$f":"(C56+Panels!C41+'SPlanar TH'!E41*R4)/2","v":118.31090291366706},{"$f":"(D50+D52)/2","v":85.199999999999989},null,{"$f":"IF('SPlanar TH'!$I$6=\"x\",C53,0)","v":118.31090291366706},{"$f":"IF('SPlanar TH'!$I$6=\"x\",D53,0)","v":85.199999999999989},null,null,{"$f":"J52","v":114.08045145683354},{"$f":"K52","v":83},null,{"$f":"M52","v":2.0321397055573414},{"$f":"N52","v":115.50467937999895},null,null,1108.9035015110901,554.45175075554505,-554.45175075554505,-102.18350151108996,503.36000000000007,-503.36000000000007]
[null,null,null,null,null,null,null,null,null,{"$f":"J53","v":114.08045145683354},{"$f":"K53","v":83},null,{"$f":"((H52-H49)^2+(I52-I49)^2)^0.5","v":3.1100762942087057},{"$f":"N51+M54","v":118.61475567420766},{"$f":"$O$14","v":57.2},2,{"$f":"((C52-C53)^2+(D52-D53)^2)^0.5*O54*P54","v":1090.9878710419184},545.49393552095921,-545.49393552095921,-84.267871041918283,503.36000000000007,-503.36000000000007]
[null,null,{"$f":"C49","v":109.85000000000001},{"$f":"D49","v":80.8},"S2",{"$f":"IF('SPlanar TH'!$I$6=\"x\",C55,0)","v":109.85000000000001},{"$f":"IF('SPlanar TH'!$I$6=\"x\",D55,0)","v":80.8},{"$f":"SUM(C55:C56)/2","v":114.24662350255238},{"$f":"SUM(D55:D56)/2","v":80.972432245245074},{"$f":"IF('SPlanar TH'!$I$5=\"x\",H55,0)","v":114.24662350255238},{"$f":"IF('SPlanar TH'!$I$5=\"x\",I55,0)","v":80.972432245245074},null,{"$f":"M54","v":3.1100762942087057},{"$f":"N54","v":118.61475567420766},null,null,{"$f":"Q54","v":1090.9878710419184},545.49393552095921,-545.49393552095921,-84.267871041918283,503.36000000000007,-503.36000000000007,null,null,null,{"$f":"Panels!C58","v":109.85000000000001},{"$f":"Panels!D58","v":80.8},{"$f":"Z55+100*U4","v":209.77318115694663},{"$f":"AA55+100*V4","v":84.718911516738842},{"$f":"(AC55-AA55)/(AB55-Z55)","v":3.9219242936066226E-2},{"$f":"(AC55*Z55-AA55*AB55)/(Z55-AB55)","v":76.491766163473116}]
[10,{"$f":"B53+1","v":14},{"$f":"AF56","v":118.64324700510475},{"$f":"AG56","v":81.144864490490136},null,{"$f":"IF('SPlanar TH'!$I$6=\"x\",C56,0)","v":118.64324700510475},{"$f":"IF('SPlanar TH'!$I$6=\"x\",D56,0)","v":81.144864490490136},null,null,{"$f":"J55","v":114.24662350255238},{"$f":"K55","v":80.972432245245074},null,{"$f":"M55","v":3.1100762942087057},{"$f":"N55","v":118.61475567420766},null,null,1090.9878710419184,545.49393552095921,-545.49393552095921,-84.267871041918283,503.36000000000007,-503.36000000000007,null,null,null,{"$f":"Panels!C75","v":117.82975458216781},{"$f":"Panels!D75","v":91.5},{"$f":"Panels!C76","v":123.70480657336708},{"$f":"Panels!D76","v":16.715087714469703},{"$f":"IF(AB56<>Z56,(AC56-AA56)/(AB56-Z56),\"\")","v":-12.729234123809769},{"$f":"IF(AD56<>\"\",(AC56*Z56-AA56*AB56)/(Z56-AB56),Z56)","v":1591.3825328274609},{"$f":"IF(AD56<>\"\",(AE55-AE56)/(AD56-AD55),Z56)","v":118.64324700510475},{"$f":"IF(AD56<>\"\",AF56*AD56+AE56,AF56*AD55+AE55)","v":81.144864490490136}]
[null,null,null,null,null,null,null,null,null,{"$f":"J56","v":114.24662350255238},{"$f":"K56","v":80.972432245245074},null,{"$f":"((H55-H52)^2+(I55-I52)^2)^0.5","v":2.0343657854231418},{"$f":"N54+M57","v":120.64912145963081},{"$f":"$O$14","v":57.2},2,{"$f":"((C55-C56)^2+(D55-D56)^2)^0.5*O57*P57","v":1006.7208086619752},503.36040433098759,-503.36040433098759,-8.0866197504292359E-4,503.36000000000007,-503.36000000000007]
[null,null,{"$f":"Panels!C76","v":123.70480657336708},{"$f":"Panels!D76","v":16.715087714469703},null,{"$f":"IF('SPlanar TH'!$I$6=\"x\",C58,0)","v":123.70480657336708},{"$f":"IF('SPlanar TH'!$I$6=\"x\",D58,0)","v":16.715087714469703},{"$f":"SUM(C58:C59)/2","v":116.77740328668355},{"$f":"SUM(D58:D59)/2","v":16.443400202053155},{"$f":"IF('SPlanar TH'!$I$5=\"x\",H58,0)","v":116.77740328668355},{"$f":"IF('SPlanar TH'!$I$5=\"x\",I58,0)","v":16.443400202053155},null,{"$f":"M57","v":2.0343657854231418},{"$f":"N57","v":120.64912145963081},null,null,{"$f":"Q57","v":1006.7208086619752},503.36040433098759,-503.36040433098759,0,{"$f":"(($D$9-$D$8)*(N58-$E$8)/($E$9-$E$8)+$D$8)/2","v":503.36040433098759},-503.36040433098759]
[9,{"$f":"B56+1","v":15},{"$f":"C55","v":109.85000000000001},{"$f":"D58-(C58-C59)*W4","v":16.17171268963661},null,{"$f":"IF('SPlanar TH'!$I$6=\"x\",C59,0)","v":109.85000000000001},{"$f":"IF('SPlanar TH'!$I$6=\"x\",D59,0)","v":16.17171268963661},null,null,{"$f":"J58","v":116.77740328668355},{"$f":"K58","v":16.443400202053155},null,{"$f":"M58","v":2.0343657854231418},{"$f":"N58","v":120.64912145963081},null,null,1006.7208086619752,503.36040433098759,-503.36040433098759,0,{"$f":"(($D$9-$D$8)*(N59-$E$8)/($E$9-$E$8)+$D$8)/2","v":503.36040433098759},-503.36040433098759]
[null,null,null,null,null,null,null,null,null,{"$f":"J59","v":116.77740328668355},{"$f":"K59","v":16.443400202053155},null,{"$f":"((H58-H55)^2+(I58-I55)^2)^0.5","v":64.578640607766417},{"$f":"N57+M60","v":185.22776206739724},{"$f":"$O$14","v":57.2},2,{"$f":"((C58-C59)^2+(D58-D59)^2)^0.5*O60*P60","v":1586.2083789182939},793.10418945914694,-793.10418945914694,-5.3009898692835122E-7,793.10418919409744,-793.10418919409744]
[null,null,{"$f":"C58","v":123.70480657336708},{"$f":"D58","v":16.715087714469703},null,{"$f":"IF('SPlanar TH'!$I$6=\"x\",C61,0)","v":123.70480657336708},{"$f":"IF('SPlanar TH'!$I$6=\"x\",D61,0)","v":16.715087714469703},{"$f":"SUM(C61:C62)/2","v":116.77740328668355},{"$f":"SUM(D61:D62)/2","v":12.875472029644005},{"$f":"IF('SPlanar TH'!$I$5=\"x\",H61,0)","v":116.77740328668355},{"$f":"IF('SPlanar TH'!$I$5=\"x\",I61,0)","v":12.875472029644005},null,{"$f":"M60","v":64.578640607766417},{"$f":"N60","v":185.22776206739724},null,null,{"$f":"Q60","v":1586.2083789182939},793.10418945914694,-793.10418945914694,-5.3009898692835122E-7,793.10418919409744,-793.10418919409744]
[8,{"$f":"B59+1","v":16},{"$f":"C59","v":109.85000000000001},{"$f":"(D59+D26)/2","v":9.0358563448183045},null,{"$f":"IF('SPlanar TH'!$I$6=\"x\",C62,0)","v":109.85000000000001},{"$f":"IF('SPlanar TH'!$I$6=\"x\",D62,0)","v":9.0358563448183045},null,null,{"$f":"J61","v":116.77740328668355},{"$f":"K61","v":12.875472029644005},null,{"$f":"M61","v":64.578640607766417},{"$f":"N61","v":185.22776206739724},null,null,1586.2083789182939,793.10418945914694,-793.10418945914694,-5.3009898692835122E-7,793.10418919409744,-793.10418919409744]
[null,null,null,null,null,null,null,null,null,{"$f":"J62","v":116.77740328668355},{"$f":"K62","v":12.875472029644005},null,{"$f":"((H61-H58)^2+(I61-I58)^2)^0.5","v":3.5679281724091503},{"$f":"N60+M63","v":188.79569023980639},{"$f":"$O$14","v":57.2},2,{"$f":"((C61-C62)^2+(D61-D62)^2)^0.5*O63*P63","v":1812.1706026261929},906.08530131309647,-906.08530131309647,-193.94591038981775,809.11234611818759,-809.11234611818759]
[null,null,{"$f":"C61","v":123.70480657336708},{"$f":"D61","v":16.715087714469703},null,{"$f":"IF('SPlanar TH'!$I$6=\"x\",C64,0)","v":123.70480657336708},{"$f":"IF('SPlanar TH'!$I$6=\"x\",D64,0)","v":16.715087714469703},{"$f":"SUM(C64:C65)/2","v":120.38636406107355},{"$f":"SUM(D64:D65)/2","v":9.307543857234851},{"$f":"IF('SPlanar TH'!$I$5=\"x\",H64,0)","v":120.38636406107355},{"$f":"IF('SPlanar TH'!$I$5=\"x\",I64,0)","v":9.307543857234851},null,{"$f":"M63","v":3.5679281724091503},{"$f":"N63","v":188.79569023980639},null,null,{"$f":"Q63","v":1812.1706026261929},906.08530131309647,-906.08530131309647,-193.94591038981775,809.11234611818759,-809.11234611818759]
[7,{"$f":"B62+1","v":17},{"$f":"(C62+C68)/2","v":117.06792154878001},{"$f":"D68","v":1.9},null,{"$f":"IF('SPlanar TH'!$I$6=\"x\",C65,0)","v":117.06792154878001},{"$f":"IF('SPlanar TH'!$I$6=\"x\",D65,0)","v":1.9},null,null,{"$f":"J64","v":120.38636406107355},{"$f":"K64","v":9.307543857234851},null,{"$f":"M64","v":3.5679281724091503},{"$f":"N64","v":188.79569023980639},null,null,1812.1706026261929,906.08530131309647,-906.08530131309647,-193.94591038981775,809.11234611818759,-809.11234611818759]
[null,null,null,null,null,null,null,null,null,{"$f":"J65","v":120.38636406107355},{"$f":"K65","v":9.307543857234851},null,{"$f":"((H64-H61)^2+(I64-I61)^2)^0.5","v":5.0749097838835109},{"$f":"N63+M66","v":193.87060002368989},{"$f":"$O$14","v":57.2},2,{"$f":"((C64-C65)^2+(D64-D65)^2)^0.5*O66*P66","v":1857.1425072024997},928.57125360124985,-928.57125360124985,-193.37880842208165,831.88184939020903,-831.88184939020903]
[null,null,{"$f":"C64","v":123.70480657336708},{"$f":"D64","v":16.715087714469703},null,{"$f":"IF('SPlanar TH'!$I$6=\"x\",C67,0)","v":123.70480657336708},{"$f":"IF('SPlanar TH'!$I$6=\"x\",D67,0)","v":16.715087714469703},{"$f":"SUM(C67:C68)/2","v":123.99532483546355},{"$f":"SUM(D67:D68)/2","v":9.307543857234851},{"$f":"IF('SPlanar TH'!$I$5=\"x\",H67,0)","v":123.99532483546355},{"$f":"IF('SPlanar TH'!$I$5=\"x\",I67,0)","v":9.307543857234851},null,{"$f":"M66","v":5.0749097838835109},{"$f":"N66","v":193.87060002368989},null,null,{"$f":"Q66","v":1857.1425072024997},928.57125360124985,-928.57125360124985,-193.37880842208165,831.88184939020903,-831.88184939020903]
[6,{"$f":"B65+1","v":18},{"$f":"C67+(D67-D68)*W4","v":124.28584309756},{"$f":"D26","v":1.9},null,{"$f":"IF('SPlanar TH'!$I$6=\"x\",C68,0)","v":124.28584309756},{"$f":"IF('SPlanar TH'!$I$6=\"x\",D68,0)","v":1.9},null,null,{"$f":"J67","v":123.99532483546355},{"$f":"K67","v":9.307543857234851},null,{"$f":"M67","v":5.0749097838835109},{"$f":"N67","v":193.87060002368989},null,null,1857.1425072024997,928.57125360124985,-928.57125360124985,-193.37880842208165,831.88184939020903,-831.88184939020903]
[null,null,null,null,null,null,null,null,null,{"$f":"J68","v":123.99532483546355},{"$f":"K68","v":9.307543857234851},null,{"$f":"((H67-H64)^2+(I67-I64)^2)^0.5","v":3.608960774389999},{"$f":"N66+M69","v":197.47956079807989},{"$f":"$O$14","v":57.2},2,{"$f":"((C67-C68)^2+(D67-D68)^2)^0.5*O69*P69","v":1696.1489965709616},848.07449828548079,-848.07449828548079,-7.8351916363317287E-4,848.07410652589897,-848.07410652589897]
[null,null,{"$f":"Panels!C77","v":125.59897058372619},{"$f":"Panels!D77","v":16.863891954531258},null,{"$f":"IF('SPlanar TH'!$I$6=\"x\",C70,0)","v":125.59897058372619},{"$f":"IF('SPlanar TH'!$I$6=\"x\",D70,0)","v":16.863891954531258},{"$f":"SUM(C70:C71)/2","v":125.89240684064309},{"$f":"SUM(D70:D71)/2","v":9.3819459772656284},{"$f":"IF('SPlanar TH'!$I$5=\"x\",H70,0)","v":125.89240684064309},{"$f":"IF('SPlanar TH'!$I$5=\"x\",I70,0)","v":9.3819459772656284},null,{"$f":"M69","v":3.608960774389999},{"$f":"N69","v":197.47956079807989},null,null,{"$f":"Q69","v":1696.1489965709616},848.07449828548079,-848.07449828548079,-7.8351916363317287E-4,848.07410652589897,-848.07410652589897]
[5,{"$f":"B68+1","v":19},{"$f":"C70+(D70-D71)*W4","v":126.18584309756},{"$f":"D68","v":1.9},null,{"$f":"IF('SPlanar TH'!$I$6=\"x\",C71,0)","v":126.18584309756},{"$f":"IF('SPlanar TH'!$I$6=\"x\",D71,0)","v":1.9},null,null,{"$f":"J70","v":125.89240684064309},{"$f":"K70","v":9.3819459772656284},null,{"$f":"M70","v":3.608960774389999},{"$f":"N70","v":197.47956079807989},null,null,1696.1489965709616,848.07449828548079,-848.07449828548079,-7.8351916363317287E-4,848.07410652589897,-848.07410652589897]
[null,null,null,null,null,null,null,null,null,{"$f":"J71","v":125.89240684064309},{"$f":"K71","v":9.3819459772656284},null,{"$f":"((H70-H67)^2+(I70-I67)^2)^0.5","v":1.8985404419819725},{"$f":"N69+M72","v":199.37810124006185},{"$f":"$O$14","v":57.2},2,{"$f":"((C70-C71)^2+(D70-D71)^2)^0.5*O72*P72","v":1713.1852887165289},856.59264435826447,-856.59264435826447,-7.8353474850700877E-4,856.59225259089021,-856.59225259089021]
[null,null,{"$f":"C70","v":125.59897058372619},{"$f":"D70","v":16.863891954531258},null,{"$f":"IF('SPlanar TH'!$I$6=\"x\",C73,0)","v":125.59897058372619},{"$f":"IF('SPlanar TH'!$I$6=\"x\",D73,0)","v":16.863891954531258},{"$f":"SUM(C73:C74)/2","v":129.74594606625311},{"$f":"SUM(D73:D74)/2","v":9.3819459772656284},{"$f":"IF('SPlanar TH'!$I$5=\"x\",H73,0)","v":129.74594606625311},{"$f":"IF('SPlanar TH'!$I$5=\"x\",I73,0)","v":9.3819459772656284},null,{"$f":"M72","v":1.8985404419819725},{"$f":"N72","v":199.37810124006185},null,null,{"$f":"Q72","v":1713.1852887165289},856.59264435826447,-856.59264435826447,-7.8353474850700877E-4,856.59225259089021,-856.59225259089021]
[4,{"$f":"B71+1","v":20},{"$f":"(C71+Panels!C10)/2","v":133.89292154878001},{"$f":"D71","v":1.9},null,{"$f":"IF('SPlanar TH'!$I$6=\"x\",C74,0)","v":133.89292154878001},{"$f":"IF('SPlanar TH'!$I$6=\"x\",D74,0)","v":1.9},null,null,{"$f":"J73","v":129.74594606625311},{"$f":"K73","v":9.3819459772656284},null,{"$f":"M73","v":1.8985404419819725},{"$f":"N73","v":199.37810124006185},null,null,1713.1852887165289,856.59264435826447,-856.59264435826447,-7.8353474850700877E-4,856.59225259089021,-856.59225259089021]
[null,null,null,null,null,null,null,null,null,{"$f":"J74","v":129.74594606625311},{"$f":"K74","v":9.3819459772656284},null,{"$f":"((H73-H70)^2+(I73-I70)^2)^0.5","v":3.8535392256100209},{"$f":"N72+M75","v":203.23164046567189},{"$f":"$O$14","v":57.2},2,{"$f":"((C73-C74)^2+(D73-D74)^2)^0.5*O75*P75","v":1957.2355118517848},978.61775592589242,-978.61775592589242,-209.4718012287417,873.88185531152158,-873.88185531152158]
[null,null,{"$f":"C73","v":125.59897058372619},{"$f":"D73","v":16.863891954531258},null,{"$f":"IF('SPlanar TH'!$I$6=\"x\",C76,0)","v":125.59897058372619},{"$f":"IF('SPlanar TH'!$I$6=\"x\",D76,0)","v":16.863891954531258},{"$f":"SUM(C76:C77)/2","v":133.59948529186309},{"$f":"SUM(D76:D77)/2","v":13.27980603087444},{"$f":"IF('SPlanar TH'!$I$5=\"x\",H76,0)","v":133.59948529186309},{"$f":"IF('SPlanar TH'!$I$5=\"x\",I76,0)","v":13.27980603087444},null,{"$f":"M75","v":3.8535392256100209},{"$f":"N75","v":203.23164046567189},null,null,{"$f":"Q75","v":1957.2355118517848},978.61775592589242,-978.61775592589242,-209.4718012287417,873.88185531152158,-873.88185531152158]
[{"$f":"A80+1","v":3},{"$f":"B74+1","v":21},{"$f":"C80","v":141.6},{"$f":"(D74+D80)/2","v":9.6957201072176211},null,{"$f":"IF('SPlanar TH'!$I$6=\"x\",C77,0)","v":141.6},{"$f":"IF('SPlanar TH'!$I$6=\"x\",D77,0)","v":9.6957201072176211},null,null,{"$f":"J76","v":133.59948529186309},{"$f":"K76","v":13.27980603087444},null,{"$f":"M76","v":3.8535392256100209},{"$f":"N76","v":203.23164046567189},null,null,1957.2355118517848,978.61775592589242,-978.61775592589242,-209.4718012287417,873.88185531152158,-873.88185531152158]
[null,null,null,null,null,null,null,null,null,{"$f":"J77","v":133.59948529186309},{"$f":"K77","v":13.27980603087444},null,{"$f":"((H76-H73)^2+(I76-I73)^2)^0.5","v":5.4811565897020342},{"$f":"N75+M78","v":208.71279705537393},{"$f":"$O$14","v":57.2},2,{"$f":"((C76-C77)^2+(D76-D77)^2)^0.5*O78*P78","v":2005.8063265450078},1002.9031632725039,-1002.9031632725039,-208.8582094128983,898.47405856605474,-898.47405856605474]
[null,null,{"$f":"C76","v":125.59897058372619},{"$f":"D76","v":16.863891954531258},null,{"$f":"IF('SPlanar TH'!$I$6=\"x\",C79,0)","v":125.59897058372619},{"$f":"IF('SPlanar TH'!$I$6=\"x\",D79,0)","v":16.863891954531258},{"$f":"SUM(C79:C80)/2","v":133.59948529186309},{"$f":"SUM(D79:D80)/2","v":17.177666084483249},{"$f":"IF('SPlanar TH'!$I$5=\"x\",H79,0)","v":133.59948529186309},{"$f":"IF('SPlanar TH'!$I$5=\"x\",I79,0)","v":17.177666084483249},null,{"$f":"M78","v":5.4811565897020342},{"$f":"N78","v":208.71279705537393},null,null,{"$f":"Q78","v":2005.8063265450078},1002.9031632725039,-1002.9031632725039,-208.8582094128983,898.47405856605474,-898.47405856605474]
[{"$f":"A83+1","v":2},{"$f":"B77+1","v":22},{"$f":"Panels!C10","v":141.6},{"$f":"D79+(C80-C79)*W4","v":17.491440214435244},null,{"$f":"IF('SPlanar TH'!$I$6=\"x\",C80,0)","v":141.6},{"$f":"IF('SPlanar TH'!$I$6=\"x\",D80,0)","v":17.491440214435244},null,null,{"$f":"J79","v":133.59948529186309},{"$f":"K79","v":17.177666084483249},null,{"$f":"M79","v":5.4811565897020342},{"$f":"N79","v":208.71279705537393},null,null,2005.8063265450078,1002.9031632725039,-1002.9031632725039,-208.8582094128983,898.47405856605474,-898.47405856605474]
[null,null,null,null,null,null,null,null,null,{"$f":"J80","v":133.59948529186309},{"$f":"K80","v":17.177666084483249},null,{"$f":"((H79-H76)^2+(I79-I76)^2)^0.5","v":3.8978600536088095},{"$f":"N78+M81","v":212.61065710898274},{"$f":"$O$14","v":57.2},2,{"$f":"((C79-C80)^2+(D79-D80)^2)^0.5*O81*P81","v":1831.9250288344799},915.96251441723996,-915.96251441723996,6.0703837334585842E-7,915.96251472075915,-915.96251472075915]
[null,null,{"$f":"Panels!C13","v":141.6},{"$f":"Panels!D9","v":91.5},"S3",{"$f":"IF('SPlanar TH'!$I$6=\"x\",C82,0)","v":141.6},{"$f":"IF('SPlanar TH'!$I$6=\"x\",D82,0)","v":91.5},{"$f":"SUM(C82:C83)/2","v":130.70138331898386},{"$f":"SUM(D82:D83)/2","v":91.072564504720162},{"$f":"IF('SPlanar TH'!$I$5=\"x\",H82,0)","v":130.70138331898386},{"$f":"IF('SPlanar TH'!$I$5=\"x\",I82,0)","v":91.072564504720162},null,{"$f":"M81","v":3.8978600536088095},{"$f":"N81","v":212.61065710898274},null,null,{"$f":"Q81","v":1831.9250288344799},{"$f":"Q82/2","v":915.96251441723996},{"$f":"-R82","v":-915.96251441723996},6.0703837334585842E-7,915.96251472075915,{"$f":"-U82","v":-915.96251472075915},null,null,null,{"$f":"Panels!C9","v":141.6},{"$f":"Panels!D9","v":91.5},{"$f":"Z82-100*U4","v":41.676818843053383},{"$f":"AA82-100*V4","v":87.581088483261155},{"$f":"(AC82-AA82)/(AB82-Z82)","v":3.9219242936066233E-2},{"$f":"(AC82*Z82-AA82*AB82)/(Z82-AB82)","v":85.946555200253002}]
[{"$f":"A86+1","v":1},{"$f":"B80+1","v":23},{"$f":"AF83","v":119.80276663796774},{"$f":"AG83","v":90.645129009440325},null,{"$f":"IF('SPlanar TH'!$I$6=\"x\",C83,0)","v":119.80276663796774},{"$f":"IF('SPlanar TH'!$I$6=\"x\",D83,0)","v":90.645129009440325},null,null,{"$f":"J82","v":130.70138331898386},{"$f":"K82","v":91.072564504720162},null,{"$f":"M82","v":3.8978600536088095},{"$f":"N82","v":212.61065710898274},null,null,1831.9250288344799,915.96251441723996,-915.96251441723996,{"$f":"(U83-R83)*2","v":6.0703837334585842E-7},915.96251472075915,-915.96251472075915,null,null,null,{"$f":"Panels!C77","v":125.59897058372619},{"$f":"Panels!D77","v":16.863891954531258},{"$f":"Panels!C78","v":119.72391859252691},{"$f":"Panels!D78","v":91.648804240061551},{"$f":"IF(AB83<>Z83,(AC83-AA83)/(AB83-Z83),\"\")","v":-12.729234123809769},{"$f":"IF(AD83<>\"\",(AC83*Z83-AA83*AB83)/(Z83-AB83),Z83)","v":1615.6425942242779},{"$f":"IF(AD83<>\"\",(AE82-AE83)/(AD83-AD82),Z83)","v":119.80276663796774},{"$f":"IF(AD83<>\"\",AF83*AD83+AE83,AF83*AD82+AE82)","v":90.645129009440325}]
[null,null,null,null,null,null,null,null,null,{"$f":"J83","v":130.70138331898386},{"$f":"K83","v":91.072564504720162},null,{"$f":"((H82-H79)^2+(I82-I79)^2)^0.5","v":73.951707266177024},{"$f":"N81+M84","v":286.56236437515975},{"$f":"$O$14","v":57.2},2,{"$f":"((C82-C83)^2+(D82-D83)^2)^0.5*O84*P84","v":2495.5205266131943},1247.7602633065972,-1247.7602633065972,0,1247.7602633065972,-1247.7602633065972]
[]
[]
[]
[null,null,{"$f":"Panels!C90","v":46.250000000000007},{"$f":"Panels!D90","v":12.600000000000001},"S4",{"$f":"IF('SPlanar TH'!$I$6=\"x\",C88,0)","v":46.250000000000007},{"$f":"IF('SPlanar TH'!$I$6=\"x\",D88,0)","v":12.600000000000001},{"$f":"SUM(C88:C89)/2","v":71.75},{"$f":"SUM(D88:D89)/2","v":12.600000000000001},{"$f":"IF('SPlanar TH'!$I$5=\"x\",H88,0)","v":71.75},{"$f":"IF('SPlanar TH'!$I$5=\"x\",I88,0)","v":12.600000000000001},null,null,null,null,null,{"$f":"Q87","v":0}]
[{"$f":"A92+1","v":2},{"$f":"B86+1","v":1},{"$f":"Panels!C84","v":97.25},{"$f":"Panels!D84","v":12.600000000000001},null,{"$f":"IF('SPlanar TH'!$I$6=\"x\",C89,0)","v":97.25},{"$f":"IF('SPlanar TH'!$I$6=\"x\",D89,0)","v":12.600000000000001},null,null,{"$f":"J88","v":71.75},{"$f":"K88","v":12.600000000000001},null,null,null,null,null,0]
[null,null,null,null,null,null,null,null,null,{"$f":"J89","v":71.75},{"$f":"K89","v":12.600000000000001},null,0,{"$f":"N87+M90","v":0},{"$f":"$O$14","v":57.2},1,{"$f":"((C88-C89)^2+(D88-D89)^2)^0.5*O90*P90","v":2917.2}]
[null,null,{"$f":"Panels!C45","v":46.250000000000007},{"$f":"Panels!D45","v":91.5},"S5",{"$f":"IF('SPlanar TH'!$I$6=\"x\",C91,0)","v":46.250000000000007},{"$f":"IF('SPlanar TH'!$I$6=\"x\",D91,0)","v":91.5},{"$f":"SUM(C91:C92)/2","v":71.75},{"$f":"SUM(D91:D92)/2","v":91.5},{"$f":"IF('SPlanar TH'!$I$5=\"x\",H91,0)","v":71.75},{"$f":"IF('SPlanar TH'!$I$5=\"x\",I91,0)","v":91.5},null,{"$f":"M90","v":0},{"$f":"N90","v":0},null,null,{"$f":"Q90","v":2917.2}]
[1,{"$f":"B89+1","v":2},{"$f":"Panels!C39","v":97.25},{"$f":"Panels!D39","v":91.5},null,{"$f":"IF('SPlanar TH'!$I$6=\"x\",C92,0)","v":97.25},{"$f":"IF('SPlanar TH'!$I$6=\"x\",D92,0)","v":91.5},null,null,{"$f":"J91","v":71.75},{"$f":"K91","v":91.5},null,{"$f":"M91","v":0},{"$f":"N91","v":0},null,null,2917.2]
[null,null,null,null,null,null,null,null,null,{"$f":"J92","v":71.75},{"$f":"K92","v":91.5},null,{"$f":"((H91-H88)^2+(I91-I88)^2)^0.5","v":78.900000000000006},{"$f":"N90+M93","v":78.900000000000006},{"$f":"$O$14","v":57.2},1,{"$f":"((C91-C92)^2+(D91-D92)^2)^0.5*O93*P93","v":2917.2}]