{"text_format":"1","workbook":"xlsx","n_sheets":3,"sheets":["ROAR TH","Panels","Path"],"not_rendered":{"charts":5,"images":0,"macros":1,"external_links":0,"defined_names":0,"comments":0,"pivot_tables":0},"unopened":[],"bounds":{"document_bytes":16777216,"sheet_cells":100000,"rows_first":2000,"rows_last":500,"rows_between":2000,"halvings":0,"cell_chars":16384,"cell_head_chars":4096},"cells_cut":0,"cells_raw":0,"read":"whole","date_system":"1900"}

{"sheet":"ROAR TH","index":0,"n_rows":105,"n_cols":13,"rows_kept":105,"cut":false,"hidden":false,"merged":[[4,9,4,11],[6,9,6,11],[10,9,10,11],[15,9,15,11],[5,9,5,11],[71,3,71,7],[11,9,11,11],[12,9,12,11],[13,9,13,11],[14,9,14,11],[65,3,65,17],[67,3,67,7],[68,3,68,7],[69,3,69,7],[70,3,70,7],[83,3,83,7],[72,3,72,7],[73,3,73,7],[74,3,74,7],[75,3,75,7],[76,3,76,7],[77,3,77,7],[78,3,78,7],[79,3,79,7],[80,3,80,7],[81,3,81,7],[82,3,82,7],[95,3,95,7],[84,3,84,7],[85,3,85,7],[86,3,86,7],[87,3,87,7],[88,3,88,7],[89,3,89,7],[90,3,90,7],[91,3,91,7],[92,3,92,7],[93,3,93,7],[94,3,94,7],[102,3,102,7],[103,3,103,7],[104,3,104,7],[96,3,96,7],[97,3,97,7],[98,3,98,7],[99,3,99,7],[100,3,100,7],[101,3,101,7]]}
[null,"Version","=",0.3]
[]
[null,"Driver"]
[null,"Frame Width","=",46.7,"cm",{"$f":"D4/2.54","v":18.385826771653544},"in",null,null,"Plot"]
[null,"Mounting Width","=",42.2,"cm",{"$f":"D5/2.54","v":16.614173228346459},"in",null,"x","Advanced Centerline"]
[null,"Mounting Depth","=",20.9,"cm",8.228346456692913,"in",null,"x","Sample points"]
[null,"Magnet Width","=",24,"cm",9.4488188976377945,"in",null,"x","Driver"]
[null,"Magnet Height","=",6,"cm",2.3622047244094486,"in"]
[]
[null,"Horn Parameters",null,null,null,null,null,null,null,"Plot"]
[null,"S1","=",{"$f":"Path!D7","v":616.20000000000005},"cm^2",{"$f":"D11/2.54^2","v":95.51119102238205},"in^2",null,"x","Panel A"]
[null,"S2","=",{"$f":"Path!D8","v":616.20000000000005},"cm^2",{"$f":"D12/2.54^2","v":95.51119102238205},"in^2",null,"x","Panel B (center)"]
[null,"S3","=",{"$f":"Path!D9","v":616.19999999999993},"cm^2",{"$f":"D13/2.54^2","v":95.511191022382036},"in^2",null,"x","Panel C"]
[null,"S4","=",{"$f":"Path!D10","v":2284.6799999999994},"cm^2",354.1261082522164,"in^2",null,"x","Panel D"]
[null,"S5","=",{"$f":"Path!D11","v":2284.6799999999994},"cm^2",{"$f":"D15/2.54^2","v":354.1261082522164},"in^2",null,"x","Panel E"]
[null,"L12","=",{"$f":"Path!G8","v":0.1},"cm",{"$f":"D16/2.54","v":3.937007874015748E-2},"in",null,"x","Panel F (baffle)"]
[null,"L23","=",{"$f":"Path!G9","v":173.24107728770804},"cm",{"$f":"D17/2.54","v":68.205148538467725},"in",null,"x","Panel H"]
[null,"L34","=",{"$f":"Path!G10","v":26.769743910673668},"cm",{"$f":"D18/2.54","v":10.539269256170735},"in",null,"x","Panel I"]
[null,"L45","=",{"$f":"Path!G11","v":61.496786171139149},"cm",{"$f":"D19/2.54","v":24.211333138243759},"in"]
[]
[null,"d (external)","=",85,"cm",{"$f":"D21/2.54","v":33.464566929133859},"in"]
[null,"h (external)","=",51,"cm",{"$f":"D22/2.54","v":20.078740157480315},"in"]
[null,"w (external)","=",85,"cm",{"$f":"D23/2.54","v":33.464566929133859},"in"]
[]
[null,"w (internal)","=",{"$f":"D23-2*D28","v":81.400000000000006},"cm",{"$f":"D25/2.54","v":32.047244094488192},"in"]
[null,"L (actual)","=",{"$f":"Path!N93","v":261.60760736952085},"cm",102.99512101162237,"in"]
[]
[null,"p","=",1.8,"cm",{"$f":"D28/2.54","v":0.70866141732283461},"in",null,null,null,null,null,{"$f":"ABS(I42)+ABS(I43)+ABS(I44)+ABS(I45)","v":2.1576234007625317E-4}]
[]
[null,"Vol. (net)","=",{"$f":"D31-K47","v":290.24117640775683},"l.",null,null,{"$f":"(D30*1000/2.54^3)/1728","v":10.249770413692708},"cu.ft."]
[null,"Vol. (gross)","=",{"$f":"(D21*D22*D23)/10^3","v":368.47500000000002},"l.",null,null,{"$f":"(D31*1000/2.54^3)/1728","v":13.012571820200508},"cu.ft."]
[null,"Internal Width","=",{"$f":"D22-2*E40","v":47.4},"cm"]
[]
[null,"Expansion 1","=",0]
[null,"Expansion 2","=",{"$f":"Path!I11","v":0}]
[]
[null,"Panels",null,"x (cm)","p (cm)",null,null,"y (cm)","Err","#","v","Panel"]
[null,{"$f":"J11","v":"Panel A"},null,{"$f":"D22-2*D28","v":47.4},{"$f":"D28","v":1.8},null,null,{"$f":"Panels!K10","v":81.400000000000006},null,2,{"$f":"H38*D38*D28*J38/10^3","v":13.890096000000002},"(sides)"]
[null,"Panel B (center)",null,{"$f":"D38","v":47.4},{"$f":"D28","v":1.8},null,null,6.5,null,1,{"$f":"D39*H39*$D$47*J39/10^3","v":0.55457999999999996},"(center)"]
[null,"Panel C",null,{"$f":"Panels!K28","v":85},{"$f":"D28","v":1.8},null,null,{"$f":"Panels!K29","v":85},null,2,26.01,"(top, bottom)"]
[null,"Panel D",null,{"$f":"D39","v":47.4},{"$f":"D28","v":1.8},null,null,{"$f":"D40","v":85},null,1,7.2522000000000002,"(back)"]
[null,"Panel E",null,{"$f":"D39","v":47.4},{"$f":"D28","v":1.8},null,null,18.399999999999999,{"$f":"Path!T60","v":1.1368683772161603E-13},2,3.1397759999999995,"(front)"]
[null,"Panel F (baffle)",null,{"$f":"D39","v":47.4},{"$f":"D28","v":1.8},null,null,68.399999999999991,{"$f":"Path!T33","v":-1.2505552149377763E-12},1,5.8358879999999989,"1st inside"]
[null,"Panel H",null,{"$f":"D39","v":47.4},{"$f":"D28","v":1.8},null,null,66.600000000000009,{"$f":"Path!T51","v":1.3642420526593924E-12},2,11.364624000000001,"3rd inside"]
[null,"Panel I",null,{"$f":"D39","v":47.4},{"$f":"D28","v":1.8},null,null,59.696786171139173,{"$f":"Path!T78","v":2.1576233734776906E-4},2,10.18665959224319,"3rd inside"]
[]
[null,"Thickness",null,{"$f":"D28","v":1.8},"cm.",null,null,null,null,"Pnl Vol",{"$f":"SUM(K38:K45)","v":78.233823592243198},"l"]
[]
[]
[]
[]
[null,"Cone Volume","=",4000,"cm^3"]
[null,"Cone Vol. Adj. (S2)","=",0,"cm^3"]
[null,"Cone Area Adj. (S2)","=",{"$f":"D52-D53","v":4000},"cm^2"]
[]
[]
[]
[]
[]
[]
[]
[]
[]
[]
[]
[null,"Filename","=","I:\\Users\\Brian.Steele\\OneDrive\\Hornresp\\Import\\BOXPLAN.TXT"]
[]
[null,"ID","=","29.00",null,null,null,null,null,{"$f":"CONCATENATE(B68,C68,D68)","v":"ID=29.00"}]
[null,"Ang","=","2.0 x PI",null,null,null,null,null,{"$f":"CONCATENATE(B69,C69,D69)","v":"Ang=2.0 x PI"}]
[null,"Eg","=",2.83,null,null,null,null,null,"Eg=2.83"]
[null,"Rg","=",0,null,null,null,null,null,"Rg=0"]
[null,"Fta","=",0,null,null,null,null,null,"Fta=0"]
[null,"S1","=",{"$f":"ROUND(D11,0)","v":616},null,null,null,null,null,"S1=616"]
[null,"S2","=",{"$f":"ROUND(D12,0)","v":616},null,null,null,null,null,"S2=616"]
[null,"Par","=",{"$f":"ROUND(D16,1)","v":0.1},null,null,null,null,null,"Par=0.1"]
[null,"F12","=",0,null,null,null,null,null,"F12=0"]
[null,"S2","=",{"$f":"D74","v":616},null,null,null,null,null,"S2=616"]
[null,"S3","=",{"$f":"ROUND(D13,0)","v":616},null,null,null,null,null,"S3=616"]
[null,"Par","=",{"$f":"ROUND(D17,1)","v":173.2},null,null,null,null,null,"Par=173.2"]
[null,"F23","=",0,null,null,null,null,null,"F23=0"]
[null,"S3","=",{"$f":"D78","v":616},null,null,null,null,null,"S3=616"]
[null,"S4","=",{"$f":"ROUND(D14,0)","v":2285},null,null,null,null,null,"S4=2285"]
[null,"Par","=",{"$f":"ROUND(D18,1)","v":26.8},null,null,null,null,null,"Par=26.8"]
[null,"F34","=",0,null,null,null,null,null,"F34=0"]
[null,"S4","=",{"$f":"D82","v":2285},null,null,null,null,null,"S4=2285"]
[null,"S5","=",{"$f":"ROUND(D15,0)","v":2285},null,null,null,null,null,"S5=2285"]
[null,"Par","=",{"$f":"ROUND(D19,1)","v":61.5},null,null,null,null,null,"Par=61.5"]
[null,"F45","=",0,null,null,null,null,null,"F45=0"]
[null,"Sd","=",1210,null,null,null,null,null,"Sd=1210"]
[null,"Bl","=",26.4,null,null,null,null,null,"Bl=26.4"]
[null,"Cms","=",8.7000000000000001E-5,null,null,null,null,null,"Cms=0.000087"]
[null,"Rms","=",8.9,null,null,null,null,null,"Rms=8.9"]
[null,"Mmd","=",243.16,null,null,null,null,null,"Mmd=243.16"]
[null,"Le","=",1.64,null,null,null,null,null,"Le=1.64"]
[null,"Re","=",3.2,null,null,null,null,null,"Re=3.2"]
[null,"TH","=",1,null,null,null,null,null,"TH=1"]
[null,"Vrc","=",0,null,null,null,null,null,"Vrc=0"]
[null,"Lrc","=",0,null,null,null,null,null,"Lrc=0"]
[null,"Ap1","=",0,null,null,null,null,null,"Ap1=0"]
[null,"Lp","=",0,null,null,null,null,null,"Lp=0"]
[null,"Vtc","=",{"$f":"D52","v":4000},null,null,null,null,null,"Vtc=4000"]
[null,"Atc","=",{"$f":"D89","v":1210},null,null,null,null,null,"Atc=1210"]
[null,"Pmax","=",1000,null,null,null,null,null,"Pmax=1000"]
[null,"Xmax","=",12,null,null,null,null,null,"Xmax=12"]
[null,"Comment","=","BOXPLAN-Export (7.2 Beta)",null,null,null,null,null,"Comment=BOXPLAN-Export (7.2 Beta)"]

{"sheet":"Panels","index":1,"n_rows":113,"n_cols":11,"rows_kept":113,"cut":false,"hidden":false,"merged":[]}
[]
[]
[]
[]
[null,null,"dX","dY"]
[null,null,0,0]
[]
[null,null,"x","y",null,"x","y",null,"dx","dy"]
[{"$f":"'ROAR TH'!J11","v":"Panel A"},null,{"$f":"C27-'ROAR TH'!$D$28","v":83.2},{"$f":"D27-'ROAR TH'!$D$28","v":83.2},null,{"$f":"IF('ROAR TH'!$I$11=\"x\",C9,$C$6)","v":83.2},{"$f":"IF('ROAR TH'!$I$11=\"x\",D9,$D$6)","v":83.2}]
[null,null,{"$f":"C9","v":83.2},{"$f":"D29+'ROAR TH'!$D$28","v":1.8},null,{"$f":"IF('ROAR TH'!$I$11=\"x\",C10,$C$6)","v":83.2},{"$f":"IF('ROAR TH'!$I$11=\"x\",D10,$D$6)","v":1.8},null,{"$f":"C9-C10","v":0},81.400000000000006,{"$f":"(I10^2+J10^2)^0.5","v":81.400000000000006}]
[null,null,{"$f":"C10+'ROAR TH'!$D$28","v":85},{"$f":"D10","v":1.8},null,{"$f":"IF('ROAR TH'!$I$11=\"x\",C11,$C$6)","v":85},{"$f":"IF('ROAR TH'!$I$11=\"x\",D11,$D$6)","v":1.8},null,-1.7999999999999972,0,{"$f":"(I11^2+J11^2)^0.5","v":1.7999999999999972}]
[null,null,{"$f":"C11","v":85},{"$f":"D9","v":83.2},null,{"$f":"IF('ROAR TH'!$I$11=\"x\",C12,$C$6)","v":85},{"$f":"IF('ROAR TH'!$I$11=\"x\",D12,$D$6)","v":83.2},null,0,-81.400000000000006,{"$f":"(I12^2+J12^2)^0.5","v":81.400000000000006}]
[null,null,{"$f":"C9","v":83.2},{"$f":"D9","v":83.2},null,{"$f":"IF('ROAR TH'!$I$11=\"x\",C13,$C$6)","v":83.2},{"$f":"IF('ROAR TH'!$I$11=\"x\",D13,$D$6)","v":83.2},null,1.7999999999999972,0,{"$f":"(I13^2+J13^2)^0.5","v":1.7999999999999972}]
[]
[{"$f":"'ROAR TH'!J11","v":"Panel A"},null,{"$f":"C28","v":0},{"$f":"D9","v":83.2},null,{"$f":"IF('ROAR TH'!$I$11=\"x\",C15,$C$6)","v":0},{"$f":"IF('ROAR TH'!$I$11=\"x\",D15,$D$6)","v":83.2}]
[null,null,{"$f":"C15","v":0},{"$f":"D35","v":1.8},null,{"$f":"IF('ROAR TH'!$I$11=\"x\",C16,$C$6)","v":0},{"$f":"IF('ROAR TH'!$I$11=\"x\",D16,$D$6)","v":1.8},null,{"$f":"C15-C16","v":0},81.400000000000006,{"$f":"(I16^2+J16^2)^0.5","v":81.400000000000006}]
[null,null,{"$f":"C16+'ROAR TH'!$D$28","v":1.8},{"$f":"D16","v":1.8},null,{"$f":"IF('ROAR TH'!$I$11=\"x\",C17,$C$6)","v":1.8},{"$f":"IF('ROAR TH'!$I$11=\"x\",D17,$D$6)","v":1.8},null,-1.8,0,{"$f":"(I17^2+J17^2)^0.5","v":1.8}]
[null,null,{"$f":"C17","v":1.8},{"$f":"D15","v":83.2},null,{"$f":"IF('ROAR TH'!$I$11=\"x\",C18,$C$6)","v":1.8},{"$f":"IF('ROAR TH'!$I$11=\"x\",D18,$D$6)","v":83.2},null,0,-81.400000000000006,{"$f":"(I18^2+J18^2)^0.5","v":81.400000000000006}]
[null,null,{"$f":"C15","v":0},{"$f":"D15","v":83.2},null,{"$f":"IF('ROAR TH'!$I$11=\"x\",C19,$C$6)","v":0},{"$f":"IF('ROAR TH'!$I$11=\"x\",D19,$D$6)","v":83.2},null,1.8,0,{"$f":"(I19^2+J19^2)^0.5","v":1.8}]
[]
[{"$f":"'ROAR TH'!J12","v":"Panel B (center)"},null,{"$f":"(C27+'ROAR TH'!$D$28)/2","v":43.4},{"$f":"D29+'ROAR TH'!$D$28","v":1.8},null,{"$f":"IF('ROAR TH'!$I$12=\"x\",C21,$C$6)","v":43.4},{"$f":"IF('ROAR TH'!$I$12=\"x\",D21,$D$6)","v":1.8}]
[null,null,{"$f":"C21","v":43.4},{"$f":"D21+'ROAR TH'!H39","v":8.3000000000000007},null,{"$f":"IF('ROAR TH'!$I$12=\"x\",C22,$C$6)","v":43.4},{"$f":"IF('ROAR TH'!$I$12=\"x\",D22,$D$6)","v":8.3000000000000007},null,{"$f":"C21-C22","v":0},-6.5000000000000009,{"$f":"(I22^2+J22^2)^0.5","v":6.5000000000000009}]
[null,null,{"$f":"C22-'ROAR TH'!$D$28","v":41.6},{"$f":"D22","v":8.3000000000000007},null,{"$f":"IF('ROAR TH'!$I$12=\"x\",C23,$C$6)","v":41.6},{"$f":"IF('ROAR TH'!$I$12=\"x\",D23,$D$6)","v":8.3000000000000007},null,1.7999999999999972,0,{"$f":"(I23^2+J23^2)^0.5","v":1.7999999999999972}]
[null,null,{"$f":"C23","v":41.6},{"$f":"D21","v":1.8},null,{"$f":"IF('ROAR TH'!$I$12=\"x\",C24,$C$6)","v":41.6},{"$f":"IF('ROAR TH'!$I$12=\"x\",D24,$D$6)","v":1.8},null,0,6.5000000000000009,{"$f":"(I24^2+J24^2)^0.5","v":6.5000000000000009}]
[null,null,{"$f":"C21","v":43.4},{"$f":"D24","v":1.8},null,{"$f":"IF('ROAR TH'!$I$12=\"x\",C25,$C$6)","v":43.4},{"$f":"IF('ROAR TH'!$I$12=\"x\",D25,$D$6)","v":1.8},null,-1.7999999999999972,0,{"$f":"(I25^2+J25^2)^0.5","v":1.7999999999999972}]
[]
[{"$f":"'ROAR TH'!J13","v":"Panel C"},null,{"$f":"'ROAR TH'!D23+$C$6","v":85},{"$f":"'ROAR TH'!D21","v":85},null,{"$f":"IF('ROAR TH'!$I$13=\"x\",C27,$C$6)","v":85},{"$f":"IF('ROAR TH'!$I$13=\"x\",D27,$D$6)","v":85}]
[null,null,{"$f":"C6","v":0},{"$f":"D27","v":85},null,{"$f":"IF('ROAR TH'!$I$13=\"x\",C28,$C$6)","v":0},{"$f":"IF('ROAR TH'!$I$13=\"x\",D28,$D$6)","v":85},null,{"$f":"C27-C28","v":85},0,{"$f":"(I28^2+J28^2)^0.5","v":85}]
[null,null,{"$f":"C28","v":0},{"$f":"D6","v":0},null,{"$f":"IF('ROAR TH'!$I$13=\"x\",C29,$C$6)","v":0},{"$f":"IF('ROAR TH'!$I$13=\"x\",D29,$D$6)","v":0},null,0,85,{"$f":"(I29^2+J29^2)^0.5","v":85}]
[null,null,{"$f":"C27","v":85},{"$f":"D29","v":0},null,{"$f":"IF('ROAR TH'!$I$13=\"x\",C30,$C$6)","v":85},{"$f":"IF('ROAR TH'!$I$13=\"x\",D30,$D$6)","v":0},null,-85,0,{"$f":"(I30^2+J30^2)^0.5","v":85}]
[null,null,{"$f":"C27","v":85},{"$f":"D27","v":85},null,{"$f":"IF('ROAR TH'!$I$13=\"x\",C31,$C$6)","v":85},{"$f":"IF('ROAR TH'!$I$13=\"x\",D31,$D$6)","v":85},null,0,-85,{"$f":"(I31^2+J31^2)^0.5","v":85}]
[]
[{"$f":"'ROAR TH'!J14","v":"Panel D"},null,{"$f":"C28","v":0},{"$f":"D29","v":0},null,{"$f":"IF('ROAR TH'!$I$14=\"x\",C33,$C$6)","v":0},{"$f":"IF('ROAR TH'!$I$14=\"x\",D33,$D$6)","v":0}]
[null,null,{"$f":"C27","v":85},{"$f":"D33","v":0},null,{"$f":"IF('ROAR TH'!$I$14=\"x\",C34,$C$6)","v":85},{"$f":"IF('ROAR TH'!$I$14=\"x\",D34,$D$6)","v":0},null,{"$f":"C33-C34","v":-85},0,{"$f":"(I34^2+J34^2)^0.5","v":85}]
[null,null,{"$f":"C34","v":85},{"$f":"D29+'ROAR TH'!$D$28","v":1.8},null,{"$f":"IF('ROAR TH'!$I$14=\"x\",C35,$C$6)","v":85},{"$f":"IF('ROAR TH'!$I$14=\"x\",D35,$D$6)","v":1.8},null,0,-1.8,{"$f":"(I35^2+J35^2)^0.5","v":1.8}]
[null,null,{"$f":"C33","v":0},{"$f":"D35","v":1.8},null,{"$f":"IF('ROAR TH'!$I$14=\"x\",C36,$C$6)","v":0},{"$f":"IF('ROAR TH'!$I$14=\"x\",D36,$D$6)","v":1.8},null,85,0,{"$f":"(I36^2+J36^2)^0.5","v":85}]
[null,null,{"$f":"C33","v":0},{"$f":"D33","v":0},null,{"$f":"IF('ROAR TH'!$I$14=\"x\",C37,$C$6)","v":0},{"$f":"IF('ROAR TH'!$I$14=\"x\",D37,$D$6)","v":0},null,0,1.8,{"$f":"(I37^2+J37^2)^0.5","v":1.8}]
[]
[{"$f":"'ROAR TH'!J15","v":"Panel E"},null,{"$f":"C31","v":85},{"$f":"D27","v":85},null,{"$f":"IF('ROAR TH'!$I$15=\"x\",C39,$C$6)","v":85},{"$f":"IF('ROAR TH'!$I$15=\"x\",D39,$C$6)","v":85}]
[null,null,{"$f":"C39-'ROAR TH'!H42","v":66.599999999999994},{"$f":"D39","v":85},null,{"$f":"IF('ROAR TH'!$I$15=\"x\",C40,$C$6)","v":66.599999999999994},{"$f":"IF('ROAR TH'!$I$15=\"x\",D40,$C$6)","v":85},null,{"$f":"C39-C40","v":18.400000000000006},0,{"$f":"(I40^2+J40^2)^0.5","v":18.400000000000006}]
[null,null,{"$f":"C40","v":66.599999999999994},{"$f":"D40-'ROAR TH'!$D$28","v":83.2},null,{"$f":"IF('ROAR TH'!$I$15=\"x\",C41,$C$6)","v":66.599999999999994},{"$f":"IF('ROAR TH'!$I$15=\"x\",D41,$C$6)","v":83.2},null,0,1.7999999999999972,{"$f":"(I41^2+J41^2)^0.5","v":1.7999999999999972}]
[null,null,{"$f":"C39","v":85},{"$f":"D41","v":83.2},null,{"$f":"IF('ROAR TH'!$I$15=\"x\",C42,$C$6)","v":85},{"$f":"IF('ROAR TH'!$I$15=\"x\",D42,$C$6)","v":83.2},null,-18.400000000000006,0,{"$f":"(I42^2+J42^2)^0.5","v":18.400000000000006}]
[null,null,{"$f":"C42","v":85},{"$f":"D40","v":85},null,{"$f":"IF('ROAR TH'!$I$15=\"x\",C43,$C$6)","v":85},{"$f":"IF('ROAR TH'!$I$15=\"x\",D43,$C$6)","v":85},null,0,-1.7999999999999972,{"$f":"(I43^2+J43^2)^0.5","v":1.7999999999999972}]
[]
[{"$f":"A39","v":"Panel E"},null,{"$f":"C29","v":0},{"$f":"D39","v":85},null,{"$f":"IF('ROAR TH'!$I$15=\"x\",C45,$C$6)","v":0},{"$f":"IF('ROAR TH'!$I$15=\"x\",D45,$D$6)","v":85}]
[null,null,{"$f":"C45+'ROAR TH'!H42","v":18.399999999999999},{"$f":"D45","v":85},null,{"$f":"IF('ROAR TH'!$I$15=\"x\",C46,$C$6)","v":18.399999999999999},{"$f":"IF('ROAR TH'!$I$15=\"x\",D46,$D$6)","v":85},null,{"$f":"C45-C46","v":-18.399999999999999},0,{"$f":"(I46^2+J46^2)^0.5","v":18.399999999999999}]
[null,null,{"$f":"C46","v":18.399999999999999},{"$f":"D46-'ROAR TH'!$D$28","v":83.2},null,{"$f":"IF('ROAR TH'!$I$15=\"x\",C47,$C$6)","v":18.399999999999999},{"$f":"IF('ROAR TH'!$I$15=\"x\",D47,$D$6)","v":83.2},null,0,1.7999999999999972,{"$f":"(I47^2+J47^2)^0.5","v":1.7999999999999972}]
[null,null,{"$f":"C45","v":0},{"$f":"D47","v":83.2},null,{"$f":"IF('ROAR TH'!$I$15=\"x\",C48,$C$6)","v":0},{"$f":"IF('ROAR TH'!$I$15=\"x\",D48,$D$6)","v":83.2},null,18.399999999999999,0,{"$f":"(I48^2+J48^2)^0.5","v":18.399999999999999}]
[null,null,{"$f":"C45","v":0},{"$f":"D45","v":85},null,{"$f":"IF('ROAR TH'!$I$15=\"x\",C49,$C$6)","v":0},{"$f":"IF('ROAR TH'!$I$15=\"x\",D49,$D$6)","v":85},null,0,-1.7999999999999972,{"$f":"(I49^2+J49^2)^0.5","v":1.7999999999999972}]
[]
[{"$f":"'ROAR TH'!J16","v":"Panel F (baffle)"},null,{"$f":"C21+('ROAR TH'!H43-'ROAR TH'!$D$28)/2","v":76.699999999999989},{"$f":"D22","v":8.3000000000000007},null,{"$f":"IF('ROAR TH'!$I$16=\"x\",C51,$C$6)","v":76.699999999999989},{"$f":"IF('ROAR TH'!$I$16=\"x\",D51,$D$6)","v":8.3000000000000007}]
[null,null,{"$f":"C51","v":76.699999999999989},{"$f":"D51+'ROAR TH'!$D$28","v":10.100000000000001},null,{"$f":"IF('ROAR TH'!$I$16=\"x\",C52,$C$6)","v":76.699999999999989},{"$f":"IF('ROAR TH'!$I$16=\"x\",D52,$D$6)","v":10.100000000000001},null,{"$f":"C51-C52","v":0},-1.8000000000000007,{"$f":"(I52^2+J52^2)^0.5","v":1.8000000000000007}]
[null,null,{"$f":"C52-'ROAR TH'!H43","v":8.2999999999999972},{"$f":"D52","v":10.100000000000001},null,{"$f":"IF('ROAR TH'!$I$16=\"x\",C53,$C$6)","v":8.2999999999999972},{"$f":"IF('ROAR TH'!$I$16=\"x\",D53,$D$6)","v":10.100000000000001},null,68.399999999999991,0,{"$f":"(I53^2+J53^2)^0.5","v":68.399999999999991}]
[null,null,{"$f":"C53","v":8.2999999999999972},{"$f":"D53-'ROAR TH'!$D$28","v":8.3000000000000007},null,{"$f":"IF('ROAR TH'!$I$16=\"x\",C54,$C$6)","v":8.2999999999999972},{"$f":"IF('ROAR TH'!$I$16=\"x\",D54,$D$6)","v":8.3000000000000007},null,0,1.8000000000000007,{"$f":"(I54^2+J54^2)^0.5","v":1.8000000000000007}]
[null,null,{"$f":"C51","v":76.699999999999989},{"$f":"D51","v":8.3000000000000007},null,{"$f":"IF('ROAR TH'!$I$16=\"x\",C55,$C$6)","v":76.699999999999989},{"$f":"IF('ROAR TH'!$I$16=\"x\",D55,$D$6)","v":8.3000000000000007},null,-68.399999999999991,0,{"$f":"(I55^2+J55^2)^0.5","v":68.399999999999991}]
[]
[{"$f":"'ROAR TH'!J17","v":"Panel H"},null,{"$f":"C53","v":8.2999999999999972},{"$f":"D53","v":10.100000000000001},null,{"$f":"IF('ROAR TH'!$I$17=\"x\",C57,$C$6)","v":8.2999999999999972},{"$f":"IF('ROAR TH'!$I$17=\"x\",D57,$D$6)","v":10.100000000000001}]
[null,null,{"$f":"C57+'ROAR TH'!$H$35","v":8.2999999999999972},{"$f":"D57+'ROAR TH'!H44","v":76.700000000000017},null,{"$f":"IF('ROAR TH'!$I$17=\"x\",C58,$C$6)","v":8.2999999999999972},{"$f":"IF('ROAR TH'!$I$17=\"x\",D58,$D$6)","v":76.700000000000017},null,{"$f":"C57-C58","v":0},-66.600000000000023,{"$f":"(I58^2+J58^2)^0.5","v":66.600000000000023}]
[null,null,{"$f":"C58+'ROAR TH'!$D$28","v":10.099999999999998},{"$f":"D58","v":76.700000000000017},null,{"$f":"IF('ROAR TH'!$I$17=\"x\",C59,$C$6)","v":10.099999999999998},{"$f":"IF('ROAR TH'!$I$17=\"x\",D59,$D$6)","v":76.700000000000017},null,-1.8000000000000007,0,{"$f":"(I59^2+J59^2)^0.5","v":1.8000000000000007}]
[null,null,{"$f":"C59","v":10.099999999999998},{"$f":"D57","v":10.100000000000001},null,{"$f":"IF('ROAR TH'!$I$17=\"x\",C60,$C$6)","v":10.099999999999998},{"$f":"IF('ROAR TH'!$I$17=\"x\",D60,$D$6)","v":10.100000000000001},null,0,66.600000000000023,{"$f":"(I60^2+J60^2)^0.5","v":66.600000000000023}]
[null,null,{"$f":"C57","v":8.2999999999999972},{"$f":"D57","v":10.100000000000001},null,{"$f":"IF('ROAR TH'!$I$17=\"x\",C61,$C$6)","v":8.2999999999999972},{"$f":"IF('ROAR TH'!$I$17=\"x\",D61,$D$6)","v":10.100000000000001},null,1.8000000000000007,0,{"$f":"(I61^2+J61^2)^0.5","v":1.8000000000000007}]
[]
[{"$f":"A57","v":"Panel H"},null,{"$f":"C57+'ROAR TH'!H43-'ROAR TH'!D28","v":74.899999999999991},{"$f":"D57","v":10.100000000000001},null,{"$f":"IF('ROAR TH'!$I$17=\"x\",C63,$C$6)","v":74.899999999999991},{"$f":"IF('ROAR TH'!$I$17=\"x\",D63,$D$6)","v":10.100000000000001}]
[null,null,{"$f":"C63+'ROAR TH'!$H$35","v":74.899999999999991},{"$f":"D58","v":76.700000000000017},null,{"$f":"IF('ROAR TH'!$I$17=\"x\",C64,$C$6)","v":74.899999999999991},{"$f":"IF('ROAR TH'!$I$17=\"x\",D64,$D$6)","v":76.700000000000017},null,{"$f":"C63-C64","v":0},-66.600000000000023,{"$f":"(I64^2+J64^2)^0.5","v":66.600000000000023}]
[null,null,{"$f":"C64+'ROAR TH'!$D$28","v":76.699999999999989},{"$f":"D59","v":76.700000000000017},null,{"$f":"IF('ROAR TH'!$I$17=\"x\",C65,$C$6)","v":76.699999999999989},{"$f":"IF('ROAR TH'!$I$17=\"x\",D65,$D$6)","v":76.700000000000017},null,-1.7999999999999972,0,{"$f":"(I65^2+J65^2)^0.5","v":1.7999999999999972}]
[null,null,{"$f":"C65","v":76.699999999999989},10.100000000000001,null,{"$f":"IF('ROAR TH'!$I$17=\"x\",C66,$C$6)","v":76.699999999999989},{"$f":"IF('ROAR TH'!$I$17=\"x\",D66,$D$6)","v":10.100000000000001},null,0,66.600000000000023,{"$f":"(I66^2+J66^2)^0.5","v":66.600000000000023}]
[null,null,{"$f":"C63","v":74.899999999999991},{"$f":"D61","v":10.100000000000001},null,{"$f":"IF('ROAR TH'!$I$17=\"x\",C67,$C$6)","v":74.899999999999991},{"$f":"IF('ROAR TH'!$I$17=\"x\",D67,$D$6)","v":10.100000000000001},null,1.7999999999999972,0,{"$f":"(I67^2+J67^2)^0.5","v":1.7999999999999972}]
[]
[{"$f":"'ROAR TH'!J18","v":"Panel I"},null,{"$f":"C41","v":66.599999999999994},{"$f":"D41","v":83.2},null,{"$f":"IF('ROAR TH'!$I$18=\"x\",C69,$C$6)","v":66.599999999999994},{"$f":"IF('ROAR TH'!$I$18=\"x\",D69,$D$6)","v":83.2}]
[null,null,{"$f":"C69+'ROAR TH'!$H$35","v":66.599999999999994},{"$f":"D69-'ROAR TH'!H45","v":23.503213828860829},null,{"$f":"IF('ROAR TH'!$I$18=\"x\",C70,$C$6)","v":66.599999999999994},{"$f":"IF('ROAR TH'!$I$18=\"x\",D70,$D$6)","v":23.503213828860829},null,{"$f":"C69-C70","v":0},59.696786171139173,{"$f":"(I70^2+J70^2)^0.5","v":59.696786171139173}]
[null,null,{"$f":"C70+'ROAR TH'!$D$28","v":68.399999999999991},{"$f":"D70","v":23.503213828860829},null,{"$f":"IF('ROAR TH'!$I$18=\"x\",C71,$C$6)","v":68.399999999999991},{"$f":"IF('ROAR TH'!$I$18=\"x\",D71,$D$6)","v":23.503213828860829},null,-1.7999999999999972,0,{"$f":"(I71^2+J71^2)^0.5","v":1.7999999999999972}]
[null,null,{"$f":"C71","v":68.399999999999991},{"$f":"D69","v":83.2},null,{"$f":"IF('ROAR TH'!$I$18=\"x\",C72,$C$6)","v":68.399999999999991},{"$f":"IF('ROAR TH'!$I$18=\"x\",D72,$D$6)","v":83.2},null,0,-59.696786171139173,{"$f":"(I72^2+J72^2)^0.5","v":59.696786171139173}]
[null,null,{"$f":"C69","v":66.599999999999994},{"$f":"D69","v":83.2},null,{"$f":"IF('ROAR TH'!$I$18=\"x\",C73,$C$6)","v":66.599999999999994},{"$f":"IF('ROAR TH'!$I$18=\"x\",D73,$D$6)","v":83.2},null,1.7999999999999972,0,{"$f":"(I73^2+J73^2)^0.5","v":1.7999999999999972}]
[]
[{"$f":"A69","v":"Panel I"},null,{"$f":"C47-'ROAR TH'!D28","v":16.599999999999998},{"$f":"D69","v":83.2},null,{"$f":"IF('ROAR TH'!$I$18=\"x\",C75,$C$6)","v":16.599999999999998},{"$f":"IF('ROAR TH'!$I$18=\"x\",D75,$D$6)","v":83.2}]
[null,null,{"$f":"C75+'ROAR TH'!$H$35","v":16.599999999999998},{"$f":"D70","v":23.503213828860829},null,{"$f":"IF('ROAR TH'!$I$18=\"x\",C76,$C$6)","v":16.599999999999998},{"$f":"IF('ROAR TH'!$I$18=\"x\",D76,$D$6)","v":23.503213828860829},null,{"$f":"C75-C76","v":0},59.696786171139173,{"$f":"(I76^2+J76^2)^0.5","v":59.696786171139173}]
[null,null,{"$f":"C76+'ROAR TH'!$D$28","v":18.399999999999999},{"$f":"D71","v":23.503213828860829},null,{"$f":"IF('ROAR TH'!$I$18=\"x\",C77,$C$6)","v":18.399999999999999},{"$f":"IF('ROAR TH'!$I$18=\"x\",D77,$D$6)","v":23.503213828860829},null,-1.8000000000000007,0,{"$f":"(I77^2+J77^2)^0.5","v":1.8000000000000007}]
[null,null,{"$f":"C77","v":18.399999999999999},83.2,null,{"$f":"IF('ROAR TH'!$I$18=\"x\",C78,$C$6)","v":18.399999999999999},{"$f":"IF('ROAR TH'!$I$18=\"x\",D78,$D$6)","v":83.2},null,0,-59.696786171139173,{"$f":"(I78^2+J78^2)^0.5","v":59.696786171139173}]
[null,null,{"$f":"C75","v":16.599999999999998},{"$f":"D73","v":83.2},null,{"$f":"IF('ROAR TH'!$I$18=\"x\",C79,$C$6)","v":16.599999999999998},{"$f":"IF('ROAR TH'!$I$18=\"x\",D79,$D$6)","v":83.2},null,1.8000000000000007,0,{"$f":"(I79^2+J79^2)^0.5","v":1.8000000000000007}]
[]
["Vertical Divider",null,{"$f":"(C28+C27)/2","v":42.5},{"$f":"D52","v":10.100000000000001},null,{"$f":"C81","v":42.5},{"$f":"D81","v":10.100000000000001}]
[null,null,{"$f":"C81","v":42.5},{"$f":"D27","v":85},null,{"$f":"C82","v":42.5},{"$f":"D82","v":85}]
[]
["Vertical Axis",null,{"$f":"C29","v":0},{"$f":"D29","v":0},null,{"$f":"C84","v":0},{"$f":"D84","v":0}]
[null,null,{"$f":"C84","v":0},{"$f":"MAX(C9:D49)","v":85},null,{"$f":"C85","v":0},{"$f":"D85","v":85}]
[]
["Horizontal Axis",null,{"$f":"C84","v":0},{"$f":"D84","v":0},null,{"$f":"C87","v":0},{"$f":"D87","v":0}]
[null,null,{"$f":"D85","v":85},{"$f":"C85","v":0},null,{"$f":"C88","v":85},{"$f":"D88","v":0}]
[]
[]
[null,null,"x","y","dX","dY","l","Delta"]
[null,null,{"$f":"C52","v":76.699999999999989},{"$f":"D52","v":10.100000000000001}]
[null,null,{"$f":"C53","v":8.2999999999999972},{"$f":"D53","v":10.100000000000001},{"$f":"C92-C93","v":68.399999999999991},{"$f":"D92-D93","v":0},{"$f":"(E93^2+F93^2)^0.5","v":68.399999999999991},{"$f":"F93/E93","v":0}]
[]
[]
[]
[null,null,null,null,{"$f":"'ROAR TH'!I7","v":"x"}]
[null,null,{"$f":"C99+('ROAR TH'!$D$4*COS(ATAN($H$93)))/2+C95","v":65.849999999999994},{"$f":"D99+('ROAR TH'!$D$4*SIN(ATAN($H$93)))/2","v":10.100000000000001},{"$f":"$E$97","v":"x"},{"$f":"IF(E98=\"x\",C98,\"\")","v":65.849999999999994},{"$f":"IF(E98=\"x\",D98,\"\")","v":10.100000000000001}]
[null,null,{"$f":"(C53+C52)/2","v":42.499999999999993},{"$f":"D92-(F93*'ROAR TH'!D16/G93)-D95","v":10.100000000000001},"x",{"$f":"IF(E99=\"x\",C99,\"\")","v":42.499999999999993},{"$f":"IF(E99=\"x\",D99,\"\")","v":10.100000000000001}]
[null,null,{"$f":"C99+'ROAR TH'!$D$6*SIN(ATAN($H$93))","v":42.499999999999993},{"$f":"D99+'ROAR TH'!$D$6*COS(ATAN($H$93))","v":31},"x",42.499999999999993,31]
[null,null,{"$f":"C100+'ROAR TH'!$D$7*COS(ATAN($H$93))/2","v":54.499999999999993},{"$f":"D100+'ROAR TH'!$D$7*SIN(ATAN($H$93))/2","v":31},"x",54.499999999999993,31]
[null,null,{"$f":"C101-'ROAR TH'!$D$8*SIN(ATAN($H$93))","v":54.499999999999993},{"$f":"D101-'ROAR TH'!$D$8*COS(ATAN($H$93))","v":25},"x",54.499999999999993,25]
[null,null,{"$f":"C99+'ROAR TH'!$D$5*COS(ATAN($H$93))/2","v":63.599999999999994},{"$f":"D99+('ROAR TH'!$D$5)*SIN(ATAN($H$93))/2","v":10.100000000000001},"x",63.599999999999994,10.100000000000001]
[]
[null,null,{"$f":"C106-('ROAR TH'!$D$4*COS(ATAN($H$93)))/2","v":19.149999999999991},{"$f":"D106-('ROAR TH'!$D$4*SIN(ATAN($H$93)))/2","v":10.100000000000001},{"$f":"$E$97","v":"x"},{"$f":"IF(E105=\"x\",C105,\"\")","v":19.149999999999991},{"$f":"IF(E105=\"x\",D105,\"\")","v":10.100000000000001}]
[null,null,{"$f":"C99","v":42.499999999999993},{"$f":"D99","v":10.100000000000001},"x",42.499999999999993,10.100000000000001]
[null,null,{"$f":"C100","v":42.499999999999993},{"$f":"D100","v":31},"x",42.499999999999993,31]
[null,null,{"$f":"C107-'ROAR TH'!$D$7*COS(ATAN($H$93))/2","v":30.499999999999993},{"$f":"D107-'ROAR TH'!$D$7*SIN(ATAN($H$93))/2","v":31},"x",30.499999999999993,31]
[null,null,{"$f":"C108-'ROAR TH'!$D$8*SIN(ATAN($H$93))","v":30.499999999999993},{"$f":"D108-'ROAR TH'!$D$8*COS(ATAN($H$93))","v":25},"x",30.499999999999993,25]
[null,null,{"$f":"C106-'ROAR TH'!$D$5*COS(ATAN($H$93))/2","v":21.399999999999991},{"$f":"D106-('ROAR TH'!$D$5)*SIN(ATAN($H$93))/2","v":10.100000000000001},"x",21.399999999999991,10.100000000000001]
[]
[null,null,{"$f":"C109","v":30.499999999999993},{"$f":"D109","v":25},{"$f":"$E$97","v":"x"},{"$f":"IF(E112=\"x\",C112,\"\")","v":30.499999999999993},{"$f":"IF(E112=\"x\",D112,\"\")","v":25}]
[null,null,{"$f":"C102","v":54.499999999999993},{"$f":"D102","v":25},{"$f":"$E$97","v":"x"},54.499999999999993,25]

{"sheet":"Path","index":2,"n_rows":93,"n_cols":22,"rows_kept":93,"cut":false,"hidden":false,"merged":[]}
[]
[null,null,"Cos",{"$f":"COS('ROAR TH'!D34*PI()/180)","v":1},{"$f":"'ROAR TH'!D28*D2","v":1.8},null,"Cos",{"$f":"COS('ROAR TH'!D34*PI()/(180*2))","v":1},{"$f":"'ROAR TH'!D28*H2","v":1.8}]
[null,null,"Sin",{"$f":"SIN('ROAR TH'!D34*PI()/180)","v":0},{"$f":"'ROAR TH'!D28*D3","v":0},null,"Sin",{"$f":"SIN('ROAR TH'!D34*PI()/(180*2))","v":0},{"$f":"'ROAR TH'!D28*H3","v":0}]
[null,null,"tan",{"$f":"TAN('ROAR TH'!D34*PI()/180)","v":0},null,null,"tan",{"$f":"TAN('ROAR TH'!D34*PI()/(180*2))","v":0}]
[]
[null,null,null,"S","L","W","d","y"]
[null,null,"S1",{"$f":"Q21","v":616.20000000000005},0,{"$f":"$O$14","v":47.4},null,{"$f":"D7/F7","v":13.000000000000002}]
[null,null,"S2",{"$f":"Q21","v":616.20000000000005},0.1,47.4,{"$f":"E8-E7","v":0.1},13.000000000000002,{"$f":"ATAN((H8-H7)/(E8-E7))*180/PI()","v":0}]
[null,null,"S3",{"$f":"Q66","v":616.19999999999993},{"$f":"N66","v":173.34107728770803},47.4,{"$f":"E9-E8","v":173.24107728770804},12.999999999999998,{"$f":"ATAN((H9-H8)/(E9-E8))*180/PI()","v":-1.1749840326587944E-15}]
[null,null,"S4",{"$f":"Q87","v":2284.6799999999994},{"$f":"N87","v":200.1108211983817},47.4,{"$f":"E10-E9","v":26.769743910673668},48.199999999999989,{"$f":"ATAN((H10-H9)/(E10-E9))*180/PI()","v":52.74686282172447}]
[null,null,"S5",{"$f":"Q93","v":2284.6799999999994},{"$f":"N93","v":261.60760736952085},47.4,{"$f":"E11-E10","v":61.496786171139149},48.199999999999989,{"$f":"ATAN((H11-H10)/(E11-E10))*180/PI()","v":0}]
[]
[null,null,null,null,null,null,null,null,null,null,null,null,null,null,"W"]
[null,null,null,null,null,null,null,null,null,null,null,null,null,null,{"$f":"'ROAR TH'!D32","v":47.4}]
["Path Calculations",null,"x","y",null,"x","y",null,"d","x","y","dS","d","L","W","p","S",null,null,"Error"]
[]
[null,null,null,null,"S1 (csa)"]
[null,null,null,null,null,null,null,null,null,null,null,null,null,{"$f":"-N24","v":-33.29999999999999},{"$f":"$O$14","v":47.4},2,{"$f":"'ROAR TH'!D11","v":616.20000000000005},{"$f":"Q18/2","v":308.10000000000002},{"$f":"-R18","v":-308.10000000000002},null,{"$f":"(($D$9-$D$7)*N18/$E$9+$D$7)/2","v":308.10000000000002},{"$f":"-U18","v":-308.10000000000002}]
[null,null,{"$f":"Panels!C22","v":43.4},{"$f":"Panels!D22","v":8.3000000000000007},null,{"$f":"IF('ROAR TH'!$I$6=\"x\",C19,0)","v":43.4},{"$f":"IF('ROAR TH'!$I$6=\"x\",D19,0)","v":8.3000000000000007},{"$f":"SUM(C19:C20)/2","v":43.4},{"$f":"SUM(D19:D20)/2","v":5.0500000000000007},{"$f":"IF('ROAR TH'!$I$5=\"x\",H19,\"\")","v":43.4},{"$f":"IF('ROAR TH'!$I$5=\"x\",I19,\"\")","v":5.0500000000000007}]
[{"$f":"A23+1","v":25},1,{"$f":"Panels!C21","v":43.4},{"$f":"Panels!D21","v":1.8},"S1, S2",{"$f":"IF('ROAR TH'!$I$6=\"x\",C20,0)","v":43.4},{"$f":"IF('ROAR TH'!$I$6=\"x\",D20,0)","v":1.8},null,null,{"$f":"J19","v":43.4},{"$f":"K19","v":5.0500000000000007}]
[null,null,null,null,null,null,null,null,null,{"$f":"J20","v":43.4},{"$f":"K20","v":5.0500000000000007},null,0,{"$f":"M21","v":0},{"$f":"$O$14","v":47.4},2,{"$f":"((C19-C20)^2+(D19-D20)^2)^0.5*O21*P21","v":616.20000000000005},{"$f":"Q21/2","v":308.10000000000002},{"$f":"-R21","v":-308.10000000000002},{"$f":"(U21-R21)*2","v":0},{"$f":"$D$7/2","v":308.10000000000002},{"$f":"-U21","v":-308.10000000000002}]
[null,null,{"$f":"Panels!C51","v":76.699999999999989},{"$f":"Panels!D51","v":8.3000000000000007},null,{"$f":"IF('ROAR TH'!$I$6=\"x\",C22,0)","v":76.699999999999989},{"$f":"IF('ROAR TH'!$I$6=\"x\",D22,0)","v":8.3000000000000007},{"$f":"SUM(C22:C23)/2","v":76.699999999999989},{"$f":"SUM(D22:D23)/2","v":5.0500000000000007},{"$f":"IF('ROAR TH'!$I$5=\"x\",H22,\"\")","v":76.699999999999989},{"$f":"IF('ROAR TH'!$I$5=\"x\",I22,\"\")","v":5.0500000000000007},null,{"$f":"M21","v":0},{"$f":"N21","v":0},null,null,{"$f":"Q21","v":616.20000000000005},308.10000000000002,-308.10000000000002,{"$f":"(U22-R22)*2","v":0},{"$f":"$D$7/2","v":308.10000000000002},-308.10000000000002]
[24,{"$f":"B20+1","v":2},{"$f":"C22","v":76.699999999999989},{"$f":"D20","v":1.8},null,{"$f":"IF('ROAR TH'!$I$6=\"x\",C23,0)","v":76.699999999999989},{"$f":"IF('ROAR TH'!$I$6=\"x\",D23,0)","v":1.8},null,null,{"$f":"J22","v":76.699999999999989},{"$f":"K22","v":5.0500000000000007},null,{"$f":"M22","v":0},{"$f":"N22","v":0},null,null,{"$f":"Q22","v":616.20000000000005},308.10000000000002,-308.10000000000002,0,308.10000000000002,-308.10000000000002]
[null,null,null,null,null,null,null,null,null,{"$f":"J23","v":76.699999999999989},{"$f":"K23","v":5.0500000000000007},null,{"$f":"((H22-H19)^2+(I22-I19)^2)^0.5","v":33.29999999999999},{"$f":"N21+M24","v":33.29999999999999},{"$f":"$O$14","v":47.4},2,{"$f":"((C22-C23)^2+(D22-D23)^2)^0.5*O24*P24","v":616.20000000000005},308.10000000000002,-308.10000000000002,0,308.10000000000002,-308.10000000000002]
[null,null,{"$f":"C22","v":76.699999999999989},{"$f":"D22","v":8.3000000000000007},null,{"$f":"IF('ROAR TH'!$I$6=\"x\",C25,0)","v":76.699999999999989},{"$f":"IF('ROAR TH'!$I$6=\"x\",D25,0)","v":8.3000000000000007},{"$f":"SUM(C25:C26)/2","v":78.324999999999989},{"$f":"SUM(D25:D26)/2","v":5.0500000000000007},{"$f":"IF('ROAR TH'!$I$5=\"x\",H25,\"\")","v":78.324999999999989},{"$f":"IF('ROAR TH'!$I$5=\"x\",I25,\"\")","v":5.0500000000000007},null,{"$f":"M24","v":33.29999999999999},{"$f":"N24","v":33.29999999999999},null,null,{"$f":"Q24","v":616.20000000000005},{"$f":"Q25/2","v":308.10000000000002},{"$f":"-R25","v":-308.10000000000002},{"$f":"(U25-R25)*2","v":0},308.10000000000002,{"$f":"-U25","v":-308.10000000000002}]
[23,{"$f":"B23+1","v":3},{"$f":"(C23+Panels!C10)/2","v":79.949999999999989},{"$f":"D20","v":1.8},null,{"$f":"IF('ROAR TH'!$I$6=\"x\",C26,0)","v":79.949999999999989},{"$f":"IF('ROAR TH'!$I$6=\"x\",D26,0)","v":1.8},null,null,{"$f":"J25","v":78.324999999999989},{"$f":"K25","v":5.0500000000000007},null,{"$f":"M25","v":33.29999999999999},{"$f":"N25","v":33.29999999999999},null,null,{"$f":"Q25","v":616.20000000000005},308.10000000000002,-308.10000000000002,0,308.10000000000002,-308.10000000000002]
[null,null,null,null,null,null,null,null,null,{"$f":"J26","v":78.324999999999989},{"$f":"K26","v":5.0500000000000007},null,{"$f":"((H25-H22)^2+(I25-I22)^2)^0.5","v":1.625},{"$f":"N24+M27","v":34.92499999999999},{"$f":"$O$14","v":47.4},2,{"$f":"((C25-C26)^2+(D25-D26)^2)^0.5*O27*P27","v":688.93254386768535},344.46627193384268,-344.46627193384268,-72.732543867685308,308.10000000000002,-308.10000000000002]
[null,null,{"$f":"C25","v":76.699999999999989},{"$f":"D25","v":8.3000000000000007},null,{"$f":"IF('ROAR TH'!$I$6=\"x\",C28,0)","v":76.699999999999989},{"$f":"IF('ROAR TH'!$I$6=\"x\",D28,0)","v":8.3000000000000007},{"$f":"SUM(C28:C29)/2","v":79.949999999999989},{"$f":"SUM(D28:D29)/2","v":6.6750000000000007},{"$f":"IF('ROAR TH'!$I$5=\"x\",H28,\"\")","v":79.949999999999989},{"$f":"IF('ROAR TH'!$I$5=\"x\",I28,\"\")","v":6.6750000000000007},null,{"$f":"M27","v":1.625},{"$f":"N27","v":34.92499999999999},null,null,{"$f":"Q27","v":688.93254386768535},344.46627193384268,-344.46627193384268,-72.732543867685308,308.10000000000002,-308.10000000000002]
[{"$f":"A32+1","v":22},{"$f":"B26+1","v":4},{"$f":"Panels!C10","v":83.2},{"$f":"(D25+D26)/2","v":5.0500000000000007},null,{"$f":"IF('ROAR TH'!$I$6=\"x\",C29,0)","v":83.2},{"$f":"IF('ROAR TH'!$I$6=\"x\",D29,0)","v":5.0500000000000007},null,null,{"$f":"J28","v":79.949999999999989},{"$f":"K28","v":6.6750000000000007},null,{"$f":"M28","v":1.625},{"$f":"N28","v":34.92499999999999},null,null,{"$f":"Q28","v":688.93254386768535},344.46627193384268,-344.46627193384268,-72.732543867685308,308.10000000000002,-308.10000000000002]
[null,null,null,null,null,null,null,null,null,{"$f":"J29","v":79.949999999999989},{"$f":"K29","v":6.6750000000000007},null,{"$f":"((H28-H25)^2+(I28-I25)^2)^0.5","v":2.2980970388562794},{"$f":"N27+M30","v":37.223097038856267},{"$f":"$O$14","v":47.4},2,{"$f":"((C28-C29)^2+(D28-D29)^2)^0.5*O30*P30","v":688.93254386768638},344.46627193384319,-344.46627193384319,-72.732543867686331,308.10000000000002,-308.10000000000002]
[null,null,{"$f":"C28","v":76.699999999999989},{"$f":"D28","v":8.3000000000000007},null,{"$f":"IF('ROAR TH'!$I$6=\"x\",C31,0)","v":76.699999999999989},{"$f":"IF('ROAR TH'!$I$6=\"x\",D31,0)","v":8.3000000000000007},{"$f":"SUM(C31:C32)/2","v":79.949999999999989},{"$f":"SUM(D31:D32)/2","v":8.3000000000000007},{"$f":"IF('ROAR TH'!$I$5=\"x\",H31,\"\")","v":79.949999999999989},{"$f":"IF('ROAR TH'!$I$5=\"x\",I31,\"\")","v":8.3000000000000007},null,{"$f":"M30","v":2.2980970388562794},{"$f":"N30","v":37.223097038856267},null,null,{"$f":"Q30","v":688.93254386768638},344.46627193384319,-344.46627193384319,-72.732543867686331,308.10000000000002,-308.10000000000002]
[{"$f":"A35+1","v":21},{"$f":"B29+1","v":5},{"$f":"Panels!C13","v":83.2},{"$f":"D31","v":8.3000000000000007},null,{"$f":"IF('ROAR TH'!$I$6=\"x\",C32,0)","v":83.2},{"$f":"IF('ROAR TH'!$I$6=\"x\",D32,0)","v":8.3000000000000007},null,null,{"$f":"J31","v":79.949999999999989},{"$f":"K31","v":8.3000000000000007},null,{"$f":"M31","v":2.2980970388562794},{"$f":"N31","v":37.223097038856267},null,null,{"$f":"Q31","v":688.93254386768638},344.46627193384319,-344.46627193384319,-72.732543867686331,308.10000000000002,-308.10000000000002]
[null,null,null,null,null,null,null,null,null,{"$f":"J32","v":79.949999999999989},{"$f":"K32","v":8.3000000000000007},null,{"$f":"((H31-H28)^2+(I31-I28)^2)^0.5","v":1.625},{"$f":"N30+M33","v":38.848097038856267},{"$f":"$O$14","v":47.4},2,{"$f":"((C31-C32)^2+(D31-D32)^2)^0.5*O33*P33","v":616.2000000000013},308.10000000000065,-308.10000000000065,-1.2505552149377763E-12,308.10000000000002,-308.10000000000002]
[null,null,{"$f":"Panels!C10","v":83.2},{"$f":"D35","v":76.700000000000017},null,{"$f":"IF('ROAR TH'!$I$6=\"x\",C34,0)","v":83.2},{"$f":"IF('ROAR TH'!$I$6=\"x\",D34,0)","v":76.700000000000017},{"$f":"SUM(C34:C35)/2","v":79.949999999999989},{"$f":"SUM(D34:D35)/2","v":76.700000000000017},{"$f":"IF('ROAR TH'!$I$5=\"x\",H34,\"\")","v":79.949999999999989},{"$f":"IF('ROAR TH'!$I$5=\"x\",I34,\"\")","v":76.700000000000017},null,{"$f":"M33","v":1.625},{"$f":"N33","v":38.848097038856267},null,null,{"$f":"Q33","v":616.2000000000013},308.10000000000065,-308.10000000000065,-1.2505552149377763E-12,308.10000000000002,-308.10000000000002]
[{"$f":"A38+1","v":20},{"$f":"B32+1","v":6},{"$f":"Panels!C$65","v":76.699999999999989},{"$f":"Panels!D$65","v":76.700000000000017},null,{"$f":"IF('ROAR TH'!$I$6=\"x\",C35,0)","v":76.699999999999989},{"$f":"IF('ROAR TH'!$I$6=\"x\",D35,0)","v":76.700000000000017},null,null,{"$f":"J34","v":79.949999999999989},{"$f":"K34","v":76.700000000000017},null,{"$f":"M34","v":1.625},{"$f":"N34","v":38.848097038856267},null,null,{"$f":"Q34","v":616.2000000000013},308.10000000000065,-308.10000000000065,-1.2505552149377763E-12,308.10000000000002,-308.10000000000002]
[null,null,null,null,null,null,null,null,null,{"$f":"J35","v":79.949999999999989},{"$f":"K35","v":76.700000000000017},null,{"$f":"((H34-H31)^2+(I34-I31)^2)^0.5","v":68.40000000000002},{"$f":"N33+M36","v":107.24809703885629},{"$f":"$O$14","v":47.4},2,{"$f":"((C34-C35)^2+(D34-D35)^2)^0.5*O36*P36","v":616.2000000000013},308.10000000000065,-308.10000000000065,-1.2505552149377763E-12,308.10000000000002,-308.10000000000002]
[null,null,{"$f":"C34","v":83.2},{"$f":"(D35+Panels!D42)/2","v":79.950000000000017},null,{"$f":"IF('ROAR TH'!$I$6=\"x\",C37,0)","v":83.2},{"$f":"IF('ROAR TH'!$I$6=\"x\",D37,0)","v":79.950000000000017},{"$f":"SUM(C37:C38)/2","v":79.949999999999989},{"$f":"SUM(D37:D38)/2","v":78.325000000000017},{"$f":"IF('ROAR TH'!$I$5=\"x\",H37,\"\")","v":79.949999999999989},{"$f":"IF('ROAR TH'!$I$5=\"x\",I37,\"\")","v":78.325000000000017},null,{"$f":"M36","v":68.40000000000002},{"$f":"N36","v":107.24809703885629},null,null,{"$f":"Q36","v":616.2000000000013},308.10000000000065,-308.10000000000065,-1.2505552149377763E-12,308.10000000000002,-308.10000000000002]
[{"$f":"A41+1","v":19},{"$f":"B35+1","v":7},{"$f":"C35","v":76.699999999999989},{"$f":"D35","v":76.700000000000017},null,{"$f":"IF('ROAR TH'!$I$6=\"x\",C38,0)","v":76.699999999999989},{"$f":"IF('ROAR TH'!$I$6=\"x\",D38,0)","v":76.700000000000017},null,null,{"$f":"J37","v":79.949999999999989},{"$f":"K37","v":78.325000000000017},null,{"$f":"M37","v":68.40000000000002},{"$f":"N37","v":107.24809703885629},null,null,{"$f":"Q37","v":616.2000000000013},308.10000000000065,-308.10000000000065,-1.2505552149377763E-12,308.10000000000002,-308.10000000000002]
[null,null,null,null,null,null,null,null,null,{"$f":"J38","v":79.949999999999989},{"$f":"K38","v":78.325000000000017},null,{"$f":"((H37-H34)^2+(I37-I34)^2)^0.5","v":1.625},{"$f":"N36+M39","v":108.87309703885629},{"$f":"$O$14","v":47.4},2,{"$f":"((C37-C38)^2+(D37-D38)^2)^0.5*O39*P39","v":688.93254386768638},344.46627193384319,-344.46627193384319,-72.732543867686331,308.10000000000002,-308.10000000000002]
[null,null,{"$f":"(C37+C38)/2","v":79.949999999999989},{"$f":"Panels!D42","v":83.2},null,{"$f":"IF('ROAR TH'!$I$6=\"x\",C40,0)","v":79.949999999999989},{"$f":"IF('ROAR TH'!$I$6=\"x\",D40,0)","v":83.2},{"$f":"SUM(C40:C41)/2","v":78.324999999999989},{"$f":"SUM(D40:D41)/2","v":79.950000000000017},{"$f":"IF('ROAR TH'!$I$5=\"x\",H40,\"\")","v":78.324999999999989},{"$f":"IF('ROAR TH'!$I$5=\"x\",I40,\"\")","v":79.950000000000017},null,{"$f":"M39","v":1.625},{"$f":"N39","v":108.87309703885629},null,null,{"$f":"Q39","v":688.93254386768638},344.46627193384319,-344.46627193384319,-72.732543867686331,308.10000000000002,-308.10000000000002]
[{"$f":"A44+1","v":18},{"$f":"B38+1","v":8},{"$f":"C38","v":76.699999999999989},{"$f":"D38","v":76.700000000000017},null,{"$f":"IF('ROAR TH'!$I$6=\"x\",C41,0)","v":76.699999999999989},{"$f":"IF('ROAR TH'!$I$6=\"x\",D41,0)","v":76.700000000000017},null,null,{"$f":"J40","v":78.324999999999989},{"$f":"K40","v":79.950000000000017},null,{"$f":"M40","v":1.625},{"$f":"N40","v":108.87309703885629},null,null,{"$f":"Q40","v":688.93254386768638},344.46627193384319,-344.46627193384319,-72.732543867686331,308.10000000000002,-308.10000000000002]
[null,null,null,null,null,null,null,null,null,{"$f":"J41","v":78.324999999999989},{"$f":"K41","v":79.950000000000017},null,{"$f":"((H40-H37)^2+(I40-I37)^2)^0.5","v":2.2980970388562794},{"$f":"N39+M42","v":111.17119407771257},{"$f":"$O$14","v":47.4},2,{"$f":"((C40-C41)^2+(D40-D41)^2)^0.5*O42*P42","v":688.93254386768399},344.46627193384199,-344.46627193384199,-72.732543867683944,308.10000000000002,-308.10000000000002]
[null,null,{"$f":"C41","v":76.699999999999989},{"$f":"D40","v":83.2},null,{"$f":"IF('ROAR TH'!$I$6=\"x\",C43,0)","v":76.699999999999989},{"$f":"IF('ROAR TH'!$I$6=\"x\",D43,0)","v":83.2},{"$f":"SUM(C43:C44)/2","v":76.699999999999989},{"$f":"SUM(D43:D44)/2","v":79.950000000000017},{"$f":"IF('ROAR TH'!$I$5=\"x\",H43,\"\")","v":76.699999999999989},{"$f":"IF('ROAR TH'!$I$5=\"x\",I43,\"\")","v":79.950000000000017},null,{"$f":"M39","v":1.625},{"$f":"N42","v":111.17119407771257},null,null,{"$f":"Q42","v":688.93254386768399},344.46627193384199,-344.46627193384199,-72.732543867683944,308.10000000000002,-308.10000000000002]
[{"$f":"A47+1","v":17},{"$f":"B41+1","v":9},{"$f":"C41","v":76.699999999999989},{"$f":"D41","v":76.700000000000017},null,{"$f":"IF('ROAR TH'!$I$6=\"x\",C44,0)","v":76.699999999999989},{"$f":"IF('ROAR TH'!$I$6=\"x\",D44,0)","v":76.700000000000017},null,null,{"$f":"J43","v":76.699999999999989},{"$f":"K43","v":79.950000000000017},null,{"$f":"M43","v":1.625},{"$f":"N43","v":111.17119407771257},null,null,688.93254386768399,344.46627193384199,-344.46627193384199,-72.732543867683944,308.10000000000002,-308.10000000000002]
[null,null,null,null,null,null,null,null,null,{"$f":"J44","v":76.699999999999989},{"$f":"K44","v":79.950000000000017},null,{"$f":"((H43-H40)^2+(I43-I40)^2)^0.5","v":1.625},{"$f":"N42+M45","v":112.79619407771257},{"$f":"$O$14","v":47.4},2,{"$f":"((C43-C44)^2+(D43-D44)^2)^0.5*O45*P45","v":616.19999999999868},308.09999999999934,-308.09999999999934,1.3642420526593924E-12,308.10000000000002,-308.10000000000002]
[null,null,{"$f":"(C43+C49)/2","v":75.799999999999983},{"$f":"D44","v":76.700000000000017},null,{"$f":"IF('ROAR TH'!$I$6=\"x\",C46,0)","v":75.799999999999983},{"$f":"IF('ROAR TH'!$I$6=\"x\",D46,0)","v":76.700000000000017},{"$f":"SUM(C46:C47)/2","v":75.799999999999983},{"$f":"SUM(D46:D47)/2","v":79.950000000000017},{"$f":"IF('ROAR TH'!$I$5=\"x\",H46,\"\")","v":75.799999999999983},{"$f":"IF('ROAR TH'!$I$5=\"x\",I46,\"\")","v":79.950000000000017},null,{"$f":"M45","v":1.625},{"$f":"N45","v":112.79619407771257},null,null,{"$f":"Q45","v":616.19999999999868},308.09999999999934,-308.09999999999934,1.3642420526593924E-12,308.10000000000002,-308.10000000000002]
[{"$f":"A50+1","v":16},{"$f":"B44+1","v":10},{"$f":"(C44+C50)/2","v":75.799999999999983},{"$f":"D43","v":83.2},null,{"$f":"IF('ROAR TH'!$I$6=\"x\",C47,0)","v":75.799999999999983},{"$f":"IF('ROAR TH'!$I$6=\"x\",D47,0)","v":83.2},null,null,{"$f":"J46","v":75.799999999999983},{"$f":"K46","v":79.950000000000017},null,{"$f":"M46","v":1.625},{"$f":"N46","v":112.79619407771257},null,null,616.19999999999868,308.09999999999934,-308.09999999999934,1.3642420526593924E-12,308.10000000000002,-308.10000000000002]
[null,null,null,null,null,null,null,null,null,{"$f":"J47","v":75.799999999999983},{"$f":"K47","v":79.950000000000017},null,{"$f":"((H46-H43)^2+(I46-I43)^2)^0.5","v":0.90000000000000568},{"$f":"N45+M48","v":113.69619407771258},{"$f":"$O$14","v":47.4},2,{"$f":"((C46-C47)^2+(D46-D47)^2)^0.5*O48*P48","v":616.19999999999868},308.09999999999934,-308.09999999999934,1.3642420526593924E-12,308.10000000000002,-308.10000000000002]
[null,null,{"$f":"Panels!C$64","v":74.899999999999991},{"$f":"Panels!D$64","v":76.700000000000017},null,{"$f":"IF('ROAR TH'!$I$6=\"x\",C49,0)","v":74.899999999999991},{"$f":"IF('ROAR TH'!$I$6=\"x\",D49,0)","v":76.700000000000017},{"$f":"SUM(C49:C50)/2","v":74.899999999999991},{"$f":"SUM(D49:D50)/2","v":79.950000000000017},{"$f":"IF('ROAR TH'!$I$5=\"x\",H49,\"\")","v":74.899999999999991},{"$f":"IF('ROAR TH'!$I$5=\"x\",I49,\"\")","v":79.950000000000017},null,{"$f":"M48","v":0.90000000000000568},{"$f":"N48","v":113.69619407771258},null,null,{"$f":"Q48","v":616.19999999999868},308.09999999999934,-308.09999999999934,1.3642420526593924E-12,308.10000000000002,-308.10000000000002]
[{"$f":"A53+1","v":15},{"$f":"B47+1","v":11},{"$f":"C49","v":74.899999999999991},{"$f":"D43","v":83.2},null,{"$f":"IF('ROAR TH'!$I$6=\"x\",C50,0)","v":74.899999999999991},{"$f":"IF('ROAR TH'!$I$6=\"x\",D50,0)","v":83.2},null,null,{"$f":"J49","v":74.899999999999991},{"$f":"K49","v":79.950000000000017},null,{"$f":"M49","v":0.90000000000000568},{"$f":"N49","v":113.69619407771258},null,null,616.19999999999868,308.09999999999934,-308.09999999999934,1.3642420526593924E-12,308.10000000000002,-308.10000000000002]
[null,null,null,null,null,null,null,null,null,{"$f":"J50","v":74.899999999999991},{"$f":"K50","v":79.950000000000017},null,{"$f":"((H49-H46)^2+(I49-I46)^2)^0.5","v":0.89999999999999147},{"$f":"N48+M51","v":114.59619407771257},{"$f":"$O$14","v":47.4},2,{"$f":"((C49-C50)^2+(D49-D50)^2)^0.5*O51*P51","v":616.19999999999868},308.09999999999934,-308.09999999999934,1.3642420526593924E-12,308.10000000000002,-308.10000000000002]
[null,null,{"$f":"C55","v":74.899999999999991},{"$f":"D55","v":76.700000000000017},null,{"$f":"IF('ROAR TH'!$I$6=\"x\",C52,0)","v":74.899999999999991},{"$f":"IF('ROAR TH'!$I$6=\"x\",D52,0)","v":76.700000000000017},{"$f":"SUM(C52:C53)/2","v":73.274999999999991},{"$f":"SUM(D52:D53)/2","v":79.950000000000017},{"$f":"IF('ROAR TH'!$I$5=\"x\",H52,\"\")","v":73.274999999999991},{"$f":"IF('ROAR TH'!$I$5=\"x\",I52,\"\")","v":79.950000000000017},null,{"$f":"M51","v":0.89999999999999147},{"$f":"N51","v":114.59619407771257},null,null,{"$f":"Q51","v":616.19999999999868},308.09999999999934,-308.09999999999934,1.3642420526593924E-12,308.10000000000002,-308.10000000000002]
[{"$f":"A56+1","v":14},{"$f":"B50+1","v":12},{"$f":"(C52+C56)/2","v":71.649999999999991},{"$f":"D50","v":83.2},null,{"$f":"IF('ROAR TH'!$I$6=\"x\",C53,0)","v":71.649999999999991},{"$f":"IF('ROAR TH'!$I$6=\"x\",D53,0)","v":83.2},null,null,{"$f":"J52","v":73.274999999999991},{"$f":"K52","v":79.950000000000017},null,{"$f":"M52","v":0.89999999999999147},{"$f":"N52","v":114.59619407771257},null,null,616.19999999999868,308.09999999999934,-308.09999999999934,1.3642420526593924E-12,308.10000000000002,-308.10000000000002]
[null,null,null,null,null,null,null,null,null,{"$f":"J53","v":73.274999999999991},{"$f":"K53","v":79.950000000000017},null,{"$f":"((H52-H49)^2+(I52-I49)^2)^0.5","v":1.625},{"$f":"N51+M54","v":116.22119407771257},{"$f":"$O$14","v":47.4},2,{"$f":"((C52-C53)^2+(D52-D53)^2)^0.5*O54*P54","v":688.93254386768399},344.46627193384199,-344.46627193384199,-72.732543867683944,308.10000000000002,-308.10000000000002]
[null,null,{"$f":"C58","v":74.899999999999991},{"$f":"D58","v":76.700000000000017},null,{"$f":"IF('ROAR TH'!$I$6=\"x\",C55,0)","v":74.899999999999991},{"$f":"IF('ROAR TH'!$I$6=\"x\",D55,0)","v":76.700000000000017},{"$f":"SUM(C55:C56)/2","v":71.649999999999991},{"$f":"SUM(D55:D56)/2","v":78.325000000000017},{"$f":"IF('ROAR TH'!$I$5=\"x\",H55,\"\")","v":71.649999999999991},{"$f":"IF('ROAR TH'!$I$5=\"x\",I55,\"\")","v":78.325000000000017},null,{"$f":"M54","v":1.625},{"$f":"N54","v":116.22119407771257},null,null,{"$f":"Q54","v":688.93254386768399},344.46627193384199,-344.46627193384199,-72.732543867683944,308.10000000000002,-308.10000000000002]
[{"$f":"A59+1","v":13},{"$f":"B53+1","v":13},{"$f":"C59","v":68.399999999999991},{"$f":"(D50+D59)/2","v":79.950000000000017},null,{"$f":"IF('ROAR TH'!$I$6=\"x\",C56,0)","v":68.399999999999991},{"$f":"IF('ROAR TH'!$I$6=\"x\",D56,0)","v":79.950000000000017},null,null,{"$f":"J55","v":71.649999999999991},{"$f":"K55","v":78.325000000000017},null,{"$f":"M55","v":1.625},{"$f":"N55","v":116.22119407771257},null,null,688.93254386768399,344.46627193384199,-344.46627193384199,-72.732543867683944,308.10000000000002,-308.10000000000002]
[null,null,null,null,null,null,null,null,null,{"$f":"J56","v":71.649999999999991},{"$f":"K56","v":78.325000000000017},null,{"$f":"((H55-H52)^2+(I55-I52)^2)^0.5","v":2.2980970388562794},{"$f":"N54+M57","v":118.51929111656885},{"$f":"$O$14","v":47.4},2,{"$f":"((C55-C56)^2+(D55-D56)^2)^0.5*O57*P57","v":688.93254386768524},344.46627193384262,-344.46627193384262,-72.732543867685195,308.10000000000002,-308.10000000000002]
[null,null,{"$f":"C49","v":74.899999999999991},{"$f":"D49","v":76.700000000000017},null,{"$f":"IF('ROAR TH'!$I$6=\"x\",C58,0)","v":74.899999999999991},{"$f":"IF('ROAR TH'!$I$6=\"x\",D58,0)","v":76.700000000000017},{"$f":"SUM(C58:C59)/2","v":71.649999999999991},{"$f":"SUM(D58:D59)/2","v":76.700000000000017},{"$f":"IF('ROAR TH'!$I$5=\"x\",H58,\"\")","v":71.649999999999991},{"$f":"IF('ROAR TH'!$I$5=\"x\",I58,\"\")","v":76.700000000000017},null,{"$f":"M57","v":2.2980970388562794},{"$f":"N57","v":118.51929111656885},null,null,{"$f":"Q57","v":688.93254386768524},344.46627193384262,-344.46627193384262,-72.732543867685195,308.10000000000002,-308.10000000000002]
[{"$f":"A62+1","v":12},{"$f":"B56+1","v":14},{"$f":"C64","v":68.399999999999991},{"$f":"D58","v":76.700000000000017},null,{"$f":"IF('ROAR TH'!$I$6=\"x\",C59,0)","v":68.399999999999991},{"$f":"IF('ROAR TH'!$I$6=\"x\",D59,0)","v":76.700000000000017},null,null,{"$f":"J58","v":71.649999999999991},{"$f":"K58","v":76.700000000000017},null,{"$f":"M58","v":2.2980970388562794},{"$f":"N58","v":118.51929111656885},null,null,688.93254386768524,344.46627193384262,-344.46627193384262,-72.732543867685195,308.10000000000002,-308.10000000000002]
[null,null,null,null,null,null,null,null,null,{"$f":"J59","v":71.649999999999991},{"$f":"K59","v":76.700000000000017},null,{"$f":"((H58-H55)^2+(I58-I55)^2)^0.5","v":1.625},{"$f":"N57+M60","v":120.14429111656885},{"$f":"$O$14","v":47.4},2,{"$f":"((C58-C59)^2+(D58-D59)^2)^0.5*O60*P60","v":616.19999999999993},308.09999999999997,-308.09999999999997,1.1368683772161603E-13,308.10000000000002,-308.10000000000002]
[null,null,{"$f":"C64","v":68.399999999999991},{"$f":"(D58+D64)/2","v":50.10160691443042},null,{"$f":"IF('ROAR TH'!$I$6=\"x\",C61,0)","v":68.399999999999991},{"$f":"IF('ROAR TH'!$I$6=\"x\",D61,0)","v":50.10160691443042},{"$f":"SUM(C61:C62)/2","v":71.649999999999991},{"$f":"SUM(D61:D62)/2","v":50.10160691443042},{"$f":"IF('ROAR TH'!$I$5=\"x\",H61,\"\")","v":71.649999999999991},{"$f":"IF('ROAR TH'!$I$5=\"x\",I61,\"\")","v":50.10160691443042},null,{"$f":"M60","v":1.625},{"$f":"N60","v":120.14429111656885},null,null,{"$f":"Q60","v":616.19999999999993},308.09999999999997,-308.09999999999997,1.1368683772161603E-13,308.10000000000002,-308.10000000000002]
[{"$f":"A65+1","v":11},{"$f":"B59+1","v":15},{"$f":"C58","v":74.899999999999991},{"$f":"D61","v":50.10160691443042},null,{"$f":"IF('ROAR TH'!$I$6=\"x\",C62,0)","v":74.899999999999991},{"$f":"IF('ROAR TH'!$I$6=\"x\",D62,0)","v":50.10160691443042},null,null,{"$f":"J61","v":71.649999999999991},{"$f":"K61","v":50.10160691443042},null,{"$f":"M61","v":1.625},{"$f":"N61","v":120.14429111656885},null,null,616.19999999999993,308.09999999999997,-308.09999999999997,1.1368683772161603E-13,308.10000000000002,-308.10000000000002]
[null,null,null,null,null,null,null,null,null,{"$f":"J62","v":71.649999999999991},{"$f":"K62","v":50.10160691443042},null,{"$f":"((H61-H58)^2+(I61-I58)^2)^0.5","v":26.598393085569597},{"$f":"N60+M63","v":146.74268420213843},{"$f":"$O$14","v":47.4},2,{"$f":"((C61-C62)^2+(D61-D62)^2)^0.5*O63*P63","v":616.19999999999993},308.09999999999997,-308.09999999999997,1.1368683772161603E-13,308.10000000000002,-308.10000000000002]
[null,null,{"$f":"C73","v":68.399999999999991},{"$f":"D73","v":23.503213828860829},null,{"$f":"IF('ROAR TH'!$I$6=\"x\",C64,0)","v":68.399999999999991},{"$f":"IF('ROAR TH'!$I$6=\"x\",D64,0)","v":23.503213828860829},{"$f":"SUM(C64:C65)/2","v":71.649999999999991},{"$f":"SUM(D64:D65)/2","v":23.503213828860829},{"$f":"IF('ROAR TH'!$I$5=\"x\",H64,\"\")","v":71.649999999999991},{"$f":"IF('ROAR TH'!$I$5=\"x\",I64,\"\")","v":23.503213828860829},null,{"$f":"M63","v":26.598393085569597},{"$f":"N63","v":146.74268420213843},null,null,{"$f":"Q63","v":616.19999999999993},308.09999999999997,-308.09999999999997,1.1368683772161603E-13,308.10000000000002,-308.10000000000002]
[{"$f":"A68+1","v":10},{"$f":"B62+1","v":16},{"$f":"C50","v":74.899999999999991},{"$f":"D64","v":23.503213828860829},"S3",{"$f":"IF('ROAR TH'!$I$6=\"x\",C65,0)","v":74.899999999999991},{"$f":"IF('ROAR TH'!$I$6=\"x\",D65,0)","v":23.503213828860829},null,null,{"$f":"J64","v":71.649999999999991},{"$f":"K64","v":23.503213828860829},null,{"$f":"M64","v":26.598393085569597},{"$f":"N64","v":146.74268420213843},null,null,616.19999999999993,308.09999999999997,-308.09999999999997,1.1368683772161603E-13,308.10000000000002,-308.10000000000002]
[null,null,null,null,null,null,null,null,null,{"$f":"J65","v":71.649999999999991},{"$f":"K65","v":23.503213828860829},null,{"$f":"((H64-H61)^2+(I64-I61)^2)^0.5","v":26.59839308556959},{"$f":"N63+M66","v":173.34107728770803},{"$f":"$O$14","v":47.4},2,{"$f":"((C64-C65)^2+(D64-D65)^2)^0.5*O66*P66","v":616.19999999999993},308.09999999999997,-308.09999999999997,1.1368683772161603E-13,308.10000000000002,-308.10000000000002]
[null,null,{"$f":"C70","v":68.399999999999991},{"$f":"D70","v":23.503213828860829},null,{"$f":"IF('ROAR TH'!$I$6=\"x\",C67,0)","v":68.399999999999991},{"$f":"IF('ROAR TH'!$I$6=\"x\",D67,0)","v":23.503213828860829},{"$f":"SUM(C67:C68)/2","v":71.649999999999991},{"$f":"SUM(D67:D68)/2","v":20.152410371645622},{"$f":"IF('ROAR TH'!$I$5=\"x\",H67,\"\")","v":71.649999999999991},{"$f":"IF('ROAR TH'!$I$5=\"x\",I67,\"\")","v":20.152410371645622},null,{"$f":"M66","v":26.59839308556959},{"$f":"N66","v":173.34107728770803},null,null,{"$f":"Q66","v":616.19999999999993},308.09999999999997,-308.09999999999997,0,{"$f":"(($D$10-$D$9)*(N67-$E$9)/($E$10-$E$9)+$D$9)/2","v":308.09999999999997},-308.09999999999997]
[{"$f":"A71+1","v":9},{"$f":"B65+1","v":17},{"$f":"C65","v":74.899999999999991},{"$f":"(D65+D71)/2","v":16.801606914430415},null,{"$f":"IF('ROAR TH'!$I$6=\"x\",C68,0)","v":74.899999999999991},{"$f":"IF('ROAR TH'!$I$6=\"x\",D68,0)","v":16.801606914430415},null,null,{"$f":"J67","v":71.649999999999991},{"$f":"K67","v":20.152410371645622},null,{"$f":"M67","v":26.59839308556959},{"$f":"N67","v":173.34107728770803},null,null,616.19999999999993,308.09999999999997,-308.09999999999997,0,308.09999999999997,-308.09999999999997]
[null,null,null,null,null,null,null,null,null,{"$f":"J68","v":71.649999999999991},{"$f":"K68","v":20.152410371645622},null,{"$f":"((H67-H64)^2+(I67-I64)^2)^0.5","v":3.350803457215207},{"$f":"N66+M69","v":176.69188074492325},{"$f":"$O$14","v":47.4},2,{"$f":"((C67-C68)^2+(D67-D68)^2)^0.5*O69*P69","v":885.05604547012797},442.52802273506398,-442.52802273506398,-60.010246610419813,412.52289942985408,-412.52289942985408]
[null,null,{"$f":"C73","v":68.399999999999991},{"$f":"D73","v":23.503213828860829},null,{"$f":"IF('ROAR TH'!$I$6=\"x\",C70,0)","v":68.399999999999991},{"$f":"IF('ROAR TH'!$I$6=\"x\",D70,0)","v":23.503213828860829},{"$f":"SUM(C70:C71)/2","v":70.024999999999991},{"$f":"SUM(D70:D71)/2","v":16.801606914430415},{"$f":"IF('ROAR TH'!$I$5=\"x\",H70,\"\")","v":70.024999999999991},{"$f":"IF('ROAR TH'!$I$5=\"x\",I70,\"\")","v":16.801606914430415},null,{"$f":"M69","v":3.350803457215207},{"$f":"N69","v":176.69188074492325},null,null,{"$f":"Q69","v":885.05604547012797},442.52802273506398,-442.52802273506398,-60.010246610419813,{"$f":"(($D$10-$D$9)*(N70-$E$9)/($E$10-$E$9)+$D$9)/2","v":412.52289942985408},-412.52289942985408]
[{"$f":"A74+1","v":8},{"$f":"B68+1","v":18},{"$f":"(C74+C65)/2","v":71.649999999999991},{"$f":"D74","v":10.100000000000001},null,{"$f":"IF('ROAR TH'!$I$6=\"x\",C71,0)","v":71.649999999999991},{"$f":"IF('ROAR TH'!$I$6=\"x\",D71,0)","v":10.100000000000001},null,null,{"$f":"J70","v":70.024999999999991},{"$f":"K70","v":16.801606914430415},null,{"$f":"M70","v":3.350803457215207},{"$f":"N70","v":176.69188074492325},null,null,885.05604547012797,442.52802273506398,-442.52802273506398,-60.010246610419813,412.52289942985408,-412.52289942985408]
[null,null,null,null,null,null,null,null,null,{"$f":"J71","v":70.024999999999991},{"$f":"K71","v":16.801606914430415},null,{"$f":"((H70-H67)^2+(I70-I67)^2)^0.5","v":3.7240446840613211},{"$f":"N69+M72","v":180.41592542898456},{"$f":"$O$14","v":47.4},2,{"$f":"((C70-C71)^2+(D70-D71)^2)^0.5*O72*P72","v":1307.4450904312903},653.72254521564514,-653.72254521564514,-250.29045649284376,528.57731696922326,-528.57731696922326]
[null,null,{"$f":"Panels!C71","v":68.399999999999991},{"$f":"Panels!D71","v":23.503213828860829},null,{"$f":"IF('ROAR TH'!$I$6=\"x\",C73,0)","v":68.399999999999991},{"$f":"IF('ROAR TH'!$I$6=\"x\",D73,0)","v":23.503213828860829},{"$f":"SUM(C73:C74)/2","v":68.399999999999991},{"$f":"SUM(D73:D74)/2","v":16.801606914430415},{"$f":"IF('ROAR TH'!$I$5=\"x\",H73,\"\")","v":68.399999999999991},{"$f":"IF('ROAR TH'!$I$5=\"x\",I73,\"\")","v":16.801606914430415},null,{"$f":"M72","v":3.7240446840613211},{"$f":"N72","v":180.41592542898456},null,null,1307.4450904312903,653.72254521564514,-653.72254521564514,-250.29045649284376,{"$f":"(($D$10-$D$9)*(N73-$E$9)/($E$10-$E$9)+$D$9)/2","v":528.57731696922326},-528.57731696922326]
[{"$f":"A77+1","v":7},{"$f":"B71+1","v":19},{"$f":"C73","v":68.399999999999991},{"$f":"Panels!$D$52","v":10.100000000000001},null,{"$f":"IF('ROAR TH'!$I$6=\"x\",C74,0)","v":68.399999999999991},{"$f":"IF('ROAR TH'!$I$6=\"x\",D74,0)","v":10.100000000000001},null,null,{"$f":"J73","v":68.399999999999991},{"$f":"K73","v":16.801606914430415},null,{"$f":"M73","v":3.7240446840613211},{"$f":"N73","v":180.41592542898456},null,null,1307.4450904312903,653.72254521564514,-653.72254521564514,-250.29045649284376,528.57731696922326,-528.57731696922326]
[null,null,null,null,null,null,null,null,null,{"$f":"J74","v":68.399999999999991},{"$f":"K74","v":16.801606914430415},null,{"$f":"((H73-H70)^2+(I73-I70)^2)^0.5","v":1.625},{"$f":"N72+M75","v":182.04092542898456},{"$f":"$O$14","v":47.4},2,{"$f":"((C73-C74)^2+(D73-D74)^2)^0.5*O75*P75","v":1270.6246709760064},635.31233548800321,-635.31233548800321,-112.18853023468932,579.21807037065855,-579.21807037065855]
[null,null,{"$f":"Panels!C41","v":66.599999999999994},{"$f":"D73","v":23.503213828860829},null,{"$f":"IF('ROAR TH'!$I$6=\"x\",C76,0)","v":66.599999999999994},{"$f":"IF('ROAR TH'!$I$6=\"x\",D76,0)","v":23.503213828860829},{"$f":"SUM(C76:C77)/2","v":66.599999999999994},{"$f":"SUM(D76:D77)/2","v":16.801606914430415},{"$f":"IF('ROAR TH'!$I$5=\"x\",H76,\"\")","v":66.599999999999994},{"$f":"IF('ROAR TH'!$I$5=\"x\",I76,\"\")","v":16.801606914430415},null,{"$f":"M75","v":1.625},{"$f":"N75","v":182.04092542898456},null,null,1270.6246709760064,635.31233548800321,-635.31233548800321,-112.18853023468932,{"$f":"(($D$10-$D$9)*(N76-$E$9)/($E$10-$E$9)+$D$9)/2","v":579.21807037065855},-579.21807037065855]
[{"$f":"A80+1","v":6},{"$f":"B74+1","v":20},{"$f":"C76","v":66.599999999999994},{"$f":"Panels!D52","v":10.100000000000001},null,{"$f":"IF('ROAR TH'!$I$6=\"x\",C77,0)","v":66.599999999999994},{"$f":"IF('ROAR TH'!$I$6=\"x\",D77,0)","v":10.100000000000001},null,null,{"$f":"J76","v":66.599999999999994},{"$f":"K76","v":16.801606914430415},null,{"$f":"M76","v":1.625},{"$f":"N76","v":182.04092542898456},null,null,1270.6246709760064,635.31233548800321,-635.31233548800321,-112.18853023468932,579.21807037065855,-579.21807037065855]
[null,null,null,null,null,null,null,null,null,{"$f":"J77","v":66.599999999999994},{"$f":"K77","v":16.801606914430415},null,{"$f":"((H76-H73)^2+(I76-I73)^2)^0.5","v":1.7999999999999972},{"$f":"N75+M78","v":183.84092542898458},{"$f":"$O$14","v":47.4},2,{"$f":"((C76-C77)^2+(D76-D77)^2)^0.5*O78*P78","v":1270.6246709760064},635.31233548800321,-635.31233548800321,2.1576233734776906E-4,635.31244336917189,-635.31244336917189]
[null,null,{"$f":"(Panels!C81+C76)/2","v":54.55},{"$f":"D77","v":10.100000000000001},null,{"$f":"IF('ROAR TH'!$I$6=\"x\",C79,0)","v":54.55},{"$f":"IF('ROAR TH'!$I$6=\"x\",D79,0)","v":10.100000000000001},{"$f":"SUM(C79:C80)/2","v":60.574999999999996},{"$f":"SUM(D79:D80)/2","v":16.801606914430415},{"$f":"IF('ROAR TH'!$I$5=\"x\",H79,\"\")","v":60.574999999999996},{"$f":"IF('ROAR TH'!$I$5=\"x\",I79,\"\")","v":16.801606914430415},null,{"$f":"M78","v":1.7999999999999972},{"$f":"N78","v":183.84092542898458},null,null,1270.6246709760064,635.31233548800321,-635.31233548800321,2.1576233734776906E-4,{"$f":"(($D$10-$D$9)*(N79-$E$9)/($E$10-$E$9)+$D$9)/2","v":635.31244336917189},-635.31244336917189]
[{"$f":"A83+1","v":5},{"$f":"B77+1","v":21},{"$f":"C76","v":66.599999999999994},{"$f":"D76","v":23.503213828860829},null,{"$f":"IF('ROAR TH'!$I$6=\"x\",C80,0)","v":66.599999999999994},{"$f":"IF('ROAR TH'!$I$6=\"x\",D80,0)","v":23.503213828860829},null,null,{"$f":"J79","v":60.574999999999996},{"$f":"K79","v":16.801606914430415},null,{"$f":"M79","v":1.7999999999999972},{"$f":"N79","v":183.84092542898458},null,null,1270.6246709760064,635.31233548800321,-635.31233548800321,2.1576233734776906E-4,635.31244336917189,-635.31244336917189]
[null,null,null,null,null,null,null,null,null,{"$f":"J80","v":60.574999999999996},{"$f":"K80","v":16.801606914430415},null,{"$f":"((H79-H76)^2+(I79-I76)^2)^0.5","v":6.0249999999999986},{"$f":"N78+M81","v":189.86592542898458},{"$f":"$O$14","v":47.4},2,{"$f":"((C79-C80)^2+(D79-D80)^2)^0.5*O81*P81","v":1708.6332930423907},854.31664652119537,-854.31664652119537,-62.487742619557366,823.07277521141668,-823.07277521141668]
[null,null,{"$f":"C85","v":42.5},{"$f":"(D79+D83)/2","v":16.801606914430415},null,{"$f":"IF('ROAR TH'!$I$6=\"x\",C82,0)","v":42.5},{"$f":"IF('ROAR TH'!$I$6=\"x\",D82,0)","v":16.801606914430415},{"$f":"SUM(C82:C83)/2","v":54.55},{"$f":"SUM(D82:D83)/2","v":20.152410371645622},{"$f":"IF('ROAR TH'!$I$5=\"x\",H82,\"\")","v":54.55},{"$f":"IF('ROAR TH'!$I$5=\"x\",I82,\"\")","v":20.152410371645622},null,{"$f":"M81","v":6.0249999999999986},{"$f":"N81","v":189.86592542898458},null,null,1708.6332930423907,{"$f":"Q82/2","v":854.31664652119537},{"$f":"-R82","v":-854.31664652119537},{"$f":"(U82-R82)*2","v":-62.487742619557366},{"$f":"(($D$10-$D$9)*(N82-$E$9)/($E$10-$E$9)+$D$9)/2","v":823.07277521141668},{"$f":"-U82","v":-823.07277521141668}]
[{"$f":"A86+1","v":4},{"$f":"B80+1","v":22},{"$f":"C77","v":66.599999999999994},{"$f":"D80","v":23.503213828860829},null,{"$f":"IF('ROAR TH'!$I$6=\"x\",C83,0)","v":66.599999999999994},{"$f":"IF('ROAR TH'!$I$6=\"x\",D83,0)","v":23.503213828860829},null,null,{"$f":"J82","v":54.55},{"$f":"K82","v":20.152410371645622},null,{"$f":"M82","v":6.0249999999999986},{"$f":"N82","v":189.86592542898458},null,null,1708.6332930423907,854.31664652119537,-854.31664652119537,-62.487742619557366,823.07277521141668,-823.07277521141668]
[null,null,null,null,null,null,null,null,null,{"$f":"J83","v":54.55},{"$f":"K83","v":20.152410371645622},null,{"$f":"((H82-H79)^2+(I82-I79)^2)^0.5","v":6.8940923121818845},{"$f":"N81+M84","v":196.76001774116648},{"$f":"$O$14","v":47.4},2,{"$f":"((C82-C83)^2+(D82-D83)^2)^0.5*O84*P84","v":2371.3676362013584},1185.6838181006792,-1185.6838181006792,-295.53343506106694,1037.9171005701457,-1037.9171005701457]
[null,null,{"$f":"Panels!C82","v":42.5},{"$f":"D83","v":23.503213828860829},null,{"$f":"IF('ROAR TH'!$I$6=\"x\",C85,0)","v":42.5},{"$f":"IF('ROAR TH'!$I$6=\"x\",D85,0)","v":23.503213828860829},{"$f":"SUM(C85:C86)/2","v":54.55},{"$f":"SUM(D85:D86)/2","v":23.503213828860829},{"$f":"IF('ROAR TH'!$I$5=\"x\",H85,\"\")","v":54.55},{"$f":"IF('ROAR TH'!$I$5=\"x\",I85,\"\")","v":23.503213828860829},null,{"$f":"M84","v":6.8940923121818845},{"$f":"N84","v":196.76001774116648},null,null,2371.3676362013584,{"$f":"Q85/2","v":1185.6838181006792},{"$f":"-R85","v":-1185.6838181006792},{"$f":"(U85-R85)*2","v":-295.53343506106694},{"$f":"(($D$10-$D$9)*(N85-$E$9)/($E$10-$E$9)+$D$9)/2","v":1037.9171005701457},{"$f":"-U85","v":-1037.9171005701457}]
[{"$f":"A89+1","v":3},{"$f":"B83+1","v":23},{"$f":"C83","v":66.599999999999994},{"$f":"D83","v":23.503213828860829},"S4",{"$f":"IF('ROAR TH'!$I$6=\"x\",C86,0)","v":66.599999999999994},{"$f":"IF('ROAR TH'!$I$6=\"x\",D86,0)","v":23.503213828860829},null,null,{"$f":"J85","v":54.55},{"$f":"K85","v":23.503213828860829},null,{"$f":"M85","v":6.8940923121818845},{"$f":"N85","v":196.76001774116648},null,null,2371.3676362013584,1185.6838181006792,-1185.6838181006792,-295.53343506106694,1037.9171005701457,-1037.9171005701457]
[null,null,null,null,null,null,null,null,null,{"$f":"J86","v":54.55},{"$f":"K86","v":23.503213828860829},null,{"$f":"((H85-H82)^2+(I85-I82)^2)^0.5","v":3.350803457215207},{"$f":"N84+M87","v":200.1108211983817},{"$f":"$O$14","v":47.4},2,{"$f":"((C85-C86)^2+(D85-D86)^2)^0.5*O87*P87","v":2284.6799999999994},1142.3399999999997,-1142.3399999999997,0,1142.3399999999997,-1142.3399999999997]
[null,null,{"$f":"(C85+C91)/2","v":42.5},{"$f":"(D85+D91)/2","v":54.251606914430411},null,{"$f":"IF('ROAR TH'!$I$6=\"x\",C88,0)","v":42.5},{"$f":"IF('ROAR TH'!$I$6=\"x\",D88,0)","v":54.251606914430411},{"$f":"SUM(C88:C89)/2","v":54.55},{"$f":"SUM(D88:D89)/2","v":54.251606914430411},{"$f":"IF('ROAR TH'!$I$5=\"x\",H88,\"\")","v":54.55},{"$f":"IF('ROAR TH'!$I$5=\"x\",I88,\"\")","v":54.251606914430411},null,{"$f":"M87","v":3.350803457215207},{"$f":"N87","v":200.1108211983817},null,null,2284.6799999999994,1142.3399999999997,-1142.3399999999997,0,{"$f":"(($D$11-$D$10)*(N88-$E$10)/($E$11-$E$10)+$D$10)/2","v":1142.3399999999997},-1142.3399999999997]
[{"$f":"A92+1","v":2},{"$f":"B86+1","v":24},{"$f":"(C86+C92)/2","v":66.599999999999994},{"$f":"(D86+D92)/2","v":54.251606914430411},null,{"$f":"IF('ROAR TH'!$I$6=\"x\",C89,0)","v":66.599999999999994},{"$f":"IF('ROAR TH'!$I$6=\"x\",D89,0)","v":54.251606914430411},null,null,{"$f":"J88","v":54.55},{"$f":"K88","v":54.251606914430411},null,{"$f":"M88","v":3.350803457215207},{"$f":"N88","v":200.1108211983817},null,null,2284.6799999999994,1142.3399999999997,-1142.3399999999997,0,1142.3399999999997,-1142.3399999999997]
[null,null,null,null,null,null,null,null,null,{"$f":"J89","v":54.55},{"$f":"K89","v":54.251606914430411},null,{"$f":"((H88-H85)^2+(I88-I85)^2)^0.5","v":30.748393085569582},{"$f":"N87+M90","v":230.85921428395127},{"$f":"$O$14","v":47.4},2,{"$f":"((C88-C89)^2+(D88-D89)^2)^0.5*O90*P90","v":2284.6799999999994},1142.3399999999997,-1142.3399999999997,0,1142.3399999999997,-1142.3399999999997]
[null,null,{"$f":"Panels!C82","v":42.5},{"$f":"Panels!D40","v":85},null,{"$f":"IF('ROAR TH'!$I$6=\"x\",C91,0)","v":42.5},{"$f":"IF('ROAR TH'!$I$6=\"x\",D91,0)","v":85},{"$f":"SUM(C91:C92)/2","v":54.55},{"$f":"SUM(D91:D92)/2","v":85},{"$f":"IF('ROAR TH'!$I$5=\"x\",H91,\"\")","v":54.55},{"$f":"IF('ROAR TH'!$I$5=\"x\",I91,\"\")","v":85},null,{"$f":"M90","v":30.748393085569582},{"$f":"N90","v":230.85921428395127},null,null,{"$f":"Q90","v":2284.6799999999994},1142.3399999999997,-1142.3399999999997,{"$f":"(U91-R91)*2","v":0},1142.3399999999997,-1142.3399999999997]
[1,{"$f":"B89+1","v":25},{"$f":"C86","v":66.599999999999994},{"$f":"Panels!D40","v":85},"S5",{"$f":"IF('ROAR TH'!$I$6=\"x\",C92,0)","v":66.599999999999994},{"$f":"IF('ROAR TH'!$I$6=\"x\",D92,0)","v":85},null,null,{"$f":"J91","v":54.55},{"$f":"K91","v":85},null,{"$f":"M91","v":30.748393085569582},{"$f":"N91","v":230.85921428395127},null,null,2284.6799999999994,1142.3399999999997,-1142.3399999999997,0,1142.3399999999997,-1142.3399999999997]
[null,null,null,null,null,null,null,null,null,{"$f":"J92","v":54.55},{"$f":"K92","v":85},null,{"$f":"((H91-H88)^2+(I91-I88)^2)^0.5","v":30.748393085569589},{"$f":"N90+M93","v":261.60760736952085},{"$f":"$O$14","v":47.4},2,{"$f":"((C91-C92)^2+(D91-D92)^2)^0.5*O93*P93","v":2284.6799999999994},1142.3399999999997,-1142.3399999999997,0,1142.3399999999997,-1142.3399999999997]