{"text_format":"1","workbook":"xlsx","n_sheets":7,"sheets":["Design","Panels","Path","Guides","Layout","Instructions","Bracing"],"not_rendered":{"charts":5,"images":0,"macros":1,"external_links":0,"defined_names":50,"comments":0,"pivot_tables":0},"unopened":[],"bounds":{"document_bytes":16777216,"sheet_cells":100000,"rows_first":2000,"rows_last":500,"rows_between":2000,"halvings":0,"cell_chars":16384,"cell_head_chars":4096},"cells_cut":0,"cells_raw":0,"read":"whole","date_system":"1900"}

{"sheet":"Design","index":0,"n_rows":113,"n_cols":10,"rows_kept":113,"cut":false,"hidden":false,"merged":[[8,8,8,10],[4,8,4,10],[9,8,9,10],[5,8,5,10],[6,8,6,10],[7,8,7,10],[73,3,73,17],[75,3,75,7],[76,3,76,7],[77,3,77,7],[78,3,78,7],[79,3,79,7],[80,3,80,7],[81,3,81,7],[82,3,82,7],[83,3,83,7],[84,3,84,7],[85,3,85,7],[86,3,86,7],[87,3,87,7],[88,3,88,7],[89,3,89,7],[90,3,90,7],[91,3,91,7],[92,3,92,7],[93,3,93,7],[94,3,94,7],[95,3,95,7],[96,3,96,7],[97,3,97,7],[98,3,98,7],[99,3,99,7],[100,3,100,7],[101,3,101,7],[102,3,102,7],[103,3,103,7],[109,3,109,7],[110,3,110,7],[111,3,111,7],[112,3,112,7],[104,3,104,7],[105,3,105,7],[106,3,106,7],[107,3,107,7],[108,3,108,7]]}
[null,"MWTH Version","=","0.3 BETA"]
[]
[null,"Driver Dimensions"]
[null,"Frame Width","=",38,"cm",{"$f":"D4/2.54","v":14.960629921259843},"in",null,"Plot"]
[null,"Mounting Width","=",35.799999999999997,"cm",{"$f":"D5/2.54","v":14.094488188976376},"in","x","Panel A, top & bottom"]
[null,"Mounting Depth","=",16.2,"cm",{"$f":"D6/2.54","v":6.3779527559055111},"in","x","Panel B, driver baffle"]
[null,"Magnet Width","=",17,"cm",{"$f":"D7/2.54","v":6.6929133858267713},"in","x","Panel C, sides"]
[null,"Magnet Height","=",6,"cm",{"$f":"D8/2.54","v":2.3622047244094486},"in","x","Panel D, back"]
[null,null,null,null,null,null,null,"x","Panel E, front"]
[null,"Box Dimensions",null,null,null,null,null,"x","Panel F, 1st inside"]
[null,"d (external)","=",{"$f":"30.25*2.54","v":76.835000000000008},"cm",{"$f":"D11/2.54","v":30.250000000000004},"in","x","Panel G, 2nd inside"]
[null,"w (external)","=",{"$f":"24*2.54","v":60.96},"cm",{"$f":"D12/2.54","v":24},"in","x","Panel H, 4th inside"]
[null,"h (external)","=",{"$f":"47.5*2.54","v":120.65},"cm",{"$f":"D13/2.54","v":47.5},"in","x","Panel I, 5th inside"]
[null,null,null,null,null,null,null,"x","Panel J, 6th inside"]
[null,null,null,null,null,null,null,"x","Panel K, 7th inside"]
[]
[null,"driver offset (y)","=",0,"cm",{"$f":"D17/2.54","v":0},"in",null,"Plot"]
[null,"driver offset (x)","=",18,"cm",{"$f":"D18/2.54","v":7.0866141732283463},"in","x","Advanced Centerline"]
[null,null,null,null,null,null,null,"o","Sample points"]
[null,"HornResp Params",null,null,null,null,null,"x","Driver"]
[null,"S1","=",254,"cm^2",null,null,"o","Suggested braces"]
[null,"S2","=",{"$f":"Path!H11","v":302.78412323801348},"cm^2",null,null,"o","Guides"]
[null,"S3","=",{"$f":"Path!H12","v":1083.8688245480694},"cm^2"]
[null,"S4","=",{"$f":"Path!H13","v":1681.3214261638429},"cm^2"]
[null,"S5","=",1814.5,"cm^2"]
[null,"L12","=",{"$f":"Path!K11","v":17.94214925155741},"cm"]
[null,"L23","=",{"$f":"Path!K12","v":287.39464677854886},"cm"]
[null,"L34","=",{"$f":"Path!K13","v":128.68875609132903},"cm"]
[null,"L45","=",{"$f":"Path!K14","v":28.720788152163891},"cm"]
[null,"Vtc","=",{"$f":"D37-D38","v":3000},"cm^3"]
[null,"Atc","=",{"$f":"D97","v":823.72},"cm^2"]
[null,"L (actual)","=",{"$f":"Path!K15","v":462.74634027359917},"cm"]
[]
[null,"Ideal box width","=",{"$f":"D25^0.5+2*D51","v":46.396948247497726},"cm",{"$f":"D34/2.54","v":18.26651505806997},"in"]
[null,"Compression ratio","=",{"$f":"D97/(D22+D39)","v":2.318824745598187}]
[]
[null,"Cone Volume","=",3000,"cm^3"]
[null,"Cone Vol. Adj. (S2)","=",0,"cm^3"]
[null,"Equivalent CSA.","=",{"$f":"D37/E50","v":52.447552447552447},"cm^2"]
[null,"S2-S3 expansion","=","Par","Par, Con, Exp"]
[]
[null,"Horn Design"]
[null,"Vol. (net)","=",{"$f":"D44-I65","v":457.21187337927267},"l.",{"$f":"(D43*1000/2.54^3)/1728","v":16.146284929496456},"cu.ft."]
[null,"Vol. (gross)","=",{"$f":"(D11*D12*D13)/10^3","v":565.10790204000011},"l.",{"$f":"(D44*1000/2.54^3)/1728","v":19.956597222222225},"cu.ft.","Err"]
[null,"Expansion 1 (S2-S3)","=",2.7229640864390294,null,null,null,{"$f":"Angle1-Path!M12","v":6.8069335632348071E-4}]
[null,"Expansion 2 (S3-S5)","=",4.6422128437590908,null,null,null,{"$f":"Angle2-Path!M14","v":-2.1691794730482883E-4}]
[]
[null,"Panels",null,"p","x","y",null,null,"#","v"]
[null,{"$f":"I5","v":"Panel A, top & bottom"},null,1.9,{"$f":"ROUND(D12-2*D51,1)","v":57.2},{"$f":"ROUND(Panels!K7,1)","v":76.8},null,null,2,{"$f":"F49*E49*D49*I49/10^3","v":16.693248000000001}]
[null,"Panel B, driver baffle",null,1.9,{"$f":"E49","v":57.2},47.46432039919943,null,{"$f":"Path!U138","v":-2.7639790425837418E-3},1,5.1584223409849939]
[null,"Panel C, sides",null,1.9,{"$f":"ROUND(Panels!K19,1)","v":120.7},{"$f":"ROUND(Panels!K20,1)","v":76.8},null,null,2,35.225088]
[null,"Panel D, back",null,1.9,{"$f":"E50","v":57.2},{"$f":"ROUND(Panels!K25,1)","v":116.9},null,null,1,12.704692]
[null,"Panel E, front",null,1.9,{"$f":"E50","v":57.2},83.201934282470447,null,{"$f":"D25-Path!$H$14","v":5.8085438513444387E-4},1,9.0423862178188887]
[null,"Panel F, 1st inside",null,1.9,{"$f":"E50","v":57.2},37.8909433327198,null,{"$f":"Path!U129","v":-6.2067752537586784E-4},1,4.117987721399988]
[null,"Panel G, 2nd inside",null,1.9,{"$f":"E49","v":57.2},39.352422399207853,null,{"$f":"Path!U45","v":-2.9697510109372161E-4},1,4.2768212663459089]
[null,null,null,null,null,6.3439748073332671,null,{"$f":"D21-Path!$H$10","v":-7.8374287892302164E-4}]
[null,{"$f":"I12","v":"Panel H, 4th inside"},null,1.9,{"$f":"E49","v":57.2},63.679429899072034,null,{"$f":"Path!U57","v":-1.0171183838565412E-3},1,6.9206804414311494]
[null,{"$f":"I13","v":"Panel I, 5th inside"},null,1.9,{"$f":"E49","v":57.2},31.90217909151426,null,{"$f":"Path!U102","v":-1.3891540359054488E-3},1,3.4671288236657696]
[null,{"$f":"I14","v":"Panel J, 6th inside"},null,1.9,{"$f":"E49","v":57.2},44.429287296147571,null,{"$f":"Path!U93","v":-1.9393768752706819E-4},1,{"$f":"F59*E59*D59*I59/10^3","v":4.8285749433453171}]
[null,null,null,null,null,86.811643312677901,null,{"$f":"Path!U78","v":-5.8895507777378953E-5}]
[null,{"$f":"I15","v":"Panel K, 7th inside"},null,1.9,{"$f":"E49","v":57.2},50.248425706067991,null,{"$f":"Path!U72","v":-1.8428636394673958E-9},1,{"$f":"F61*E61*D61*I61/10^3","v":5.4609989057354689}]
[]
[]
[]
[null,null,null,null,null,null,null,"Pnl Vol",{"$f":"SUM(J49:J63)","v":107.89602866072747},"l"]
[]
[]
[]
[]
[]
[]
[]
[]
[null,"Filename","=","I:\\Users\\Brian.Steele\\OneDrive\\Hornresp\\Import\\BOXPLAN.TXT"]
[]
[null,"ID","=","29.00",null,null,null,null,null,{"$f":"CONCATENATE(B76,C76,D76)","v":"ID=29.00"}]
[null,"Ang","=","2.0 x PI",null,null,null,null,null,{"$f":"CONCATENATE(B77,C77,D77)","v":"Ang=2.0 x PI"}]
[null,"Eg","=",2.83,null,null,null,null,null,"Eg=2.83"]
[null,"Rg","=",0,null,null,null,null,null,"Rg=0"]
[null,"Fta","=",0,null,null,null,null,null,"Fta=0"]
[null,"S1","=",{"$f":"ROUND(D21,0)","v":254},null,null,null,null,null,"S1=254"]
[null,"S2","=",{"$f":"ROUND(D22,0)","v":303},null,null,null,null,null,"S2=303"]
[null,"Par","=",{"$f":"ROUND(D26,1)","v":17.899999999999999},null,null,null,null,null,"Par=17.9"]
[null,"F12","=",0,null,null,null,null,null,"F12=0"]
[null,"S2","=",{"$f":"D82","v":303},null,null,null,null,null,"S2=303"]
[null,"S3","=",{"$f":"ROUND(D23,0)","v":1084},null,null,null,null,null,"S3=1084"]
[null,{"$f":"D40","v":"Par"},"=",{"$f":"ROUND(D27,1)","v":287.39999999999998},null,null,null,null,null,"Par=287.4"]
[null,"F23","=",0,null,null,null,null,null,"F23=0"]
[null,"S3","=",{"$f":"D86","v":1084},null,null,null,null,null,"S3=1084"]
[null,"S4","=",{"$f":"ROUND(D24,0)","v":1681},null,null,null,null,null,"S4=1681"]
[null,"Par","=",{"$f":"ROUND(D28,1)","v":128.69999999999999},null,null,null,null,null,"Par=128.7"]
[null,"F34","=",0,null,null,null,null,null,"F34=0"]
[null,"S4","=",{"$f":"D90","v":1681},null,null,null,null,null,"S4=1681"]
[null,"S5","=",{"$f":"ROUND(D25,0)","v":1815},null,null,null,null,null,"S5=1815"]
[null,"Par","=",{"$f":"ROUND(D29,1)","v":28.7},null,null,null,null,null,"Par=28.7"]
[null,"F45","=",0,null,null,null,null,null,"F45=0"]
[null,"Sd","=",823.72,null,null,null,null,null,"Sd=823.72"]
[null,"Bl","=",30.65,null,null,null,null,null,"Bl=30.65"]
[null,"Cms","=",1.7899999999999999E-4,null,null,null,null,null,"Cms=0.000179"]
[null,"Rms","=",3.91,null,null,null,null,null,"Rms=3.91"]
[null,"Mmd","=",237.25,null,null,null,null,null,"Mmd=237.25"]
[null,"Le","=",8.67,null,null,null,null,null,"Le=8.67"]
[null,"Re","=",7.35,null,null,null,null,null,"Re=7.35"]
[null,"TH","=",1,null,null,null,null,null,"TH=1"]
[null,"Vrc","=",0,null,null,null,null,null,"Vrc=0"]
[null,"Lrc","=",0,null,null,null,null,null,"Lrc=0"]
[null,"Ap1","=",0,null,null,null,null,null,"Ap1=0"]
[null,"Lp","=",0,null,null,null,null,null,"Lp=0"]
[null,"Vtc","=",{"$f":"D37-D38","v":3000},null,null,null,null,null,"Vtc=3000"]
[null,"Atc","=",{"$f":"D97","v":823.72},null,null,null,null,null,"Atc=823.72"]
[null,"Pmax","=",100,null,null,null,null,null,"Pmax=100"]
[null,"Xmax","=",5,null,null,null,null,null,"Xmax=5"]
[null,"Comment","=","BOXPLAN-Export (MWTH v0.3)",null,null,null,null,null,"Comment=BOXPLAN-Export (MWTH v0.3)"]

{"sheet":"Panels","index":1,"n_rows":118,"n_cols":27,"rows_kept":118,"cut":false,"hidden":false,"merged":[]}
[]
[]
[]
[null,null,null,null,null,null,null,null,null,null,null,null,null,null,null,null,null,"Exp.","Cos","Sin","Cos","Tan","1/2","Cos","Sin","Cos","Tan"]
[null,null,"x","y",null,"x","y",null,"dx","dy",null,"A","B",null,null,null,1,{"$f":"Design!D45","v":2.7229640864390294},{"$f":"COS(R5*PI()/180)","v":0.99887091451727661},{"$f":"SIN(R5*PI()/180)","v":4.7506800896498627E-2},{"$f":"S5","v":0.99887091451727661},{"$f":"TAN(R5*PI()/180)","v":4.7560500767466228E-2},{"$f":"R5/2","v":1.3614820432195147},{"$f":"COS(W5*PI()/180)","v":0.99971768877950651},{"$f":"SIN(W5*PI()/180)","v":2.3760108193392446E-2},{"$f":"X5","v":0.99971768877950651},{"$f":"TAN(W5*PI()/180)","v":2.3766817832742055E-2}]
[{"$f":"Design!I5","v":"Panel A, top & bottom"},null,{"$f":"C18-Design!D49","v":118.75},{"$f":"D18","v":76.835000000000008},null,{"$f":"IF(Design!$H$5=\"x\",C6,0)","v":118.75},{"$f":"IF(Design!$H$5=\"x\",D6,0)","v":76.835000000000008},null,null,null,null,null,null,null,null,null,2,{"$f":"Design!$D46","v":4.6422128437590908},{"$f":"COS(R6*PI()/180)","v":0.99671952112631668},{"$f":"SIN(R6*PI()/180)","v":8.0933282435138282E-2},{"$f":"S6","v":0.99671952112631668},{"$f":"TAN(R6*PI()/180)","v":8.1199656191825911E-2},{"$f":"R6/2","v":2.3211064218795454},{"$f":"COS(W6*PI()/180)","v":0.9991795437073151},{"$f":"SIN(W6*PI()/180)","v":4.049986959042752E-2},{"$f":"X6","v":0.9991795437073151},{"$f":"TAN(W6*PI()/180)","v":4.0533125248099509E-2}]
[null,null,{"$f":"C6","v":118.75},{"$f":"D20","v":0},null,{"$f":"IF(Design!$H$5=\"x\",C7,0)","v":118.75},{"$f":"IF(Design!$H$5=\"x\",D7,0)","v":0},null,{"$f":"C6-C7","v":0},76.835000000000008,{"$f":"(I7^2+J7^2)^0.5","v":76.835000000000008},null,null,null,null,null,3,{"$f":"(180-R5)/2-R6","v":83.996305113021393},{"$f":"COS((R7)*PI()/180)","v":0.10459259772182318},{"$f":"SIN((R7)*PI()/180)","v":0.99451515247471256},{"$f":"S7","v":0.10459259772182318},{"$f":"TAN((R7)*PI()/180)","v":9.5084659348431853},{"$f":"R7/2","v":41.998152556510696},{"$f":"COS(W7*PI()/180)","v":0.74316640051936655},{"$f":"SIN(W7*PI()/180)","v":0.66910664407035181},{"$f":"X7","v":0.74316640051936655},{"$f":"TAN(W7*PI()/180)","v":0.90034566094853363}]
[null,null,{"$f":"C7+Design!D49","v":120.65},{"$f":"D7","v":0},null,{"$f":"IF(Design!$H$5=\"x\",C8,0)","v":120.65},{"$f":"IF(Design!$H$5=\"x\",D8,0)","v":0},null,-1.9000000000000057,0,{"$f":"(I8^2+J8^2)^0.5","v":1.9000000000000057},null,null,null,null,null,"1+2",{"$f":"R5+R6","v":7.3651769301981203},{"$f":"COS((R8)*PI()/180)","v":0.99174925825011973},{"$f":"SIN((R8)*PI()/180)","v":0.12819285768067298},{"$f":"S8","v":0.99174925825011973},{"$f":"TAN((R8)*PI()/180)","v":0.12925934313967763},{"$f":"R8/2","v":3.6825884650990601},{"$f":"COS(W8*PI()/180)","v":0.99793518282755211},{"$f":"SIN(W8*PI()/180)","v":6.4229050085923931E-2},{"$f":"X8","v":0.99793518282755211},{"$f":"TAN(W8*PI()/180)","v":6.4361945736733289E-2}]
[null,null,{"$f":"C8","v":120.65},{"$f":"D6","v":76.835000000000008},null,{"$f":"IF(Design!$H$5=\"x\",C9,0)","v":120.65},{"$f":"IF(Design!$H$5=\"x\",D9,0)","v":76.835000000000008},null,0,-76.835000000000008,{"$f":"(I9^2+J9^2)^0.5","v":76.835000000000008},null,null,null,null,null,"1-2",{"$f":"R5-R6","v":-1.9192487573200614},{"$f":"COS((R9)*PI()/180)","v":0.99943902091921211},{"$f":"SIN((R9)*PI()/180)","v":-3.3490946001070228E-2},{"$f":"S9","v":0.99943902091921211},{"$f":"TAN((R9)*PI()/180)","v":-3.3509744266606342E-2},{"$f":"R9/2","v":-0.9596243786600307},{"$f":"COS((R9)*PI()/(180*2))","v":0.99985974539412581},{"$f":"SIN((R9)*PI()/(180*2))","v":-1.6747821959703323E-2},{"$f":"X9","v":0.99985974539412581},{"$f":"TAN((R9)*PI()/(180*2))","v":-1.675017124837009E-2}]
[null,null,{"$f":"C6","v":118.75},{"$f":"D6","v":76.835000000000008},null,{"$f":"IF(Design!$H$5=\"x\",C10,0)","v":118.75},{"$f":"IF(Design!$H$5=\"x\",D10,0)","v":76.835000000000008},null,1.9000000000000057,0,{"$f":"(I10^2+J10^2)^0.5","v":1.9000000000000057}]
[]
[{"$f":"Design!I5","v":"Panel A, top & bottom"},null,{"$f":"C19","v":0},{"$f":"D6","v":76.835000000000008},null,{"$f":"IF(Design!$H$5=\"x\",C12,0)","v":0},{"$f":"IF(Design!$H$5=\"x\",D12,0)","v":76.835000000000008}]
[null,null,{"$f":"C12","v":0},{"$f":"D7","v":0},null,{"$f":"IF(Design!$H$5=\"x\",C13,0)","v":0},{"$f":"IF(Design!$H$5=\"x\",D13,0)","v":0},null,{"$f":"C12-C13","v":0},76.835000000000008,{"$f":"(I13^2+J13^2)^0.5","v":76.835000000000008}]
[null,null,{"$f":"C13+Design!D49","v":1.9},{"$f":"D13","v":0},null,{"$f":"IF(Design!$H$5=\"x\",C14,0)","v":1.9},{"$f":"IF(Design!$H$5=\"x\",D14,0)","v":0},null,-1.9,0,{"$f":"(I14^2+J14^2)^0.5","v":1.9}]
[null,null,{"$f":"C14","v":1.9},{"$f":"D12","v":76.835000000000008},null,{"$f":"IF(Design!$H$5=\"x\",C15,0)","v":1.9},{"$f":"IF(Design!$H$5=\"x\",D15,0)","v":76.835000000000008},null,0,-76.835000000000008,{"$f":"(I15^2+J15^2)^0.5","v":76.835000000000008}]
[null,null,{"$f":"C12","v":0},{"$f":"D12","v":76.835000000000008},null,{"$f":"IF(Design!$H$5=\"x\",C16,0)","v":0},{"$f":"IF(Design!$H$5=\"x\",D16,0)","v":76.835000000000008},null,1.9,0,{"$f":"(I16^2+J16^2)^0.5","v":1.9}]
[]
["Panel C (top, bottom)",null,{"$f":"Design!D13","v":120.65},{"$f":"Design!D11","v":76.835000000000008},null,{"$f":"IF(Design!$H$7=\"x\",C18,0)","v":120.65},{"$f":"IF(Design!$H$7=\"x\",D18,0)","v":76.835000000000008}]
[null,null,0,{"$f":"D18","v":76.835000000000008},null,{"$f":"IF(Design!$H$7=\"x\",C19,0)","v":0},{"$f":"IF(Design!$H$7=\"x\",D19,0)","v":76.835000000000008},null,{"$f":"C18-C19","v":120.65},0,{"$f":"(I19^2+J19^2)^0.5","v":120.65}]
[null,null,{"$f":"C19","v":0},0,null,{"$f":"IF(Design!$H$7=\"x\",C20,0)","v":0},{"$f":"IF(Design!$H$7=\"x\",D20,0)","v":0},null,0,76.835000000000008,{"$f":"(I20^2+J20^2)^0.5","v":76.835000000000008}]
[null,null,{"$f":"C18","v":120.65},{"$f":"D20","v":0},null,{"$f":"IF(Design!$H$7=\"x\",C21,0)","v":120.65},{"$f":"IF(Design!$H$7=\"x\",D21,0)","v":0},null,-120.65,0,{"$f":"(I21^2+J21^2)^0.5","v":120.65}]
[null,null,{"$f":"C18","v":120.65},{"$f":"D18","v":76.835000000000008},null,{"$f":"IF(Design!$H$7=\"x\",C22,0)","v":120.65},{"$f":"IF(Design!$H$7=\"x\",D22,0)","v":76.835000000000008},null,0,-76.835000000000008,{"$f":"(I22^2+J22^2)^0.5","v":76.835000000000008}]
[]
["Panel D (back)",null,{"$f":"C14","v":1.9},{"$f":"D20+Design!D52","v":1.9},null,{"$f":"IF(Design!$H$8=\"x\",C24,0)","v":1.9},{"$f":"IF(Design!$H$8=\"x\",D24,0)","v":1.9}]
[null,null,{"$f":"C7","v":118.75},{"$f":"D24","v":1.9},null,{"$f":"IF(Design!$H$8=\"x\",C25,0)","v":118.75},{"$f":"IF(Design!$H$8=\"x\",D25,0)","v":1.9},null,{"$f":"C24-C25","v":-116.85},0,{"$f":"(I25^2+J25^2)^0.5","v":116.85}]
[null,null,{"$f":"C25","v":118.75},{"$f":"D25-Design!D52","v":0},null,{"$f":"IF(Design!$H$8=\"x\",C26,0)","v":118.75},{"$f":"IF(Design!$H$8=\"x\",D26,0)","v":0},null,0,1.9,{"$f":"(I26^2+J26^2)^0.5","v":1.9}]
[null,null,{"$f":"C24","v":1.9},{"$f":"D26","v":0},null,{"$f":"IF(Design!$H$8=\"x\",C27,0)","v":1.9},{"$f":"IF(Design!$H$8=\"x\",D27,0)","v":0},null,116.85,0,{"$f":"(I27^2+J27^2)^0.5","v":116.85}]
[null,null,{"$f":"C24","v":1.9},{"$f":"D24","v":1.9},null,{"$f":"IF(Design!$H$8=\"x\",C28,0)","v":1.9},{"$f":"IF(Design!$H$8=\"x\",D28,0)","v":1.9},null,0,-1.9,{"$f":"(I28^2+J28^2)^0.5","v":1.9}]
[]
["Panel E (front)",null,{"$f":"C6","v":118.75},{"$f":"D18","v":76.835000000000008},null,{"$f":"IF(Design!$H$9=\"x\",C30,0)","v":118.75},{"$f":"IF(Design!$H$9=\"x\",D30,0)","v":76.835000000000008}]
[null,null,{"$f":"C30-Design!F53","v":35.548065717529553},{"$f":"D30","v":76.835000000000008},null,{"$f":"IF(Design!$H$9=\"x\",C31,0)","v":35.548065717529553},{"$f":"IF(Design!$H$9=\"x\",D31,0)","v":76.835000000000008},null,{"$f":"C30-C31","v":83.201934282470447},0,{"$f":"(I31^2+J31^2)^0.5","v":83.201934282470447}]
[null,null,{"$f":"C31","v":35.548065717529553},{"$f":"D31-Design!D53","v":74.935000000000002},null,{"$f":"IF(Design!$H$9=\"x\",C32,0)","v":35.548065717529553},{"$f":"IF(Design!$H$9=\"x\",D32,0)","v":74.935000000000002},null,0,1.9000000000000057,{"$f":"(I32^2+J32^2)^0.5","v":1.9000000000000057}]
[null,null,{"$f":"C30","v":118.75},{"$f":"D32","v":74.935000000000002},null,{"$f":"IF(Design!$H$9=\"x\",C33,0)","v":118.75},{"$f":"IF(Design!$H$9=\"x\",D33,0)","v":74.935000000000002},null,-83.201934282470447,0,{"$f":"(I33^2+J33^2)^0.5","v":83.201934282470447}]
[null,null,{"$f":"C33","v":118.75},{"$f":"D31","v":76.835000000000008},null,{"$f":"IF(Design!$H$9=\"x\",C34,0)","v":118.75},{"$f":"IF(Design!$H$9=\"x\",D34,0)","v":76.835000000000008},null,0,-1.9000000000000057,{"$f":"(I34^2+J34^2)^0.5","v":1.9000000000000057}]
[]
["Panel B (1st inside)",null,{"$f":"C32-Design!D50*Panels!S6","v":33.654298627389551},{"$f":"D39+Design!D50*Panels!T6","v":76.98877323662677},null,{"$f":"IF(Design!$H$6=\"x\",C36,0)","v":33.654298627389551},{"$f":"IF(Design!$H$6=\"x\",D36,0)","v":76.98877323662677},null,null,null,null,{"$f":"IF(C37=C36,0,(D37-D36)/(C37-C36))","v":12.31532308015692},{"$f":"IF(L36=0,0,D36-L36*C36)","v":-337.47478739575718}]
[null,null,{"$f":"C36-Design!F50*T6","v":29.81285537892925},{"$f":"D36-Design!F50*Panels!S6","v":29.68015853775065},null,{"$f":"IF(Design!$H$6=\"x\",C37,0)","v":29.81285537892925},{"$f":"IF(Design!$H$6=\"x\",D37,0)","v":29.68015853775065},null,{"$f":"C36-C37","v":3.8414432484603012},47.30861469887612,{"$f":"(I37^2+J37^2)^0.5","v":47.46432039919943},{"$f":"IF(C38=C37,0,(D38-D37)/(C38-C37))","v":-8.1199656191825439E-2},{"$f":"IF(L37=0,0,D37-L37*C37)","v":32.100952144616322}]
[null,null,{"$f":"C37+Design!D50*S6","v":31.706622469069252},{"$f":"D37-Design!D50*Panels!T6","v":29.526385301123888},null,{"$f":"IF(Design!$H$6=\"x\",C38,0)","v":31.706622469069252},{"$f":"IF(Design!$H$6=\"x\",D38,0)","v":29.526385301123888},null,-1.8937670901400026,0.1537732366267619,{"$f":"(I38^2+J38^2)^0.5","v":1.9000000000000006},{"$f":"IF(C39=C38,0,(D39-D38)/(C39-C38))","v":12.31532308015692},{"$f":"IF(L38=0,0,D38-L38*C38)","v":-360.95091418602669}]
[null,null,{"$f":"C31","v":35.548065717529553},{"$f":"D31","v":76.835000000000008},null,{"$f":"IF(Design!$H$6=\"x\",C39,0)","v":35.548065717529553},{"$f":"IF(Design!$H$6=\"x\",D39,0)","v":76.835000000000008},null,-3.8414432484603012,-47.30861469887612,{"$f":"(I39^2+J39^2)^0.5","v":47.46432039919943},{"$f":"IF(C40=C39,0,(D40-D39)/(C40-C39))","v":-8.1199656191825439E-2},{"$f":"IF(L39=0,0,D39-L39*C39)","v":79.721490714547826}]
[null,null,{"$f":"C36","v":33.654298627389551},{"$f":"D36","v":76.98877323662677},null,{"$f":"IF(Design!$H$6=\"x\",C40,0)","v":33.654298627389551},{"$f":"IF(Design!$H$6=\"x\",D40,0)","v":76.98877323662677},null,1.8937670901400026,-0.1537732366267619,{"$f":"(I40^2+J40^2)^0.5","v":1.9000000000000006}]
[]
["Panel F",null,{"$f":"C37","v":29.81285537892925},{"$f":"D37","v":29.68015853775065},null,{"$f":"IF(Design!$H$10=\"x\",C42,0)","v":29.81285537892925},{"$f":"IF(Design!$H$10=\"x\",D42,0)","v":29.68015853775065},null,null,null,null,{"$f":"IF(C43=C42,0,(D43-D42)/(C43-C42))","v":12.315323080156986},{"$f":"IF(L42=0,0,D42-L42*C42)","v":-337.47478739575911}]
[null,null,{"$f":"C42-Design!D54*T6","v":29.659082142302488},{"$f":"D42-Design!D54*S6","v":27.786391447610647},null,{"$f":"IF(Design!$H$10=\"x\",C43,0)","v":29.659082142302488},{"$f":"IF(Design!$H$10=\"x\",D43,0)","v":27.786391447610647},null,{"$f":"C42-C43","v":0.1537732366267619},1.8937670901400026,{"$f":"(I43^2+J43^2)^0.5","v":1.9000000000000006},{"$f":"IF(C44=C43,0,(D44-D43)/(C44-C43))","v":-8.1199656191825897E-2},{"$f":"IF(L43=0,0,D43-L43*C43)","v":30.194698720530731}]
[null,null,{"$f":"C43+Design!F54*S6","v":67.425725035915377},{"$f":"D43-Design!F54*T6","v":24.719753029129816},null,{"$f":"IF(Design!$H$10=\"x\",C44,0)","v":67.425725035915377},{"$f":"IF(Design!$H$10=\"x\",D44,0)","v":24.719753029129816},null,-37.76664289361289,3.0666384184808315,{"$f":"(I44^2+J44^2)^0.5","v":37.890943332719807},{"$f":"IF(C45=C44,0,(D45-D44)/(C45-C44))","v":12.315323080156986},{"$f":"IF(L44=0,0,D44-L44*C44)","v":-805.64983470199752}]
[null,null,{"$f":"C44+Design!D54*T6","v":67.579498272542139},{"$f":"D44+Design!D54*S6","v":26.613520119269818},null,{"$f":"IF(Design!$H$10=\"x\",C45,0)","v":67.579498272542139},{"$f":"IF(Design!$H$10=\"x\",D45,0)","v":26.613520119269818},null,-0.1537732366267619,-1.8937670901400026,{"$f":"(I45^2+J45^2)^0.5","v":1.9000000000000006},{"$f":"IF(C46=C45,0,(D46-D45)/(C46-C45))","v":-8.1199656191825897E-2},{"$f":"IF(L45=0,0,D45-L45*C45)","v":32.100952144616329}]
[null,null,{"$f":"C42","v":29.81285537892925},{"$f":"D42","v":29.68015853775065},null,{"$f":"IF(Design!$H$10=\"x\",C46,0)","v":29.81285537892925},{"$f":"IF(Design!$H$10=\"x\",D46,0)","v":29.68015853775065},null,37.76664289361289,-3.0666384184808315,{"$f":"(I46^2+J46^2)^0.5","v":37.890943332719807}]
[]
["Panel G",null,{"$f":"C38+(Design!$F$56*S6)","v":38.029786001071884},{"$f":"D38-(Design!$F$56*T6)","v":29.012946596280582},null,{"$f":"IF(Design!$H$11=\"x\",C48,0)","v":38.029786001071884},{"$f":"IF(Design!$H$11=\"x\",D48,0)","v":29.012946596280582},null,null,null,null,{"$f":"IF(C49=C48,0,(D49-D48)/(C49-C48))","v":7.7363846644292451},{"$f":"IF(L48=0,0,D48-L48*C48)","v":-265.20010661393792}]
[null,null,{"$f":"C48+Design!$F$55*T8","v":43.074485485083265},{"$f":"D48+Design!$F$55*U8","v":68.040682321040364},null,{"$f":"IF(Design!$H$11=\"x\",C49,0)","v":43.074485485083265},{"$f":"IF(Design!$H$11=\"x\",D49,0)","v":68.040682321040364},null,{"$f":"C48-C49","v":-5.0446994840113817},{"$f":"D48-D49","v":-39.027735724759779},{"$f":"(I49^2+J49^2)^0.5","v":39.352422399207846},{"$f":"IF(C50=C49,0,(D50-D49)/(C50-C49))","v":-0.12925934313967416},{"$f":"IF(L49=0,0,D49-L49*C49)","v":73.60846202092165}]
[null,null,{"$f":"C49-Design!$D$55*S8","v":41.190161894408035},{"$f":"D49+Design!$D$55*T8","v":68.284248750633637},null,{"$f":"IF(Design!$H$11=\"x\",C50,0)","v":41.190161894408035},{"$f":"IF(Design!$H$11=\"x\",D50,0)","v":68.284248750633637},null,1.8843235906752298,-0.24356642959327246,{"$f":"(I50^2+J50^2)^0.5","v":1.9000000000000015},{"$f":"IF(C51=C50,0,(D51-D50)/(C51-C50))","v":7.7363846644292469},{"$f":"IF(L50=0,0,D50-L50*C50)","v":-250.37868805462261}]
[null,null,{"$f":"C50-Design!$F$55*T8","v":36.145462410396654},{"$f":"D50-Design!$F$55*U8","v":29.256513025873851},null,{"$f":"IF(Design!$H$11=\"x\",C51,0)","v":36.145462410396654},{"$f":"IF(Design!$H$11=\"x\",D51,0)","v":29.256513025873851},null,5.0446994840113817,39.027735724759786,{"$f":"(I51^2+J51^2)^0.5","v":39.352422399207853},{"$f":"IF(C52=C51,0,(D52-D51)/(C52-C51))","v":-0.12925934313967227},{"$f":"IF(L51=0,0,D51-L51*C51)","v":33.928651754521439}]
[null,null,{"$f":"C48","v":38.029786001071884},{"$f":"D48","v":29.012946596280582},null,{"$f":"IF(Design!$H$11=\"x\",C52,0)","v":38.029786001071884},{"$f":"IF(Design!$H$11=\"x\",D52,0)","v":29.012946596280582},null,-1.8843235906752298,0.24356642959326891,{"$f":"(I52^2+J52^2)^0.5","v":1.900000000000001}]
[]
["Panel H",null,{"$f":"C49","v":43.074485485083265},{"$f":"D50","v":68.284248750633637},null,{"$f":"IF(Design!$H$12=\"x\",C54,0)","v":43.074485485083265},{"$f":"IF(Design!$H$12=\"x\",D54,0)","v":68.284248750633637},null,null,null,null,{"$f":"IF(C55=C54,D55-D54,(D55-D54)/(C55-C54))","v":-4.7560500767466228E-2},{"$f":"IF(L54=0,0,D54-L54*C54)","v":70.332892850605148}]
[null,null,{"$f":"C54+Design!F57*S5","v":106.68201586430816},{"$f":"D54-Design!F57*T5","v":65.25904275321588},null,{"$f":"IF(Design!$H$12=\"x\",C55,0)","v":106.68201586430816},{"$f":"IF(Design!$H$12=\"x\",D55,0)","v":65.25904275321588},null,{"$f":"C54-C55","v":-63.60753037922489},3.025205997417757,{"$f":"(I55^2+J55^2)^0.5","v":63.679429899072034},{"$f":"IF(C56=C55,0,(D56-D55)/(C56-C55))","v":21.025850944868694},{"$f":"IF(L55=0,0,D55-L55*C55)","v":-2177.8211213078448}]
[null,null,{"$f":"C55-Design!D57*T5","v":106.59175294260481},{"$f":"D55-Design!D57*S5","v":63.361188015633054},null,{"$f":"IF(Design!$H$12=\"x\",C56,0)","v":106.59175294260481},{"$f":"IF(Design!$H$12=\"x\",D56,0)","v":63.361188015633054},null,9.0262921703342158E-2,1.8978547375828256,{"$f":"(I56^2+J56^2)^0.5","v":1.9},{"$f":"IF(C57=C56,0,(D57-D56)/(C57-C56))","v":-4.7560500767466339E-2},{"$f":"IF(L56=0,0,D56-L56*C56)","v":68.430745163265399}]
[null,null,{"$f":"C56-Design!F57*S5","v":42.984222563379923},{"$f":"D56+Design!F57*T5","v":66.386394013050818},null,{"$f":"IF(Design!$H$12=\"x\",C57,0)","v":42.984222563379923},{"$f":"IF(Design!$H$12=\"x\",D57,0)","v":66.386394013050818},null,63.60753037922489,-3.0252059974177641,{"$f":"(I57^2+J57^2)^0.5","v":63.679429899072034},{"$f":"IF(C58=C57,0,(D58-D57)/(C58-C57))","v":21.025850944868615},{"$f":"IF(L57=0,0,D57-L57*C57)","v":-837.39346258563387}]
[null,null,{"$f":"C54","v":43.074485485083265},{"$f":"D54","v":68.284248750633637},null,{"$f":"IF(Design!$H$12=\"x\",C58,0)","v":43.074485485083265},{"$f":"IF(Design!$H$12=\"x\",D58,0)","v":68.284248750633637},null,-9.0262921703342158E-2,-1.8978547375828185,{"$f":"(I58^2+J58^2)^0.5","v":1.8999999999999928}]
[]
["Panel I",null,{"$f":"C68","v":90.611643312677913},{"$f":"D68","v":46.329287296147569},null,{"$f":"IF(Design!$H$13=\"x\",C60,0)","v":90.611643312677913},{"$f":"IF(Design!$H$13=\"x\",D60,0)","v":46.329287296147569},null,null,null,null,{"$f":"IF(C61=C60,0,(D61-D60)/(C61-C60))","v":0},{"$f":"IF(L60=0,0,D60-L60*C60)","v":0}]
[null,null,{"$f":"C60-Design!F58","v":58.709464221163657},{"$f":"D60","v":46.329287296147569},null,{"$f":"IF(Design!$H$13=\"x\",C61,0)","v":58.709464221163657},{"$f":"IF(Design!$H$13=\"x\",D61,0)","v":46.329287296147569},null,{"$f":"C60-C61","v":31.902179091514256},0,{"$f":"(I61^2+J61^2)^0.5","v":31.902179091514256},{"$f":"IF(C62=C61,0,(D62-D61)/(C62-C61))","v":0},{"$f":"IF(L61=0,0,D61-L61*C61)","v":0}]
[null,null,{"$f":"C61","v":58.709464221163657},{"$f":"D61+Design!D58","v":48.229287296147568},null,{"$f":"IF(Design!$H$13=\"x\",C62,0)","v":58.709464221163657},{"$f":"IF(Design!$H$13=\"x\",D62,0)","v":48.229287296147568},null,0,-1.8999999999999986,{"$f":"(I62^2+J62^2)^0.5","v":1.8999999999999986},{"$f":"IF(C63=C62,0,(D63-D62)/(C63-C62))","v":0},{"$f":"IF(L62=0,0,D62-L62*C62)","v":0}]
[null,null,{"$f":"C60","v":90.611643312677913},{"$f":"D62","v":48.229287296147568},null,{"$f":"IF(Design!$H$13=\"x\",C63,0)","v":90.611643312677913},{"$f":"IF(Design!$H$13=\"x\",D63,0)","v":48.229287296147568},null,-31.902179091514256,0,{"$f":"(I63^2+J63^2)^0.5","v":31.902179091514256},{"$f":"IF(C64=C63,0,(D64-D63)/(C64-C63))","v":0},{"$f":"IF(L63=0,0,D63-L63*C63)","v":0}]
[null,null,{"$f":"C60","v":90.611643312677913},{"$f":"D60","v":46.329287296147569},null,{"$f":"IF(Design!$H$13=\"x\",C64,0)","v":90.611643312677913},{"$f":"IF(Design!$H$13=\"x\",D64,0)","v":46.329287296147569},null,0,1.8999999999999986,{"$f":"(I64^2+J64^2)^0.5","v":1.8999999999999986}]
[]
["Panel J",null,{"$f":"C14+Design!F60","v":88.711643312677907},{"$f":"D24","v":1.9},null,{"$f":"IF(Design!$H$14=\"x\",C66,0)","v":88.711643312677907},{"$f":"IF(Design!$H$14=\"x\",D66,0)","v":1.9},null,null,null,null,{"$f":"IF(C67=C66,0,(D67-D66)/(C67-C66))","v":0},{"$f":"IF(L66=0,0,D66-L66*C66)","v":0}]
[null,null,{"$f":"C66","v":88.711643312677907},{"$f":"D66+Design!F59","v":46.329287296147569},null,{"$f":"IF(Design!$H$14=\"x\",C67,0)","v":88.711643312677907},{"$f":"IF(Design!$H$14=\"x\",D67,0)","v":46.329287296147569},null,{"$f":"C66-C67","v":0},{"$f":"D66-D67","v":-44.429287296147571},{"$f":"(I67^2+J67^2)^0.5","v":44.429287296147571},{"$f":"IF(C68=C67,0,(D68-D67)/(C68-C67))","v":0},{"$f":"IF(L67=0,0,D67-L67*C67)","v":0}]
[null,null,{"$f":"C67+Design!D59","v":90.611643312677913},{"$f":"D67+Design!D64","v":46.329287296147569},null,{"$f":"IF(Design!$H$14=\"x\",C68,0)","v":90.611643312677913},{"$f":"IF(Design!$H$14=\"x\",D68,0)","v":46.329287296147569},null,-1.9000000000000057,0,{"$f":"(I68^2+J68^2)^0.5","v":1.9000000000000057},{"$f":"IF(C69=C68,0,(D69-D68)/(C69-C68))","v":0},{"$f":"IF(L68=0,0,D68-L68*C68)","v":0}]
[null,null,{"$f":"C68","v":90.611643312677913},{"$f":"D66","v":1.9},null,{"$f":"IF(Design!$H$14=\"x\",C69,0)","v":90.611643312677913},{"$f":"IF(Design!$H$14=\"x\",D69,0)","v":1.9},null,0,44.429287296147571,{"$f":"(I69^2+J69^2)^0.5","v":44.429287296147571},{"$f":"IF(C70=C69,0,(D70-D69)/(C70-C69))","v":0},{"$f":"IF(L69=0,0,D69-L69*C69)","v":0}]
[null,null,{"$f":"C66","v":88.711643312677907},{"$f":"D66","v":1.9},null,{"$f":"IF(Design!$H$14=\"x\",C70,0)","v":88.711643312677907},{"$f":"IF(Design!$H$14=\"x\",D70,0)","v":1.9},null,1.9000000000000057,0,{"$f":"(I70^2+J70^2)^0.5","v":1.9000000000000057}]
[]
["Panel K",null,{"$f":"C55","v":106.68201586430816},{"$f":"D55","v":65.25904275321588},null,{"$f":"IF(Design!$H$15=\"x\",C72,0)","v":106.68201586430816},{"$f":"IF(Design!$H$15=\"x\",D72,0)","v":65.25904275321588},null,null,null,null,{"$f":"IF(C73=C72,0,(D73-D72)/(C73-C72))","v":21.025850944867518},{"$f":"IF(L72=0,0,D72-L72*C72)","v":-2177.8211213077193}]
[null,null,{"$f":"C72-Design!F61*T5","v":104.29487390892749},{"$f":"D72-Design!F61*U5","v":15.067351815142317},null,{"$f":"IF(Design!$H$15=\"x\",C73,0)","v":104.29487390892749},{"$f":"IF(Design!$H$15=\"x\",D73,0)","v":15.067351815142317},null,{"$f":"C72-C73","v":2.3871419553806703},{"$f":"D72-D73","v":50.191690938073563},{"$f":"(I73^2+J73^2)^0.5","v":50.248425706067991},{"$f":"IF(C74=C73,0,(D74-D73)/(C74-C73))","v":-4.7560500767466457E-2},{"$f":"IF(L73=0,0,D73-L73*C73)","v":20.02766824573068}]
[null,null,{"$f":"C73+Design!D61*S5","v":106.1927286465103},{"$f":"D73-Design!D61*T5","v":14.977088893438969},null,{"$f":"IF(Design!$H$15=\"x\",C74,0)","v":106.1927286465103},{"$f":"IF(Design!$H$15=\"x\",D74,0)","v":14.977088893438969},null,-1.8978547375828185,9.0262921703347487E-2,{"$f":"(I74^2+J74^2)^0.5","v":1.899999999999993},{"$f":"IF(C75=C74,0,(D75-D74)/(C75-C74))","v":21.025850944867521},{"$f":"IF(L74=0,0,D74-L74*C74)","v":-2217.8153950568499}]
[null,null,{"$f":"C74+Design!$F$61*T5","v":108.57987060189097},{"$f":"D74+Design!$F$61*U5","v":65.168779831512538},null,{"$f":"IF(Design!$H$15=\"x\",C75,0)","v":108.57987060189097},{"$f":"IF(Design!$H$15=\"x\",D75,0)","v":65.168779831512538},null,-2.3871419553806703,-50.19169093807357,{"$f":"(I75^2+J75^2)^0.5","v":50.248425706067998},{"$f":"IF(C76=C75,0,(D76-D75)/(C76-C75))","v":-4.7560500767463647E-2},{"$f":"IF(L75=0,0,D75-L75*C75)","v":70.332892850604878}]
[null,null,{"$f":"C72","v":106.68201586430816},{"$f":"D72","v":65.25904275321588},null,{"$f":"IF(Design!$H$15=\"x\",C76,0)","v":106.68201586430816},{"$f":"IF(Design!$H$15=\"x\",D76,0)","v":65.25904275321588},null,1.8978547375828185,-9.0262921703342158E-2,{"$f":"(I76^2+J76^2)^0.5","v":1.8999999999999928}]
[]
[]
[null,null,null,null,null,null,null,null,null,null,null,null,null,null,null,null,null,null,"x","y",null,"dX","dY","l","Delta"]
[null,null,null,null,null,null,null,null,null,null,null,null,null,null,null,null,null,null,{"$f":"Panels!C37","v":29.81285537892925},{"$f":"Panels!D37","v":29.68015853775065}]
[null,null,null,null,null,null,null,null,null,null,null,null,null,null,null,null,null,null,{"$f":"Panels!C36","v":33.654298627389551},{"$f":"Panels!D36","v":76.98877323662677},null,{"$f":"S80-S81","v":-3.8414432484603012},{"$f":"T80-T81","v":-47.30861469887612},{"$f":"(V81^2+W81^2)^0.5","v":47.46432039919943},{"$f":"W81/V81","v":12.31532308015692}]
[]
[null,null,null,null,null,null,null,null,null,null,null,null,null,null,null,null,null,null,{"$f":"IF(Design!$H$22=\"x\",Design!$D$65*SIN(ATAN($Y$81)),0)","v":0},{"$f":"IF(Design!$H$22=\"x\",Design!$D$65*COS(ATAN($Y$81)),0)","v":0}]
[null,null,null,null,null,null,null,null,null,null,null,null,null,null,null,null,"Driver"]
[]
[null,null,null,null,null,null,null,null,null,null,null,null,null,null,null,null,"Face (1)",{"$f":"Design!$H$20","v":"x"},{"$f":"S87+(Design!$D$4*COS(ATAN($Y$81)))/2+S83","v":32.807386829029362},{"$f":"T87+(Design!$D$4*SIN(ATAN($Y$81)))/2","v":66.558780819424356},null,{"$f":"IF(R86=\"x\",S86,0)","v":32.807386829029362},{"$f":"IF(R86=\"x\",T86,0)","v":66.558780819424356}]
[null,null,null,null,null,null,null,null,null,null,null,null,null,null,null,null,null,{"$f":"Design!$H$20","v":"x"},{"$f":"S80+(Design!D17/Panels!S8)-V81*Design!D18/X81-S83","v":31.269654462761739},{"$f":"T80-(W81*Design!D18/X81)-T83","v":47.621109918024345},null,31.269654462761739,47.621109918024345]
[null,null,null,null,null,null,null,null,null,null,null,null,null,null,null,null,null,{"$f":"Design!$H$20","v":"x"},{"$f":"S87-Design!$D$6*SIN(ATAN($Y$81))","v":15.122798220515406},{"$f":"T87+Design!$D$6*COS(ATAN($Y$81))","v":48.93222909347358},null,15.122798220515406,48.93222909347358]
[null,null,null,null,null,null,null,null,null,null,null,null,null,null,null,null,null,{"$f":"Design!$H$20","v":"x"},{"$f":"S88+Design!$D$7*COS(ATAN($Y$81))/2","v":15.810731121214081},{"$f":"T88+Design!$D$7*SIN(ATAN($Y$81))/2","v":57.40434502304727},null,15.810731121214081,57.40434502304727]
[null,null,null,null,null,null,null,null,null,null,null,null,null,null,null,null,null,{"$f":"Design!$H$20","v":"x"},{"$f":"S89+Design!$D$8*SIN(ATAN($Y$81))","v":21.791048247971982},{"$f":"T89-Design!$D$8*COS(ATAN($Y$81))","v":56.918745328436444},null,21.791048247971982,56.918745328436444]
[null,null,null,null,null,null,null,null,null,null,null,null,null,null,null,null,null,{"$f":"Design!$H$20","v":"x"},{"$f":"S87+Design!$D$5*COS(ATAN($Y$81))/2","v":32.718360218350711},{"$f":"T87+(Design!$D$5)*SIN(ATAN($Y$81))/2","v":65.462389346185418},null,32.718360218350711,65.462389346185418]
[]
[null,null,null,null,null,null,null,null,null,null,null,null,null,null,null,null,null,{"$f":"Design!$H$20","v":"x"},{"$f":"S94-(Design!$D$4*COS(ATAN($Y$81)))/2","v":29.731922096494113},{"$f":"T94-(Design!$D$4*SIN(ATAN($Y$81)))/2","v":28.683439016624327},null,{"$f":"IF(R93=\"x\",S93,0)","v":29.731922096494113},{"$f":"IF(R93=\"x\",T93,0)","v":28.683439016624327}]
[null,null,null,null,null,null,null,null,null,null,null,null,null,null,null,null,null,{"$f":"Design!$H$20","v":"x"},{"$f":"S87","v":31.269654462761739},{"$f":"T87","v":47.621109918024345},null,31.269654462761739,47.621109918024345]
[null,null,null,null,null,null,null,null,null,null,null,null,null,null,null,null,null,{"$f":"Design!$H$20","v":"x"},{"$f":"S88","v":15.122798220515406},{"$f":"T88","v":48.93222909347358},null,15.122798220515406,48.93222909347358]
[null,null,null,null,null,null,null,null,null,null,null,null,null,null,null,null,null,{"$f":"Design!$H$20","v":"x"},{"$f":"S95-Design!$D$7*COS(ATAN($Y$81))/2","v":14.434865319816732},{"$f":"T95-Design!$D$7*SIN(ATAN($Y$81))/2","v":40.460113163899891},null,14.434865319816732,40.460113163899891]
[null,null,null,null,null,null,null,null,null,null,null,null,null,null,null,null,null,{"$f":"Design!$H$20","v":"x"},{"$f":"S96+Design!$D$8*SIN(ATAN($Y$81))","v":20.415182446574633},{"$f":"T96-Design!$D$8*COS(ATAN($Y$81))","v":39.974513469289064},null,20.415182446574633,39.974513469289064]
[null,null,null,null,null,null,null,null,null,null,null,null,null,null,null,null,null,{"$f":"Design!$H$20","v":"x"},{"$f":"S94-Design!$D$5*COS(ATAN($Y$81))/2","v":29.820948707172764},{"$f":"T94-(Design!$D$5)*SIN(ATAN($Y$81))/2","v":29.779830489863276},null,29.820948707172764,29.779830489863276]
[]
[null,null,null,null,null,null,null,null,null,null,null,null,null,null,null,null,null,{"$f":"Design!$H$20","v":"x"},{"$f":"S97","v":20.415182446574633},{"$f":"T97","v":39.974513469289064},null,{"$f":"IF(R100=\"x\",S100,0)","v":20.415182446574633},{"$f":"IF(R100=\"x\",T100,0)","v":39.974513469289064}]
[null,null,null,null,null,null,null,null,null,null,null,null,null,null,null,null,null,{"$f":"Design!$H$20","v":"x"},{"$f":"S90","v":21.791048247971982},{"$f":"T90","v":56.918745328436444},null,{"$f":"IF(R101=\"x\",S101,0)","v":21.791048247971982},{"$f":"IF(R101=\"x\",T101,0)","v":56.918745328436444}]
[]
[]
[]
[null,null,null,null,null,null,null,null,null,null,null,null,null,null,null,null,"Graph Axes"]
[null,null,null,null,null,null,null,null,null,null,null,null,null,null,null,null,null,null,{"$f":"MIN(C6:D34)-5","v":-5},{"$f":"S106","v":-5}]
[null,null,null,null,null,null,null,null,null,null,null,null,null,null,null,null,null,null,{"$f":"S106","v":-5},{"$f":"MAX(C6:D34,Path!D19:E164)","v":120.65}]
[]
[null,null,null,null,null,null,null,null,null,null,null,null,null,null,null,null,null,null,{"$f":"S106","v":-5},{"$f":"S109","v":-5}]
[null,null,null,null,null,null,null,null,null,null,null,null,null,null,null,null,null,null,{"$f":"T107","v":120.65},{"$f":"T109","v":-5}]
[]
[]
[]
[null,null,null,null,null,null,null,null,null,null,null,null,null,null,null,null,null,null,"d",{"$f":"Design!E49","v":57.2}]
[null,null,null,null,null,null,null,null,null,null,null,null,null,null,null,null,null,null,null,null,null,"n"]
[null,null,null,null,null,null,null,null,null,null,null,null,null,null,null,null,null,null,"a1",{"$f":"Design!D22","v":302.78412323801348},null,{"$f":"Design!D26","v":17.94214925155741}]
[null,null,null,null,null,null,null,null,null,null,null,null,null,null,null,null,null,null,"a2",{"$f":"Path!P141","v":1481.9154458257658},null,{"$f":"Path!O141","v":391.13269157905142}]
[null,null,null,null,null,null,null,null,null,null,null,null,null,null,null,null,null,null,"a3",{"$f":"Path!P141","v":1481.9154458257658},null,{"$f":"Path!O141","v":391.13269157905142}]

{"sheet":"Path","index":2,"n_rows":165,"n_cols":48,"rows_kept":165,"cut":false,"hidden":false,"merged":[[18,24,18,25],[18,27,18,28],[18,30,18,31],[18,18,18,19]]}
[]
[null,null,null,null,null,null,null,"Exp.","Cos","Sin","Cos","Tan","1/2","Cos","Sin","Cos","Tan"]
[null,null,null,null,null,null,1,{"$f":"Design!D45","v":2.7229640864390294},{"$f":"COS(H3*PI()/180)","v":0.99887091451727661},{"$f":"SIN(H3*PI()/180)","v":4.7506800896498627E-2},{"$f":"I3","v":0.99887091451727661},{"$f":"TAN(H3*PI()/180)","v":4.7560500767466228E-2},{"$f":"H3/2","v":1.3614820432195147},{"$f":"COS(M3*PI()/180)","v":0.99971768877950651},{"$f":"SIN(M3*PI()/180)","v":2.3760108193392446E-2},{"$f":"N3","v":0.99971768877950651},{"$f":"TAN(M3*PI()/180)","v":2.3766817832742055E-2}]
[null,null,null,null,null,null,2,{"$f":"Design!$D46","v":4.6422128437590908},{"$f":"COS(H4*PI()/180)","v":0.99671952112631668},{"$f":"SIN(H4*PI()/180)","v":8.0933282435138282E-2},{"$f":"I4","v":0.99671952112631668},{"$f":"TAN(H4*PI()/180)","v":8.1199656191825911E-2},{"$f":"H4/2","v":2.3211064218795454},{"$f":"COS(M4*PI()/180)","v":0.9991795437073151},{"$f":"SIN(M4*PI()/180)","v":4.049986959042752E-2},{"$f":"N4","v":0.9991795437073151},{"$f":"TAN(M4*PI()/180)","v":4.0533125248099509E-2}]
[null,null,null,null,null,null,3,{"$f":"(180-H3)/2-H4","v":83.996305113021393},{"$f":"COS((H5)*PI()/180)","v":0.10459259772182318},{"$f":"SIN((H5)*PI()/180)","v":0.99451515247471256},{"$f":"I5","v":0.10459259772182318},{"$f":"TAN((H5)*PI()/180)","v":9.5084659348431853},{"$f":"H5/2","v":41.998152556510696},{"$f":"COS(M5*PI()/180)","v":0.74316640051936655},{"$f":"SIN(M5*PI()/180)","v":0.66910664407035181},{"$f":"N5","v":0.74316640051936655},{"$f":"TAN(M5*PI()/180)","v":0.90034566094853363}]
[null,null,null,null,null,null,"1+2",{"$f":"H3+H4","v":7.3651769301981203},{"$f":"COS((H6)*PI()/180)","v":0.99174925825011973},{"$f":"SIN((H6)*PI()/180)","v":0.12819285768067298},{"$f":"I6","v":0.99174925825011973},{"$f":"TAN((H6)*PI()/180)","v":0.12925934313967763},{"$f":"H6/2","v":3.6825884650990601},{"$f":"COS(M6*PI()/180)","v":0.99793518282755211},{"$f":"SIN(M6*PI()/180)","v":6.4229050085923931E-2},{"$f":"N6","v":0.99793518282755211},{"$f":"TAN(M6*PI()/180)","v":6.4361945736733289E-2}]
[null,null,null,null,null,null,"1-2",{"$f":"H3-H4","v":-1.9192487573200614},{"$f":"COS((H7)*PI()/180)","v":0.99943902091921211},{"$f":"SIN((H7)*PI()/180)","v":-3.3490946001070228E-2},{"$f":"I7","v":0.99943902091921211},{"$f":"TAN((H7)*PI()/180)","v":-3.3509744266606342E-2},{"$f":"H7/2","v":-0.9596243786600307},{"$f":"COS((H7)*PI()/(180*2))","v":0.99985974539412581},{"$f":"SIN((H7)*PI()/(180*2))","v":-1.6747821959703323E-2},{"$f":"N7","v":0.99985974539412581},{"$f":"TAN((H7)*PI()/(180*2))","v":-1.675017124837009E-2}]
[]
[null,null,null,null,null,null,null,"S","L","W","d","y",null,null,"Conical",null,null,null,"Exponential"]
[null,null,null,null,null,null,"S1",{"$f":"P24","v":254.00078374287892},{"$f":"O24","v":1.2541546914346694E-3},{"$f":"Design!D12-2*Design!D51","v":57.160000000000004},null,{"$f":"H10/J10","v":4.443680611316986},null,null,{"$f":"(H10/PI())^0.5","v":8.9917162190423596}]
[null,null,null,null,null,null,"S2",{"$f":"P30","v":302.78412323801348},{"$f":"O30","v":17.943403406248844},{"$f":"J10","v":57.160000000000004},{"$f":"I11-I10","v":17.94214925155741},5.2971330167602071,{"$f":"ATAN((L11-L10)/(I11-I10))*180/PI()","v":2.7233298639162657},null,{"$f":"(H11/PI())^0.5","v":9.8172898401825197},{"$f":"ATAN((O12-O11)/(I12-I11))*180/PI()","v":1.7452896648716423},{"$f":"SIN(P11*PI()/(180*2))","v":1.522993669862018E-2},null,{"$f":"LN(H12/H11)/(I12-I11)","v":4.4373550147247549E-3}]
[null,null,null,null,null,null,"S3",{"$f":"P114","v":1083.8688245480694},{"$f":"O114","v":305.33805018479768},{"$f":"J11","v":57.160000000000004},{"$f":"I12-I11","v":287.39464677854886},18.96201582484376,{"$f":"ATAN((L12-L10)/(I12-I10))*180/PI()","v":2.7222833930827059},null,18.574341500576946,null,null,null,null,null,null,null,null,null,null,null,null,null,null,null,null,null,null,null,null,null,null,"Intersection points"]
[null,null,null,null,null,null,"S4",{"$f":"P159","v":1681.3214261638429},{"$f":"O159","v":434.02680627612671},{"$f":"J12","v":57.160000000000004},{"$f":"I13-I12","v":128.68875609132903},29.41430066766695,null,null,23.133984347720595,null,null,null,null,null,null,null,null,null,null,null,null,null,null,null,null,null,null,null,null,null,null,null,null,null,{"$f":"AO15-AM15","v":16.146856242246333},{"$f":"AP15-AN15","v":-1.3111191754492353}]
[null,null,null,null,null,null,"S5",{"$f":"P165","v":1814.4994191456149},{"$f":"O165","v":462.7475944282906},{"$f":"J13","v":57.160000000000004},{"$f":"I14-I13","v":28.720788152163891},31.744216570077235,{"$f":"ATAN((L14-L12)/(I14-I12))*180/PI()","v":4.6424297617063957},null,24.032750645500297,null,null,null,null,null,null,null,null,null,null,null,null,null,null,null,null,null,null,null,null,null,null,null,"x1","y1","x2","y2","a","b","x","y","l"]
[null,null,null,null,null,null,null,null,null,null,{"$f":"SUM(K10:K14)","v":462.74634027359917},null,null,null,null,null,null,null,null,null,null,null,null,null,null,null,null,null,null,null,null,null,null,null,null,null,null,"Driver centerline",{"$f":"Panels!S95","v":15.122798220515406},{"$f":"Panels!T95","v":48.93222909347358},{"$f":"Panels!S94","v":31.269654462761739},{"$f":"Panels!T94","v":47.621109918024345},{"$f":"(AP15-AN15)/(AO15-AM15)","v":-8.1199656191825606E-2},{"$f":"(AP15*AM15-AN15*AO15)/(AM15-AO15)","v":50.160195109637776}]
[null,null,null,null,null,null,"S2-S3 Exp",{"$f":"Design!D40","v":"Par"},null,null,null,null,null,null,null,null,null,null,null,null,null,null,null,null,null,null,null,null,null,null,null,null,null,null,null,null,null,"Panel B (top)",{"$f":"Panels!C37","v":29.81285537892925},{"$f":"Panels!D37","v":29.68015853775065},{"$f":"Panels!C40","v":33.654298627389551},{"$f":"Panels!D40","v":76.98877323662677},{"$f":"(AP16-AN16)/(AO16-AM16)","v":12.31532308015692},{"$f":"(AP16*AM16-AN16*AO16)/(AM16-AO16)","v":-337.47478739575706},{"$f":"(AR15-AR16)/(AQ16-AQ15)","v":31.269654462761729},{"$f":"AS16*AQ16+AR16","v":47.621109918024331},{"$f":"(AS16^2+AT16^2)^0.5","v":56.969828857431807}]
[null,null,null,null,null,null,null,null,null,null,null,null,null,null,null,null,null,null,null,null,null,null,null,null,null,null,null,null,null,null,null,null,null,null,null,null,null,"Panel B (bottom)",{"$f":"Panels!C38","v":31.706622469069252},{"$f":"Panels!D38","v":29.526385301123888},{"$f":"Panels!C39","v":35.548065717529553},{"$f":"Panels!D39","v":76.835000000000008},{"$f":"(AP17-AN17)/(AO17-AM17)","v":12.31532308015692},{"$f":"(AP17*AM17-AN17*AO17)/(AM17-AO17)","v":-360.95091418602669},{"$f":"(AR15-AR17)/(AQ17-AQ15)","v":33.163421552901738},{"$f":"AS17*AQ17+AR17","v":47.467336681397569},{"$f":"(AS17^2+AT17^2)^0.5","v":57.90475438787923}]
["Path Calculations",null,null,"x","y",null,"x","y",null,"d","x","y","dS","d","L","S"]
[null,null,null,{"$f":"AS26","v":36.133878269035051},{"$f":"AT26","v":29.166893652293368},null,{"$f":"IF(Design!$H$19=\"x\",D19,0)","v":0},{"$f":"IF(Design!$H$19=\"x\",E19,0)","v":0},{"$f":"SUM(D19:D20)/2","v":33.920250369052155},{"$f":"SUM(E19:E20)/2","v":29.346639476708628},null,null,null,null,null,null,null,null,"Expansion",null,"Error",null,"Target",null,"Parabolic",null,null,"Conical",null,null,"Exponential",null,null,null,null,null,null,"Panel B",{"$f":"D23","v":31.710894455334323},{"$f":"E23","v":29.578996192172241},{"$f":"AM19+100*Panels!T7","v":131.16240970280558},{"$f":"AN19-100*Panels!U7","v":19.119736419989923},{"$f":"(AP19-AN19)/(AO19-AM19)","v":-0.10516943604283863},{"$f":"(AP19*AM19-AN19*AO19)/(AM19-AO19)","v":32.914013078453735}]
[null,{"$f":"B23+1","v":35},1,{"$f":"Panels!C38","v":31.706622469069252},{"$f":"Panels!D38","v":29.526385301123888},null,{"$f":"IF(Design!$H$19=\"x\",D20,0)","v":0},{"$f":"IF(Design!$H$19=\"x\",E20,0)","v":0},null,null,null,null,null,null,null,null,{"$f":"ATAN((E19-E20)/(D19-D20))*180/PI()","v":-4.6422128437594781},null,null,null,null,null,null,null,null,null,null,null,null,null,null,null,null,null,null,null,null,"Panel G",{"$f":"AM29","v":36.145462410396654},{"$f":"AN29","v":29.256513025873851},{"$f":"AO29","v":41.190161894408035},{"$f":"AP29","v":68.284248750633637},{"$f":"IF(AO20<>AM20,(AP20-AN20)/(AO20-AM20),\"\")","v":7.7363846644292469},{"$f":"IF(AQ20<>\"\",(AP20*AM20-AN20*AO20)/(AM20-AO20),AM20)","v":-250.37868805462261},{"$f":"IF(AQ20<>\"\",(AR19-AR20)/(AQ20-AQ19),AM20)","v":36.127111731081627},{"$f":"AS20*AQ19+AR19","v":29.114545111839259}]
[null,null,null,null,null,null,null,null,null,null,null,null,{"$f":"((D19-D20)^2+(E19-E20)^2)^0.5","v":4.4418271199934933},{"$f":"((I19-Panels!H94)^2+(J19-Panels!I94)^2)^0.5","v":44.853189782612965},0,{"$f":"((D19-D20)^2+(E19-E20)^2)^0.5*Panels!$T$114","v":254.07251126362783}]
[null,null,null,{"$f":"AS20","v":36.127111731081627},{"$f":"AT20","v":29.114545111839259},null,{"$f":"IF(Design!$H$19=\"x\",D22,0)","v":0},{"$f":"IF(Design!$H$19=\"x\",E22,0)","v":0},{"$f":"SUM(D22:D23)/2","v":33.919003093207976},{"$f":"SUM(E22:E23)/2","v":29.346770652005752},{"$f":"IF(Design!$H$18=\"x\",I22,0)","v":33.919003093207976},{"$f":"IF(Design!$H$18=\"x\",J22,0)","v":29.346770652005752},null,{"$f":"N21","v":44.853189782612965},0,254.07251126362783,null,null,{"$f":"P22/2","v":127.03625563181392},{"$f":"-S22","v":-127.03625563181392},{"$f":"(S22-Y22)*2","v":5.5190216106012713E-2},null,{"$f":"IF($H$16=\"Par\",Y22,0)+IF($H$16=\"Con\",AB22,0)+IF($H$16=\"Exp\",AE22,0)","v":127.00866052376091},null,{"$f":"((_S3_-_S2_)*(O22-_L2_)/(_L3_-_L2_)+_S2_)/2","v":127.00866052376091},{"$f":"-Y22","v":-127.00866052376091},null,{"$f":"Y22","v":127.00866052376091},{"$f":"-AB22","v":-127.00866052376091},null,{"$f":"Y22","v":127.00866052376091},{"$f":"-AE22","v":-127.00866052376091},{"$f":"IF(C20>0,L22,\"\")","v":29.346770652005752},{"$f":"O21","v":0},{"$f":"$R$165/2","v":906.41522996686899},null,null,"Panel G1",{"$f":"AS26","v":36.133878269035051},{"$f":"AT26","v":29.166893652293368},{"$f":"AM22-100*Panels!T7","v":-63.317636978436198},{"$f":"AN22+100*Panels!U7","v":39.626153424475689},{"$f":"(AP22-AN22)/(AO22-AM22)","v":-0.10516943604283865},{"$f":"(AP22*AM22-AN22*AO22)/(AM22-AO22)","v":32.967073251888365}]
["S1",34,{"$f":"C20+1","v":2},{"$f":"(Panels!C38+D26)/2","v":31.710894455334323},{"$f":"(Panels!D38+E26)/2","v":29.578996192172241},null,{"$f":"IF(Design!$H$19=\"x\",D23,0)","v":0},{"$f":"IF(Design!$H$19=\"x\",E23,0)","v":0},null,null,{"$f":"K22","v":33.919003093207976},{"$f":"L22","v":29.346770652005752},null,44.853189782612965,0,254.07251126362783,{"$f":"ATAN((E22-E23)/(D22-D23))*180/PI()","v":-6.0036948869785665},null,127.03625563181392,-127.03625563181392,{"$f":"(S23-Y23)*2","v":5.5190216106012713E-2},null,{"$f":"IF($H$16=\"Par\",Y23,0)+IF($H$16=\"Con\",AB23,0)+IF($H$16=\"Exp\",AE23,0)","v":127.00866052376091},null,127.00866052376091,-127.00866052376091,null,{"$f":"Y23","v":127.00866052376091},{"$f":"-AB23","v":-127.00866052376091},null,{"$f":"Y23","v":127.00866052376091},{"$f":"-AE23","v":-127.00866052376091},{"$f":"IF(C20>0,L23,\"\")","v":29.346770652005752},{"$f":"AH22","v":0},{"$f":"-AI22","v":-906.41522996686899},null,null,"Panel B",{"$f":"Panels!C38","v":31.706622469069252},{"$f":"Panels!D38","v":29.526385301123888},{"$f":"Panels!C39","v":35.548065717529553},{"$f":"Panels!D39","v":76.835000000000008},{"$f":"IF(AO23<>AM23,(AP23-AN23)/(AO23-AM23),\"\")","v":12.31532308015692},{"$f":"IF(AQ23<>\"\",(AP23*AM23-AN23*AO23)/(AM23-AO23),AM23)","v":-360.95091418602669},{"$f":"IF(AQ23<>\"\",(AR22-AR23)/(AQ23-AQ22),AM23)","v":31.715166441599393},{"$f":"AS23*AQ22+AR22","v":29.631607083220594}]
[null,null,null,null,null,null,null,null,null,null,{"$f":"K23","v":33.919003093207976},{"$f":"L23","v":29.346770652005752},{"$f":"((D22-D23)^2+(E22-E23)^2)^0.5","v":4.4405731423580228},{"$f":"((I22-I19)^2+(J22-J19)^2)^0.5","v":1.2541546914346694E-3},{"$f":"O21+N24","v":1.2541546914346694E-3},{"$f":"((D22-D23)^2+(E22-E23)^2)^0.5*Panels!$T$114","v":254.00078374287892},null,null,127.00039187143946,-127.00039187143946,{"$f":"(S24-W24)*2","v":-1.9945861669043552E-2},null,{"$f":"IF($H$16=\"Par\",Y24,0)+IF($H$16=\"Con\",AB24,0)+IF($H$16=\"Exp\",AE24,0)","v":127.01036480227398},null,127.01036480227398,-127.01036480227398,null,{"$f":"Y24","v":127.01036480227398},{"$f":"-AB24","v":-127.01036480227398},null,{"$f":"Y24","v":127.01036480227398},{"$f":"-AE24","v":-127.01036480227398},{"$f":"IF(C20>0,L24,\"\")","v":29.346770652005752},null,null,{"$f":"AJ21+N24","v":1.2541546914346694E-3}]
[null,null,null,{"$f":"AS26","v":36.133878269035051},{"$f":"AT26","v":29.166893652293368},null,{"$f":"IF(Design!$H$19=\"x\",D25,0)","v":0},{"$f":"IF(Design!$H$19=\"x\",E25,0)","v":0},{"$f":"SUM(D25:D26)/2","v":33.924522355317222},{"$f":"SUM(E25:E26)/2","v":29.399250367756981},{"$f":"IF(Design!$H$18=\"x\",I25,0)","v":33.924522355317222},{"$f":"IF(Design!$H$18=\"x\",J25,0)","v":29.399250367756981},null,{"$f":"N24","v":1.2541546914346694E-3},1.2541546914346694E-3,254.00078374287892,null,null,{"$f":"P25/2","v":127.00039187143946},{"$f":"-S25","v":-127.00039187143946},{"$f":"(S25-W25)*2","v":-1.9945861669043552E-2},null,{"$f":"IF($H$16=\"Par\",Y25,0)+IF($H$16=\"Con\",AB25,0)+IF($H$16=\"Exp\",AE25,0)","v":127.01036480227398},null,127.01036480227398,{"$f":"-Y25","v":-127.01036480227398},null,127.01036480227398,{"$f":"-AB25","v":-127.01036480227398},null,127.01036480227398,-127.01036480227398,{"$f":"IF(C23>0,L25,\"\")","v":29.399250367756981},{"$f":"O24","v":1.2541546914346694E-3},{"$f":"$R$165/2","v":906.41522996686899},null,null,"Panel F (top)",{"$f":"Panels!C42","v":29.81285537892925},{"$f":"Panels!D42","v":29.68015853775065},{"$f":"Panels!C45","v":67.579498272542139},{"$f":"Panels!D45","v":26.613520119269818},{"$f":"(AP25-AN25)/(AO25-AM25)","v":-8.1199656191825897E-2},{"$f":"(AP25*AM25-AN25*AO25)/(AM25-AO25)","v":32.100952144616336}]
[null,33,{"$f":"C23+1","v":3},{"$f":"AS23","v":31.715166441599393},{"$f":"AT23","v":29.631607083220594},null,{"$f":"IF(Design!$H$19=\"x\",D26,0)","v":0},{"$f":"IF(Design!$H$19=\"x\",E26,0)","v":0},null,null,{"$f":"K25","v":33.924522355317222},{"$f":"L25","v":29.399250367756981},null,{"$f":"N25","v":1.2541546914346694E-3},1.2541546914346694E-3,254.00078374287892,{"$f":"ATAN((E25-E26)/(D25-D26))*180/PI()","v":-6.0036948869785745},null,127.00039187143946,-127.00039187143946,-1.9945861669043552E-2,null,127.01036480227398,null,127.01036480227398,-127.01036480227398,null,127.01036480227398,-127.01036480227398,null,127.01036480227398,-127.01036480227398,{"$f":"IF(C23>0,L26,\"\")","v":29.399250367756981},{"$f":"AH25","v":1.2541546914346694E-3},{"$f":"-AI25","v":-906.41522996686899},null,null,"Panel G",{"$f":"Panels!C51","v":36.145462410396654},{"$f":"Panels!D51","v":29.256513025873851},{"$f":"Panels!C50","v":41.190161894408035},{"$f":"Panels!D50","v":68.284248750633637},{"$f":"(AP26-AN26)/(AO26-AM26)","v":7.7363846644292469},{"$f":"(AP26*AM26-AN26*AO26)/(AM26-AO26)","v":-250.37868805462261},{"$f":"(AR25-AR26)/(AQ26-AQ25)","v":36.133878269035051},{"$f":"AS26*AQ26+AR26","v":29.166893652293368},{"$f":"ATAN(AQ26)*180/PI()","v":82.634823069801882},{"$f":"90-AU26","v":7.3651769301981176}]
[null,null,null,null,null,null,null,null,null,null,{"$f":"K26","v":33.924522355317222},{"$f":"L26","v":29.399250367756981},{"$f":"((D25-D26)^2+(E25-E26)^2)^0.5","v":4.4430814517408894},{"$f":"((I25-I22)^2+(J25-J22)^2)^0.5","v":5.2769146473676642E-2},{"$f":"O24+N27","v":5.4023301165111309E-2},{"$f":"((D25-D26)^2+(E25-E26)^2)^0.5*Panels!$T$114","v":254.14425903957888},null,null,127.07212951978944,-127.07212951978944,-1.9887199460299598E-2,null,127.08207311951959,null,127.08207311951959,-127.08207311951959,null,127.08207311951959,-127.08207311951959,null,127.08207311951959,-127.08207311951959,{"$f":"IF(C23>0,L27,\"\")","v":29.399250367756981},null,null,{"$f":"AJ24+N27","v":5.4023301165111309E-2}]
[null,null,null,{"$f":"AS29","v":38.427816631380324},{"$f":"AT29","v":46.913683219887275},null,{"$f":"IF(Design!$H$19=\"x\",D28,0)","v":0},{"$f":"IF(Design!$H$19=\"x\",E28,0)","v":0},{"$f":"SUM(D28:D29)/2","v":35.795619092141031},{"$f":"SUM(E28:E29)/2","v":47.190509950642422},{"$f":"IF(Design!$H$18=\"x\",I28,0)","v":35.795619092141031},{"$f":"IF(Design!$H$18=\"x\",J28,0)","v":47.190509950642422},null,{"$f":"N27","v":5.2769146473676642E-2},5.4023301165111309E-2,254.14425903957888,null,null,{"$f":"P28/2","v":127.07212951978944},{"$f":"-S28","v":-127.07212951978944},-1.9887199460299598E-2,null,127.08207311951959,null,127.08207311951959,{"$f":"-Y28","v":-127.08207311951959},null,127.08207311951959,-127.08207311951959,null,127.08207311951959,-127.08207311951959,{"$f":"IF(C26>0,L28,\"\")","v":47.190509950642422},{"$f":"O27","v":5.4023301165111309E-2},{"$f":"$R$165/2","v":906.41522996686899},null,null,"Panel B",{"$f":"AS17","v":33.163421552901738},{"$f":"AT17","v":47.467336681397569},{"$f":"AM28+100*Panels!T7","v":132.61493680037299},{"$f":"AN28-100*Panels!U7","v":37.008076909215248},{"$f":"(AP28-AN28)/(AO28-AM28)","v":-0.10516943604283865},{"$f":"(AP28*AM28-AN28*AO28)/(AM28-AO28)","v":50.955115023367163}]
["S2",32,{"$f":"C26+1","v":4},{"$f":"AS17","v":33.163421552901738},{"$f":"AT17","v":47.467336681397569},null,{"$f":"IF(Design!$H$19=\"x\",D29,0)","v":0},{"$f":"IF(Design!$H$19=\"x\",E29,0)","v":0},null,null,{"$f":"K28","v":35.795619092141031},{"$f":"L28","v":47.190509950642422},null,{"$f":"N28","v":5.2769146473676642E-2},5.4023301165111309E-2,254.14425903957888,{"$f":"ATAN((E28-E29)/(D28-D29))*180/PI()","v":-6.003694886978673},null,127.07212951978944,-127.07212951978944,-1.9887199460299598E-2,null,127.08207311951959,null,127.08207311951959,-127.08207311951959,null,127.08207311951959,-127.08207311951959,null,127.08207311951959,-127.08207311951959,{"$f":"IF(C26>0,L29,\"\")","v":47.190509950642422},{"$f":"AH28","v":5.4023301165111309E-2},{"$f":"-AI28","v":-906.41522996686899},null,null,"Panel G",{"$f":"Panels!C51","v":36.145462410396654},{"$f":"Panels!D51","v":29.256513025873851},{"$f":"Panels!C50","v":41.190161894408035},{"$f":"Panels!D50","v":68.284248750633637},{"$f":"IF(AO29<>AM29,(AP29-AN29)/(AO29-AM29),\"\")","v":7.7363846644292469},{"$f":"IF(AQ29<>\"\",(AP29*AM29-AN29*AO29)/(AM29-AO29),AM29)","v":-250.37868805462261},{"$f":"IF(AQ29<>\"\",(AR28-AR29)/(AQ29-AQ28),AM29)","v":38.427816631380324},{"$f":"AS29*AQ28+AR28","v":46.913683219887275}]
[null,null,null,null,null,null,null,null,null,null,{"$f":"K29","v":35.795619092141031},{"$f":"L29","v":47.190509950642422},{"$f":"((D28-D29)^2+(E28-E29)^2)^0.5","v":5.2934287279372985},{"$f":"((I28-I25)^2+(J28-J25)^2)^0.5","v":17.889380105083735},{"$f":"O27+N30","v":17.943403406248844},{"$f":"((D28-D29)^2+(E28-E29)^2)^0.5*Panels!$T$114","v":302.78412323801348},null,null,151.39206161900674,-151.39206161900674,0,null,151.39206161900674,null,151.39206161900674,-151.39206161900674,null,{"$f":"Y30","v":151.39206161900674},-151.39206161900674,null,{"$f":"Y30","v":151.39206161900674},-151.39206161900674,{"$f":"IF(C26>0,L30,\"\")","v":47.190509950642422},null,null,{"$f":"AJ27+N30","v":17.943403406248844}]
[null,null,null,{"$f":"Panels!C50","v":41.190161894408035},{"$f":"Panels!D50","v":68.284248750633637},null,{"$f":"IF(Design!$H$19=\"x\",D31,0)","v":0},{"$f":"IF(Design!$H$19=\"x\",E31,0)","v":0},{"$f":"SUM(D31:D32)/2","v":38.048781292343989},{"$f":"SUM(E31:E32)/2","v":68.614625976948616},{"$f":"IF(Design!$H$18=\"x\",I31,0)","v":38.048781292343989},{"$f":"IF(Design!$H$18=\"x\",J31,0)","v":68.614625976948616},null,{"$f":"N30","v":17.889380105083735},17.943403406248844,302.78412323801348,null,null,{"$f":"P31/2","v":151.39206161900674},{"$f":"-S31","v":-151.39206161900674},0,null,151.39206161900674,null,151.39206161900674,{"$f":"-Y31","v":-151.39206161900674},null,{"$f":"PI()*($Q$11*(O31-_L2_)*2+$O$11)^2/2","v":151.39206161900674},-151.39206161900674,null,{"$f":"($H$11*EXP($S$11*(O31-$I$11)))/2","v":151.39206161900674},-151.39206161900674,{"$f":"IF(C29>0,L31,\"\")","v":68.614625976948616},{"$f":"O30","v":17.943403406248844},{"$f":"$R$165/2","v":906.41522996686899},null,null,"Cone Comp",null,null,null,null,null,null,{"$f":"AU31*COS(ATAN(AQ15))","v":0.91390733146454295},{"$f":"AU31*SIN(ATAN(AQ15))","v":-7.4208961106109694E-2},{"$f":"Design!D39/Design!E49","v":0.91691525257958817}]
[null,31,{"$f":"C29+1","v":5},{"$f":"AS49","v":34.90740069027995},{"$f":"AT49","v":68.94500320326361},null,{"$f":"IF(Design!$H$19=\"x\",D32,0)","v":0},{"$f":"IF(Design!$H$19=\"x\",E32,0)","v":0},null,null,{"$f":"K31","v":38.048781292343989},{"$f":"L31","v":68.614625976948616},null,{"$f":"N31","v":17.889380105083735},17.943403406248844,302.78412323801348,{"$f":"ATAN((E31-E32)/(D31-D32))*180/PI()","v":-6.0036948869785851},null,151.39206161900674,-151.39206161900674,0,null,151.39206161900674,null,151.39206161900674,-151.39206161900674,null,151.39206161900674,-151.39206161900674,null,{"$f":"($H$11*EXP($S$11*(O32-$I$11)))/2","v":151.39206161900674},-151.39206161900674,{"$f":"IF(C29>0,L32,\"\")","v":68.614625976948616},{"$f":"AH31","v":17.943403406248844},{"$f":"-AI31","v":-906.41522996686899}]
[null,null,null,null,null,null,null,null,null,null,{"$f":"K32","v":38.048781292343989},{"$f":"L32","v":68.614625976948616},{"$f":"((D31-D32)^2+(E31-E32)^2)^0.5","v":6.3174112415424828},{"$f":"((I31-I28)^2+(J31-J28)^2)^0.5","v":21.542272104145685},{"$f":"O30+N33","v":39.485675510394529},{"$f":"((D31-D32)^2+(E31-E32)^2)^0.5*Panels!$T$114","v":361.35592301623001},null,null,180.677961508115,-180.677961508115,2.3948032835676258E-2,null,180.66598749169717,null,180.66598749169717,-180.66598749169717,null,172.30608917079644,-172.30608917079644,null,166.57799124181969,-166.57799124181969,{"$f":"IF(C29>0,L33,\"\")","v":68.614625976948616},null,null,{"$f":"AJ30+N33","v":39.485675510394529},null,"S2'",{"$f":"AM107-AS31","v":32.249514221437195},{"$f":"AM33*AQ15+AR15","v":47.541545642503685},{"$f":"AO107","v":31.269654462761739},{"$f":"AO33*AQ107+AR107","v":47.621109918024381}]
[null,null,null,{"$f":"D31","v":41.190161894408035},{"$f":"E31","v":68.284248750633637},null,{"$f":"IF(Design!$H$19=\"x\",D34,0)","v":0},{"$f":"IF(Design!$H$19=\"x\",E34,0)","v":0},{"$f":"SUM(D34:D35)/2","v":38.170504239999701},{"$f":"SUM(E34:E35)/2","v":70.112125176132722},{"$f":"IF(Design!$H$18=\"x\",I34,0)","v":38.170504239999701},{"$f":"IF(Design!$H$18=\"x\",J34,0)","v":70.112125176132722},null,{"$f":"N33","v":21.542272104145685},39.485675510394529,361.35592301623001,null,null,180.677961508115,-180.677961508115,2.3948032835676258E-2,null,180.66598749169717,null,180.66598749169717,-180.66598749169717,null,172.30608917079644,-172.30608917079644,null,166.57799124181969,-166.57799124181969,{"$f":"IF(C32>0,L34,\"\")","v":70.112125176132722},{"$f":"O33","v":39.485675510394529},{"$f":"$R$165/2","v":906.41522996686899}]
[null,30,{"$f":"C32+1","v":6},{"$f":"(D32+AN64)/2","v":35.150846585591367},{"$f":"(E32+AO64)/2","v":71.940001601631806},null,{"$f":"IF(Design!$H$19=\"x\",D35,0)","v":0},{"$f":"IF(Design!$H$19=\"x\",E35,0)","v":0},null,null,{"$f":"K34","v":38.170504239999701},{"$f":"L34","v":70.112125176132722},null,{"$f":"N34","v":21.542272104145685},39.485675510394529,361.35592301623001,{"$f":"ATAN((E34-E35)/(D34-D35))*180/PI()","v":-31.187597789664135},null,180.677961508115,-180.677961508115,2.3948032835676258E-2,null,180.66598749169717,null,180.66598749169717,-180.66598749169717,null,172.30608917079644,-172.30608917079644,null,166.57799124181969,-166.57799124181969,{"$f":"IF(C32>0,L35,\"\")","v":70.112125176132722},{"$f":"AH34","v":39.485675510394529},{"$f":"-AI34","v":-906.41522996686899}]
[null,null,null,null,null,null,null,null,null,null,{"$f":"K35","v":38.170504239999701},{"$f":"L35","v":70.112125176132722},{"$f":"((D34-D35)^2+(E34-E35)^2)^0.5","v":7.0595933527993395},{"$f":"((I34-I31)^2+(J34-J31)^2)^0.5","v":1.5024381276921295},{"$f":"O33+N36","v":40.988113638086659},{"$f":"((D34-D35)^2+(E34-E35)^2)^0.5*Panels!$T$114","v":403.80873978012227},null,null,201.90436989006113,-201.90436989006113,38.3934199976527,null,182.70765989123478,null,182.70765989123478,-182.70765989123478,null,173.81517080095477,-173.81517080095477,null,167.69225212804901,-167.69225212804901,{"$f":"IF(C32>0,L36,\"\")","v":70.112125176132722},null,null,{"$f":"AJ33+N36","v":40.988113638086659}]
[null,null,null,{"$f":"D31","v":41.190161894408035},{"$f":"E31","v":68.284248750633637},null,{"$f":"IF(Design!$H$19=\"x\",D37,0)","v":0},{"$f":"IF(Design!$H$19=\"x\",E37,0)","v":0},{"$f":"SUM(D37:D38)/2","v":39.819143492501482},{"$f":"SUM(E37:E38)/2","v":71.609624375316827},{"$f":"IF(Design!$H$18=\"x\",I37,0)","v":39.819143492501482},{"$f":"IF(Design!$H$18=\"x\",J37,0)","v":71.609624375316827},null,{"$f":"N36","v":1.5024381276921295},40.988113638086659,403.80873978012227,null,null,201.90436989006113,-201.90436989006113,38.3934199976527,null,182.70765989123478,null,182.70765989123478,-182.70765989123478,null,173.81517080095477,-173.81517080095477,null,167.69225212804901,-167.69225212804901,{"$f":"IF(C35>0,L37,\"\")","v":71.609624375316827},{"$f":"O36","v":40.988113638086659},{"$f":"$R$165/2","v":906.41522996686899}]
[null,29,{"$f":"C35+1","v":7},{"$f":"(Panels!C32+D41)/2","v":38.448125090594935},{"$f":"Panels!D32","v":74.935000000000002},null,{"$f":"IF(Design!$H$19=\"x\",D38,0)","v":0},{"$f":"IF(Design!$H$19=\"x\",E38,0)","v":0},null,null,{"$f":"K37","v":39.819143492501482},{"$f":"L37","v":71.609624375316827},null,{"$f":"N37","v":1.5024381276921295},40.988113638086659,403.80873978012227,{"$f":"ATAN((E37-E38)/(D37-D38))*180/PI()","v":-67.594146287059615},null,201.90436989006113,-201.90436989006113,38.3934199976527,null,182.70765989123478,null,182.70765989123478,-182.70765989123478,null,173.81517080095477,-173.81517080095477,null,167.69225212804901,-167.69225212804901,{"$f":"IF(C35>0,L38,\"\")","v":71.609624375316827},{"$f":"AH37","v":40.988113638086659},{"$f":"-AI37","v":-906.41522996686899}]
[null,null,null,null,null,null,null,null,null,null,{"$f":"K38","v":39.819143492501482},{"$f":"L38","v":71.609624375316827},{"$f":"((D37-D38)^2+(E37-E38)^2)^0.5","v":7.1938347224838184},{"$f":"((I37-I34)^2+(J37-J34)^2)^0.5","v":2.2272214161251829},{"$f":"O36+N39","v":43.215335054211842},{"$f":"((D37-D38)^2+(E37-E38)^2)^0.5*Panels!$T$114","v":411.48734612607444},null,null,205.74367306303722,-205.74367306303722,40.018856620141037,null,185.7342447529667,null,185.7342447529667,-185.7342447529667,null,176.06434679910456,-176.06434679910456,null,169.35776654046651,-169.35776654046651,{"$f":"IF(C35>0,L39,\"\")","v":71.609624375316827},null,null,{"$f":"AJ36+N39","v":43.215335054211842}]
[null,null,null,{"$f":"D37","v":41.190161894408035},{"$f":"E37","v":68.284248750633637},null,{"$f":"IF(Design!$H$19=\"x\",D40,0)","v":0},{"$f":"IF(Design!$H$19=\"x\",E40,0)","v":0},{"$f":"SUM(D40:D41)/2","v":41.269173179034176},{"$f":"SUM(E40:E41)/2","v":71.609624375316827},{"$f":"IF(Design!$H$18=\"x\",I40,0)","v":41.269173179034176},{"$f":"IF(Design!$H$18=\"x\",J40,0)","v":71.609624375316827},null,{"$f":"N39","v":2.2272214161251829},43.215335054211842,411.48734612607444,null,null,{"$f":"P40/2","v":205.74367306303722},{"$f":"-S40","v":-205.74367306303722},{"$f":"(S40-W40)*2","v":40.018856620141037},null,{"$f":"IF($H$16=\"Par\",Y40,0)+IF($H$16=\"Con\",AB40,0)+IF($H$16=\"Exp\",AE40,0)","v":185.7342447529667},null,{"$f":"((_S3_-_S2_)*(O40-_L2_)/(_L3_-_L2_)+_S2_)/2","v":185.7342447529667},{"$f":"-Y40","v":-185.7342447529667},null,{"$f":"PI()*($Q$11*(O40-_L2_)*2+$O$11)^2/2","v":176.06434679910456},{"$f":"-AB40","v":-176.06434679910456},null,{"$f":"($H$11*EXP($S$11*(O40-$I$11)))/2","v":169.35776654046651},{"$f":"-AE40","v":-169.35776654046651},{"$f":"IF(C38>0,L40,\"\")","v":71.609624375316827},{"$f":"O39","v":43.215335054211842},{"$f":"$R$165/2","v":906.41522996686899}]
[null,28,{"$f":"C38+1","v":8},{"$f":"D40+(E41-E40)*Panels!Y5","v":41.348184463660317},{"$f":"E38","v":74.935000000000002},null,{"$f":"IF(Design!$H$19=\"x\",D41,0)","v":0},{"$f":"IF(Design!$H$19=\"x\",E41,0)","v":0},null,null,{"$f":"K40","v":41.269173179034176},{"$f":"L40","v":71.609624375316827},null,{"$f":"N40","v":2.2272214161251829},43.215335054211842,411.48734612607444,{"$f":"ATAN((E40-E41)/(D40-D41))*180/PI()","v":88.638902173829109},null,205.74367306303722,-205.74367306303722,40.018856620141037,null,185.7342447529667,null,185.7342447529667,-185.7342447529667,null,176.06434679910456,-176.06434679910456,null,169.35776654046651,-169.35776654046651,{"$f":"IF(C38>0,L41,\"\")","v":71.609624375316827},{"$f":"AH40","v":43.215335054211842},{"$f":"-AI40","v":-906.41522996686899}]
[null,null,null,null,null,null,null,null,null,null,{"$f":"K41","v":41.269173179034176},{"$f":"L41","v":71.609624375316827},{"$f":"((D40-D41)^2+(E40-E41)^2)^0.5","v":6.6526283011559695},{"$f":"((I40-I37)^2+(J40-J37)^2)^0.5","v":1.4500296865326945},{"$f":"O39+N42","v":44.665364740744536},{"$f":"((D40-D41)^2+(E40-E41)^2)^0.5*Panels!$T$114","v":380.53033882612146},null,null,190.26516941306073,-190.26516941306073,5.1209408262702141,null,187.70469899992563,null,187.70469899992563,-187.70469899992563,null,177.53644097662803,-177.53644097662803,null,170.45097787648601,-170.45097787648601,{"$f":"IF(C38>0,L42,\"\")","v":71.609624375316827},null,null,{"$f":"AJ39+N42","v":44.665364740744536}]
[null,null,null,{"$f":"Panels!C54","v":43.074485485083265},{"$f":"Panels!D54","v":68.284248750633637},null,{"$f":"IF(Design!$H$19=\"x\",D43,0)","v":0},{"$f":"IF(Design!$H$19=\"x\",E43,0)","v":0},{"$f":"SUM(D43:D44)/2","v":43.153496769709406},{"$f":"SUM(E43:E44)/2","v":71.609624375316827},{"$f":"IF(Design!$H$18=\"x\",I43,0)","v":43.153496769709406},{"$f":"IF(Design!$H$18=\"x\",J43,0)","v":71.609624375316827},null,{"$f":"N42","v":1.4500296865326945},44.665364740744536,380.53033882612146,null,null,190.26516941306073,-190.26516941306073,5.1209408262702141,null,187.70469899992563,null,187.70469899992563,-187.70469899992563,null,177.53644097662803,-177.53644097662803,null,170.45097787648601,-170.45097787648601,{"$f":"IF(C41>0,L43,\"\")","v":71.609624375316827},{"$f":"O42","v":44.665364740744536},{"$f":"$R$165/2","v":906.41522996686899}]
[null,27,{"$f":"C41+1","v":9},{"$f":"D43+(E44-E43)*Panels!Y5","v":43.232508054335547},{"$f":"E41","v":74.935000000000002},null,{"$f":"IF(Design!$H$19=\"x\",D44,0)","v":0},{"$f":"IF(Design!$H$19=\"x\",E44,0)","v":0},null,null,{"$f":"K43","v":43.153496769709406},{"$f":"L43","v":71.609624375316827},null,{"$f":"N43","v":1.4500296865326945},44.665364740744536,380.53033882612146,{"$f":"ATAN((E43-E44)/(D43-D44))*180/PI()","v":88.638902173829109},null,190.26516941306073,-190.26516941306073,5.1209408262702141,null,187.70469899992563,null,187.70469899992563,-187.70469899992563,null,177.53644097662803,-177.53644097662803,null,170.45097787648601,-170.45097787648601,{"$f":"IF(C41>0,L44,\"\")","v":71.609624375316827},{"$f":"AH43","v":44.665364740744536},{"$f":"-AI43","v":-906.41522996686899}]
[null,null,null,null,null,null,null,null,null,null,{"$f":"K44","v":43.153496769709406},{"$f":"L44","v":71.609624375316827},{"$f":"((D43-D44)^2+(E43-E44)^2)^0.5","v":6.6526283011559695},{"$f":"((I43-I40)^2+(J43-J40)^2)^0.5","v":1.8843235906752298},{"$f":"O42+N45","v":46.549688331419766},{"$f":"((D43-D44)^2+(E43-E44)^2)^0.5*Panels!$T$114","v":380.53033882612146},null,null,190.26516941306073,-190.26516941306073,-2.9697510109372161E-4,null,190.26531790061128,null,190.26531790061128,-190.26531790061128,null,179.45859431376172,-179.45859431376172,null,171.88216388372874,-171.88216388372874,{"$f":"IF(C41>0,L45,\"\")","v":71.609624375316827},null,null,{"$f":"AJ42+N45","v":46.549688331419766}]
[null,null,null,{"$f":"Panels!C75","v":108.57987060189097},{"$f":"Panels!D75","v":65.168779831512538},null,{"$f":"IF(Design!$H$19=\"x\",D46,0)","v":0},{"$f":"IF(Design!$H$19=\"x\",E46,0)","v":0},{"$f":"SUM(D46:D47)/2","v":108.69589382581285},{"$f":"SUM(E46:E47)/2","v":70.051889915756277},{"$f":"IF(Design!$H$18=\"x\",I46,0)","v":108.69589382581285},{"$f":"IF(Design!$H$18=\"x\",J46,0)","v":70.051889915756277},null,{"$f":"N45","v":1.8843235906752298},46.549688331419766,380.53033882612146,null,null,190.26516941306073,-190.26516941306073,-2.9697510109372161E-4,null,190.26531790061128,null,190.26531790061128,-190.26531790061128,null,179.45859431376172,-179.45859431376172,null,171.88216388372874,-171.88216388372874,{"$f":"IF(C44>0,L46,\"\")","v":70.051889915756277},{"$f":"O45","v":46.549688331419766},{"$f":"$R$165/2","v":906.41522996686899}]
[null,26,{"$f":"C44+1","v":10},{"$f":"D46+(E47-E46)*Panels!Y5","v":108.81191704973473},{"$f":"E41","v":74.935000000000002},null,{"$f":"IF(Design!$H$19=\"x\",D47,0)","v":0},{"$f":"IF(Design!$H$19=\"x\",E47,0)","v":0},null,null,{"$f":"K46","v":108.69589382581285},{"$f":"L46","v":70.051889915756277},null,{"$f":"N46","v":1.8843235906752298},46.549688331419766,380.53033882612146,{"$f":"ATAN((E46-E47)/(D46-D47))*180/PI()","v":88.638902173829052},null,190.26516941306073,-190.26516941306073,-2.9697510109372161E-4,null,190.26531790061128,null,190.26531790061128,-190.26531790061128,null,179.45859431376172,-179.45859431376172,null,171.88216388372874,-171.88216388372874,{"$f":"IF(C44>0,L47,\"\")","v":70.051889915756277},{"$f":"AH46","v":46.549688331419766},{"$f":"-AI46","v":-906.41522996686899}]
[null,null,null,null,null,null,null,null,null,null,{"$f":"K47","v":108.69589382581285},{"$f":"L47","v":70.051889915756277},{"$f":"((D46-D47)^2+(E46-E47)^2)^0.5","v":9.7689765038783989},{"$f":"((I46-I43)^2+(J46-J43)^2)^0.5","v":65.560905641292194},{"$f":"O45+N48","v":112.11059397271197},{"$f":"((D46-D47)^2+(E46-E47)^2)^0.5*Panels!$T$114","v":558.78545602184442},null,null,279.39272801092221,-279.39272801092221,7.2585532360221805E-2,null,279.3564352447421,null,279.3564352447421,-279.3564352447421,null,252.77995097524141,-252.77995097524141,null,229.91879048990214,-229.91879048990214,{"$f":"IF(C44>0,L48,\"\")","v":70.051889915756277},null,null,{"$f":"AJ45+N48","v":112.11059397271197},null,"Panel B",{"$f":"Panels!C38","v":31.706622469069252},{"$f":"Panels!D38","v":29.526385301123888},{"$f":"Panels!C39","v":35.548065717529553},{"$f":"Panels!D39","v":76.835000000000008},{"$f":"(AP48-AN48)/(AO48-AM48)","v":12.31532308015692},{"$f":"(AP48*AM48-AN48*AO48)/(AM48-AO48)","v":-360.95091418602669}]
[null,null,null,{"$f":"D46","v":108.57987060189097},{"$f":"E46","v":65.168779831512538},null,{"$f":"IF(Design!$H$19=\"x\",D49,0)","v":0},{"$f":"IF(Design!$H$19=\"x\",E49,0)","v":0},{"$f":"SUM(D49:D50)/2","v":111.18041456337917},{"$f":"SUM(E49:E50)/2","v":70.051889915756277},{"$f":"IF(Design!$H$18=\"x\",I49,0)","v":111.18041456337917},{"$f":"IF(Design!$H$18=\"x\",J49,0)","v":70.051889915756277},null,{"$f":"N48","v":65.560905641292194},112.11059397271197,558.78545602184442,null,null,279.39272801092221,-279.39272801092221,7.2585532360221805E-2,null,279.3564352447421,null,279.3564352447421,-279.3564352447421,null,252.77995097524141,-252.77995097524141,null,229.91879048990214,-229.91879048990214,{"$f":"IF(C47>0,L49,\"\")","v":70.051889915756277},{"$f":"O48","v":112.11059397271197},{"$f":"$R$165/2","v":906.41522996686899},null,null,"Panel G",{"$f":"D31","v":41.190161894408035},{"$f":"E31","v":68.284248750633637},{"$f":"AM49-100*Panels!T7","v":-58.261353353063214},{"$f":"AN49+100*Panels!U7","v":78.743508522815958},{"$f":"(AP49-AN49)/(AO49-AM49)","v":-0.10516943604283865},{"$f":"(AP49*AM49-AN49*AO49)/(AM49-AO49)","v":72.616194847581752},{"$f":"(AR48-AR49)/(AQ49-AQ48)","v":34.90740069027995},{"$f":"AS49*AQ49+AR49","v":68.94500320326361}]
[null,25,{"$f":"C47+1","v":11},{"$f":"(D47+Panels!C33)/2","v":113.78095852486737},{"$f":"E47","v":74.935000000000002},null,{"$f":"IF(Design!$H$19=\"x\",D50,0)","v":0},{"$f":"IF(Design!$H$19=\"x\",E50,0)","v":0},null,null,{"$f":"K49","v":111.18041456337917},{"$f":"L49","v":70.051889915756277},null,{"$f":"N49","v":65.560905641292194},112.11059397271197,558.78545602184442,{"$f":"ATAN((E49-E50)/(D49-D50))*180/PI()","v":61.962067591273566},null,279.39272801092221,-279.39272801092221,7.2585532360221805E-2,null,279.3564352447421,null,279.3564352447421,-279.3564352447421,null,252.77995097524141,-252.77995097524141,null,229.91879048990214,-229.91879048990214,{"$f":"IF(C47>0,L50,\"\")","v":70.051889915756277},{"$f":"AH49","v":112.11059397271197},{"$f":"-AI49","v":-906.41522996686899}]
[null,null,null,null,null,null,null,null,null,null,{"$f":"K50","v":111.18041456337917},{"$f":"L50","v":70.051889915756277},{"$f":"((D49-D50)^2+(E49-E50)^2)^0.5","v":11.064825889362302},{"$f":"((I49-I46)^2+(J49-J46)^2)^0.5","v":2.4845207375663279},{"$f":"O48+N51","v":114.5951147102783},{"$f":"((D49-D50)^2+(E49-E50)^2)^0.5*Panels!$T$114","v":632.90804087152367},null,null,316.45402043576183,-316.45402043576183,67.442709402152218,null,282.73266573468572,null,282.73266573468572,-282.73266573468572,null,255.80495159316354,-255.80495159316354,null,232.46760042394482,-232.46760042394482,{"$f":"IF(C47>0,L51,\"\")","v":70.051889915756277},null,null,{"$f":"AJ48+N51","v":114.5951147102783},null,"Panel H (bottom)",{"$f":"Panels!C57","v":42.984222563379923},{"$f":"Panels!D57","v":66.386394013050818},{"$f":"Panels!C56","v":106.59175294260481},{"$f":"Panels!D56","v":63.361188015633054},{"$f":"(AP51-AN51)/(AO51-AM51)","v":-4.7560500767466339E-2},{"$f":"(AP51*AM51-AN51*AO51)/(AM51-AO51)","v":68.430745163265385}]
[null,null,null,{"$f":"D49","v":108.57987060189097},{"$f":"E49","v":65.168779831512538},null,{"$f":"IF(Design!$H$19=\"x\",D52,0)","v":0},{"$f":"IF(Design!$H$19=\"x\",E52,0)","v":0},{"$f":"SUM(D52:D53)/2","v":113.66493530094549},{"$f":"SUM(E52:E53)/2","v":67.6103348736344},{"$f":"IF(Design!$H$18=\"x\",I52,0)","v":113.66493530094549},{"$f":"IF(Design!$H$18=\"x\",J52,0)","v":67.6103348736344},null,{"$f":"N51","v":2.4845207375663279},114.5951147102783,632.90804087152367,null,null,316.45402043576183,-316.45402043576183,67.442709402152218,null,282.73266573468572,null,282.73266573468572,-282.73266573468572,null,255.80495159316354,-255.80495159316354,null,232.46760042394482,-232.46760042394482,{"$f":"IF(C50>0,L52,\"\")","v":67.6103348736344},{"$f":"O51","v":114.5951147102783},{"$f":"$R$165/2","v":906.41522996686899},null,null,"Panel G (top)",{"$f":"Panels!C62","v":58.709464221163657},{"$f":"Panels!D62","v":48.229287296147568},{"$f":"AM52+10*Panels!Y5","v":58.947065303097581},{"$f":"AN52+10*Panels!X5","v":58.226464183942632},{"$f":"IF(AO52<>AM52,(AP52-AN52)/(AO52-AM52),\"\")","v":42.075468707567715},{"$f":"IF(AQ52<>\"\",(AP52*AM52-AN52*AO52)/(AM52-AO52),AM52)","v":-2421.9989373794906},{"$f":"IF(AQ52<>\"\",(AR51-AR52)/(AQ52-AQ51),AM52)","v":59.122758485041643},{"$f":"IF(AQ52<>\"\",AS52*AQ52+AR52,AN51)","v":65.618837162962791}]
[null,24,{"$f":"C50+1","v":12},{"$f":"Panels!C33","v":118.75},{"$f":"(E49+E50)/2","v":70.051889915756277},null,{"$f":"IF(Design!$H$19=\"x\",D53,0)","v":0},{"$f":"IF(Design!$H$19=\"x\",E53,0)","v":0},null,null,{"$f":"K52","v":113.66493530094549},{"$f":"L52","v":67.6103348736344},null,{"$f":"N52","v":2.4845207375663279},114.5951147102783,632.90804087152367,{"$f":"ATAN((E52-E53)/(D52-D53))*180/PI()","v":25.647635407381948},null,316.45402043576183,-316.45402043576183,67.442709402152218,null,282.73266573468572,null,282.73266573468572,-282.73266573468572,null,255.80495159316354,-255.80495159316354,null,232.46760042394482,-232.46760042394482,{"$f":"IF(C50>0,L53,\"\")","v":67.6103348736344},{"$f":"AH52","v":114.5951147102783},{"$f":"-AI52","v":-906.41522996686899}]
[null,null,null,null,null,null,null,null,null,null,{"$f":"K53","v":113.66493530094549},{"$f":"L53","v":67.6103348736344},{"$f":"((D52-D53)^2+(E52-E53)^2)^0.5","v":11.281679665241535},{"$f":"((I52-I49)^2+(J52-J49)^2)^0.5","v":3.4833940803629755},{"$f":"O51+N54","v":118.07850879064127},{"$f":"((D52-D53)^2+(E52-E53)^2)^0.5*Panels!$T$114","v":645.31207685181585},null,null,322.65603842590792,-322.65603842590792,70.379534161554602,null,287.46627134513062,null,287.46627134513062,-287.46627134513062,null,260.07641646690706,-260.07641646690706,null,236.0887794726811,-236.0887794726811,{"$f":"IF(C50>0,L54,\"\")","v":67.6103348736344},null,null,{"$f":"AJ51+N54","v":118.07850879064127}]
[null,null,null,{"$f":"D52","v":108.57987060189097},{"$f":"E52","v":65.168779831512538},null,{"$f":"IF(Design!$H$19=\"x\",D55,0)","v":0},{"$f":"IF(Design!$H$19=\"x\",E55,0)","v":0},{"$f":"SUM(D55:D56)/2","v":113.66493530094549},{"$f":"SUM(E55:E56)/2","v":65.047958144092604},{"$f":"IF(Design!$H$18=\"x\",I55,0)","v":113.66493530094549},{"$f":"IF(Design!$H$18=\"x\",J55,0)","v":65.047958144092604},null,{"$f":"N54","v":3.4833940803629755},118.07850879064127,645.31207685181585,null,null,322.65603842590792,-322.65603842590792,70.379534161554602,null,287.46627134513062,null,287.46627134513062,-287.46627134513062,null,260.07641646690706,-260.07641646690706,null,236.0887794726811,-236.0887794726811,{"$f":"IF(C53>0,L55,\"\")","v":65.047958144092604},{"$f":"O54","v":118.07850879064127},{"$f":"$R$165/2","v":906.41522996686899}]
[null,23,{"$f":"C53+1","v":13},{"$f":"D53","v":118.75},{"$f":"E55-(D56-D55)*Panels!Y5","v":64.92713645667267},null,{"$f":"IF(Design!$H$19=\"x\",D56,0)","v":0},{"$f":"IF(Design!$H$19=\"x\",E56,0)","v":0},null,null,{"$f":"K55","v":113.66493530094549},{"$f":"L55","v":65.047958144092604},null,{"$f":"N55","v":3.4833940803629755},118.07850879064127,645.31207685181585,{"$f":"ATAN((E55-E56)/(D55-D56))*180/PI()","v":-1.3610978261709079},null,322.65603842590792,-322.65603842590792,70.379534161554602,null,287.46627134513062,null,287.46627134513062,-287.46627134513062,null,260.07641646690706,-260.07641646690706,null,236.0887794726811,-236.0887794726811,{"$f":"IF(C53>0,L56,\"\")","v":65.047958144092604},{"$f":"AH55","v":118.07850879064127},{"$f":"-AI55","v":-906.41522996686899}]
[null,null,null,null,null,null,null,null,null,null,{"$f":"K56","v":113.66493530094549},{"$f":"L56","v":65.047958144092604},{"$f":"((D55-D56)^2+(E55-E56)^2)^0.5","v":10.172999729425213},{"$f":"((I55-I52)^2+(J55-J52)^2)^0.5","v":2.5623767295417963},{"$f":"O54+N57","v":120.64088552018306},{"$f":"((D55-D56)^2+(E55-E56)^2)^0.5*Panels!$T$114","v":581.89558452312224},null,null,290.94779226156112,-290.94779226156112,-1.0171183838565412E-3,null,290.94830082075305,null,290.94830082075305,-290.94830082075305,null,263.24107350569352,-263.24107350569352,null,238.78846915279985,-238.78846915279985,{"$f":"IF(C53>0,L57,\"\")","v":65.047958144092604},null,null,{"$f":"AJ54+N57","v":120.64088552018306},null,"Panel B (top)",{"$f":"AM16","v":29.81285537892925},{"$f":"AN16","v":29.68015853775065},{"$f":"AO16","v":33.654298627389551},{"$f":"AP16","v":76.98877323662677},{"$f":"(AP57-AN57)/(AO57-AM57)","v":12.31532308015692},{"$f":"(AP57*AM57-AN57*AO57)/(AM57-AO57)","v":-337.47478739575706}]
[null,null,null,{"$f":"Panels!C74","v":106.1927286465103},{"$f":"Panels!D74","v":14.977088893438969},null,{"$f":"IF(Design!$H$19=\"x\",D58,0)","v":0},{"$f":"IF(Design!$H$19=\"x\",E58,0)","v":0},{"$f":"SUM(D58:D59)/2","v":112.47136432325516},{"$f":"SUM(E58:E59)/2","v":14.856267206019034},{"$f":"IF(Design!$H$18=\"x\",I58,0)","v":112.47136432325516},{"$f":"IF(Design!$H$18=\"x\",J58,0)","v":14.856267206019034},null,{"$f":"N57","v":2.5623767295417963},120.64088552018306,581.89558452312224,null,null,290.94779226156112,-290.94779226156112,-1.0171183838565412E-3,null,290.94830082075305,null,290.94830082075305,-290.94830082075305,null,263.24107350569352,-263.24107350569352,null,238.78846915279985,-238.78846915279985,{"$f":"IF(C56>0,L58,\"\")","v":14.856267206019034},{"$f":"O57","v":120.64088552018306},{"$f":"$R$165/2","v":906.41522996686899},null,null,"Sample Point 42",{"$f":"Panels!C15","v":1.9},{"$f":"Panels!D15","v":76.835000000000008},{"$f":"AM58+10*Panels!X6","v":11.891795437073151},{"$f":"AN58-10*Panels!Y6","v":76.43000130409574},{"$f":"IF(AO58<>AM58,(AP58-AN58)/(AO58-AM58),\"\")","v":-4.0533125248098829E-2},{"$f":"IF(AQ58<>\"\",(AP58*AM58-AN58*AO58)/(AM58-AO58),AM58)","v":76.912012937971397},{"$f":"IF(AQ58<>\"\",(AR57-AR58)/(AQ58-AQ57),AM58)","v":33.537683948802886},{"$f":"IF(AQ58<>\"\",AS58*AQ58+AR58,AN57)","v":75.55262579394342}]
[null,22,{"$f":"C56+1","v":14},{"$f":"D56","v":118.75},{"$f":"E58-(D56-D55)*Panels!$Y$5","v":14.735445518599098},null,{"$f":"IF(Design!$H$19=\"x\",D59,0)","v":0},{"$f":"IF(Design!$H$19=\"x\",E59,0)","v":0},null,null,{"$f":"K58","v":112.47136432325516},{"$f":"L58","v":14.856267206019034},null,{"$f":"N58","v":2.5623767295417963},120.64088552018306,581.89558452312224,{"$f":"ATAN((E58-E59)/(D58-D59))*180/PI()","v":-1.1024239694570321},null,290.94779226156112,-290.94779226156112,-1.0171183838565412E-3,null,290.94830082075305,null,290.94830082075305,-290.94830082075305,null,263.24107350569352,-263.24107350569352,null,238.78846915279985,-238.78846915279985,{"$f":"IF(C56>0,L59,\"\")","v":14.856267206019034},{"$f":"AH58","v":120.64088552018306},{"$f":"-AI58","v":-906.41522996686899}]
[null,null,null,null,null,null,null,null,null,null,{"$f":"K59","v":112.47136432325516},{"$f":"L59","v":14.856267206019034},{"$f":"((D58-D59)^2+(E58-E59)^2)^0.5","v":12.559596146603479},{"$f":"((I58-I55)^2+(J58-J55)^2)^0.5","v":50.20588064063692},{"$f":"O57+N60","v":170.84676616081998},{"$f":"((D58-D59)^2+(E58-E59)^2)^0.5*Panels!$T$114","v":718.40889958571904},null,null,359.20444979285952,-359.20444979285952,6.2138820625591507E-2,null,359.17338038254672,null,359.17338038254672,-359.17338038254672,null,329.1087541946697,-329.1087541946697,null,298.37748406969956,-298.37748406969956,{"$f":"IF(C56>0,L60,\"\")","v":14.856267206019034},null,null,{"$f":"AJ57+N60","v":170.84676616081998}]
[null,null,null,{"$f":"D58","v":106.1927286465103},{"$f":"E58","v":14.977088893438969},null,{"$f":"IF(Design!$H$19=\"x\",D61,0)","v":0},{"$f":"IF(Design!$H$19=\"x\",E61,0)","v":0},{"$f":"SUM(D61:D62)/2","v":112.47136432325516},{"$f":"SUM(E61:E62)/2","v":11.647405826369258},{"$f":"IF(Design!$H$18=\"x\",I61,0)","v":112.47136432325516},{"$f":"IF(Design!$H$18=\"x\",J61,0)","v":11.647405826369258},null,{"$f":"N60","v":50.20588064063692},170.84676616081998,718.40889958571904,null,null,359.20444979285952,-359.20444979285952,6.2138820625591507E-2,null,359.17338038254672,null,359.17338038254672,-359.17338038254672,null,329.1087541946697,-329.1087541946697,null,298.37748406969956,-298.37748406969956,{"$f":"IF(C59>0,L61,\"\")","v":11.647405826369258},{"$f":"O60","v":170.84676616081998},{"$f":"$R$165/2","v":906.41522996686899},null,null,"Cone Comp."]
[null,21,{"$f":"C59+1","v":15},{"$f":"D59","v":118.75},{"$f":"(E59+Panels!D24)/2","v":8.3177227592995493},null,{"$f":"IF(Design!$H$19=\"x\",D62,0)","v":0},{"$f":"IF(Design!$H$19=\"x\",E62,0)","v":0},null,null,{"$f":"K61","v":112.47136432325516},{"$f":"L61","v":11.647405826369258},null,{"$f":"N61","v":50.20588064063692},170.84676616081998,718.40889958571904,{"$f":"ATAN((E61-E62)/(D61-D62))*180/PI()","v":-27.937880297259671},null,359.20444979285952,-359.20444979285952,6.2138820625591507E-2,null,359.17338038254672,null,359.17338038254672,-359.17338038254672,null,329.1087541946697,-329.1087541946697,null,298.37748406969956,-298.37748406969956,{"$f":"IF(C59>0,L62,\"\")","v":11.647405826369258},{"$f":"AH61","v":170.84676616081998},{"$f":"-AI61","v":-906.41522996686899},null,null,"CC1",null,{"$f":"Panels!C38","v":31.706622469069252},{"$f":"Panels!D38","v":29.526385301123888},null,null,{"$f":"(AO62-AO63)/(AN62-AN63)","v":33.183706075479449},{"$f":"ATAN(AR62)*180/PI()","v":88.273898499046282}]
[null,null,null,null,null,null,null,null,null,null,{"$f":"K62","v":112.47136432325516},{"$f":"L62","v":11.647405826369258},{"$f":"((D61-D62)^2+(E61-E62)^2)^0.5","v":14.213803894584164},{"$f":"((I61-I58)^2+(J61-J58)^2)^0.5","v":3.2088613796497754},{"$f":"O60+N63","v":174.05562754046974},{"$f":"((D61-D62)^2+(E61-E62)^2)^0.5*Panels!$T$114","v":813.02958277021423},null,null,406.51479138510712,-406.51479138510712,85.9617391305311,null,363.53392181984157,null,363.53392181984157,-363.53392181984157,null,333.5684222520419,-333.5684222520419,null,302.65642979159816,-302.65642979159816,{"$f":"IF(C59>0,L63,\"\")","v":11.647405826369258},null,null,{"$f":"AJ60+N63","v":174.05562754046974},null,"CC2",null,{"$f":"Path!AM33","v":32.249514221437195},{"$f":"Path!AN33","v":47.541545642503685},null,null,{"$f":"(AO64-AO63)/(AN64-AN63)","v":8.7107745275978186},{"$f":"ATAN(AR63)*180/PI()","v":83.451093419747551}]
[null,null,null,{"$f":"D61","v":106.1927286465103},{"$f":"E61","v":14.977088893438969},null,{"$f":"IF(Design!$H$19=\"x\",D64,0)","v":0},{"$f":"IF(Design!$H$19=\"x\",E64,0)","v":0},{"$f":"SUM(D64:D65)/2","v":109.33204648488274},{"$f":"SUM(E64:E65)/2","v":8.4385444467194848},{"$f":"IF(Design!$H$18=\"x\",I64,0)","v":109.33204648488274},{"$f":"IF(Design!$H$18=\"x\",J64,0)","v":8.4385444467194848},null,{"$f":"N63","v":3.2088613796497754},174.05562754046974,813.02958277021423,null,null,406.51479138510712,-406.51479138510712,85.9617391305311,null,363.53392181984157,null,363.53392181984157,-363.53392181984157,null,333.5684222520419,-333.5684222520419,null,302.65642979159816,-302.65642979159816,{"$f":"IF(C62>0,L64,\"\")","v":8.4385444467194848},{"$f":"O63","v":174.05562754046974},{"$f":"$R$165/2","v":906.41522996686899},null,null,null,null,{"$f":"Panels!C39-Design!$D$53*Panels!T6","v":35.394292480902791},{"$f":"Panels!D32","v":74.935000000000002}]
[null,20,{"$f":"C62+1","v":16},{"$f":"(D61+D62)/2","v":112.47136432325516},{"$f":"Panels!D24","v":1.9},null,{"$f":"IF(Design!$H$19=\"x\",D65,0)","v":0},{"$f":"IF(Design!$H$19=\"x\",E65,0)","v":0},null,null,{"$f":"K64","v":109.33204648488274},{"$f":"L64","v":8.4385444467194848},null,{"$f":"N64","v":3.2088613796497754},174.05562754046974,813.02958277021423,{"$f":"ATAN((E64-E65)/(D64-D65))*180/PI()","v":-64.353179408118407},null,406.51479138510712,-406.51479138510712,85.9617391305311,null,363.53392181984157,null,363.53392181984157,-363.53392181984157,null,333.5684222520419,-333.5684222520419,null,302.65642979159816,-302.65642979159816,{"$f":"IF(C62>0,L65,\"\")","v":8.4385444467194848},{"$f":"AH64","v":174.05562754046974},{"$f":"-AI64","v":-906.41522996686899}]
[null,null,null,null,null,null,null,null,null,null,{"$f":"K65","v":109.33204648488274},{"$f":"L65","v":8.4385444467194848},{"$f":"((D64-D65)^2+(E64-E65)^2)^0.5","v":14.506257956075308},{"$f":"((I64-I61)^2+(J64-J61)^2)^0.5","v":4.4891099166907393},{"$f":"O63+N66","v":178.54473745716049},{"$f":"((D64-D65)^2+(E64-E65)^2)^0.5*Panels!$T$114","v":829.75795508750764},null,null,414.87897754375382,-414.87897754375382,90.489553372961609,null,369.63420085727302,null,369.63420085727302,-369.63420085727302,null,339.85773985456632,-339.85773985456632,null,308.7457249366264,-308.7457249366264,{"$f":"IF(C62>0,L66,\"\")","v":8.4385444467194848},null,null,{"$f":"AJ63+N66","v":178.54473745716049}]
[null,null,null,{"$f":"D64","v":106.1927286465103},{"$f":"E64","v":14.977088893438969},null,{"$f":"IF(Design!$H$19=\"x\",D67,0)","v":0},{"$f":"IF(Design!$H$19=\"x\",E67,0)","v":0},{"$f":"SUM(D67:D68)/2","v":106.03737212302894},{"$f":"SUM(E67:E68)/2","v":8.4385444467194848},{"$f":"IF(Design!$H$18=\"x\",I67,0)","v":106.03737212302894},{"$f":"IF(Design!$H$18=\"x\",J67,0)","v":8.4385444467194848},null,{"$f":"N66","v":4.4891099166907393},178.54473745716049,829.75795508750764,null,null,414.87897754375382,-414.87897754375382,90.489553372961609,null,369.63420085727302,null,369.63420085727302,-369.63420085727302,null,339.85773985456632,-339.85773985456632,null,308.7457249366264,-308.7457249366264,{"$f":"IF(C65>0,L67,\"\")","v":8.4385444467194848},{"$f":"O66","v":178.54473745716049},{"$f":"$R$165/2","v":906.41522996686899}]
[null,{"$f":"B92+1","v":19},{"$f":"C65+1","v":17},{"$f":"D67-(E67-E68)*Panels!Y5","v":105.88201559954759},{"$f":"E65","v":1.9},null,{"$f":"IF(Design!$H$19=\"x\",D68,0)","v":0},{"$f":"IF(Design!$H$19=\"x\",E68,0)","v":0},null,null,{"$f":"K67","v":106.03737212302894},{"$f":"L67","v":8.4385444467194848},null,{"$f":"N67","v":4.4891099166907393},178.54473745716049,829.75795508750764,{"$f":"ATAN((E67-E68)/(D67-D68))*180/PI()","v":88.638902173829081},null,414.87897754375382,-414.87897754375382,90.489553372961609,null,369.63420085727302,null,369.63420085727302,-369.63420085727302,null,339.85773985456632,-339.85773985456632,null,308.7457249366264,-308.7457249366264,{"$f":"IF(C65>0,L68,\"\")","v":8.4385444467194848},{"$f":"AH67","v":178.54473745716049},{"$f":"-AI67","v":-906.41522996686899}]
[null,null,null,null,null,null,null,null,null,null,{"$f":"K68","v":106.03737212302894},{"$f":"L68","v":8.4385444467194848},{"$f":"((D67-D68)^2+(E67-E68)^2)^0.5","v":13.080779660420005},{"$f":"((I67-I64)^2+(J67-J64)^2)^0.5","v":3.2946743618537937},{"$f":"O66+N69","v":181.83941181901429},{"$f":"((D67-D68)^2+(E67-E68)^2)^0.5*Panels!$T$114","v":748.22059657602426},null,null,374.11029828801213,-374.11029828801213,-2.1115902540032039E-3,null,374.11135408313913,null,374.11135408313913,-374.11135408313913,null,344.5110082340762,-344.5110082340762,null,313.29263231408748,-313.29263231408748,{"$f":"IF(C65>0,L69,\"\")","v":8.4385444467194848},null,null,{"$f":"AJ66+N69","v":181.83941181901429}]
[null,null,null,{"$f":"Panels!C73","v":104.29487390892749},{"$f":"Panels!D73","v":15.067351815142317},null,{"$f":"IF(Design!$H$19=\"x\",D70,0)","v":0},{"$f":"IF(Design!$H$19=\"x\",E70,0)","v":0},{"$f":"SUM(D70:D71)/2","v":104.13844505705336},{"$f":"SUM(E70:E71)/2","v":8.4836759075711576},{"$f":"IF(Design!$H$18=\"x\",I70,0)","v":104.13844505705336},{"$f":"IF(Design!$H$18=\"x\",J70,0)","v":8.4836759075711576},null,{"$f":"N69","v":3.2946743618537937},181.83941181901429,748.22059657602426,null,null,374.11029828801213,-374.11029828801213,-2.1115902540032039E-3,null,374.11135408313913,null,374.11135408313913,-374.11135408313913,null,344.5110082340762,-344.5110082340762,null,313.29263231408748,-313.29263231408748,{"$f":"IF(C68>0,L70,\"\")","v":8.4836759075711576},{"$f":"O69","v":181.83941181901429},{"$f":"$R$165/2","v":906.41522996686899}]
[null,25,{"$f":"C68+1","v":18},{"$f":"D70-(E70-E71)*Panels!Y5","v":103.98201620517924},{"$f":"E68","v":1.9},null,{"$f":"IF(Design!$H$19=\"x\",D71,0)","v":0},{"$f":"IF(Design!$H$19=\"x\",E71,0)","v":0},null,null,{"$f":"K70","v":104.13844505705336},{"$f":"L70","v":8.4836759075711576},null,{"$f":"N70","v":3.2946743618537937},181.83941181901429,748.22059657602426,{"$f":"ATAN((E70-E71)/(D70-D71))*180/PI()","v":88.638902173829052},null,374.11029828801213,-374.11029828801213,-2.1115902540032039E-3,null,374.11135408313913,null,374.11135408313913,-374.11135408313913,null,344.5110082340762,-344.5110082340762,null,313.29263231408748,-313.29263231408748,{"$f":"IF(C68>0,L71,\"\")","v":8.4836759075711576},{"$f":"AH70","v":181.83941181901429},{"$f":"-AI70","v":-906.41522996686899}]
[null,null,null,null,null,null,null,null,null,null,{"$f":"K71","v":104.13844505705336},{"$f":"L71","v":8.4836759075711576},{"$f":"((D70-D71)^2+(E70-E71)^2)^0.5","v":13.171068057167053},{"$f":"((I70-I67)^2+(J70-J67)^2)^0.5","v":1.8994633059507224},{"$f":"O69+N72","v":183.73887512496501},{"$f":"((D70-D71)^2+(E70-E71)^2)^0.5*Panels!$T$114","v":753.38509286995554},null,null,376.69254643497777,-376.69254643497777,-1.8428636394673958E-9,null,376.6925464358992,null,376.6925464358992,-376.6925464358992,null,347.20811416501192,-347.20811416501192,null,315.94440808050115,-315.94440808050115,{"$f":"IF(C68>0,L72,\"\")","v":8.4836759075711576},null,null,{"$f":"AJ69+N72","v":183.73887512496501}]
[null,null,null,{"$f":"D70","v":104.29487390892749},{"$f":"E70","v":15.067351815142317},null,{"$f":"IF(Design!$H$19=\"x\",D73,0)","v":0},{"$f":"IF(Design!$H$19=\"x\",E73,0)","v":0},{"$f":"SUM(D73:D74)/2","v":100.79585183392803},{"$f":"SUM(E73:E74)/2","v":8.4836759075711576},{"$f":"IF(Design!$H$18=\"x\",I73,0)","v":100.79585183392803},{"$f":"IF(Design!$H$18=\"x\",J73,0)","v":8.4836759075711576},null,{"$f":"N72","v":1.8994633059507224},183.73887512496501,753.38509286995554,null,null,376.69254643497777,-376.69254643497777,-1.8428636394673958E-9,null,376.6925464358992,null,376.6925464358992,-376.6925464358992,null,347.20811416501192,-347.20811416501192,null,315.94440808050115,-315.94440808050115,{"$f":"IF(C71>0,L73,\"\")","v":8.4836759075711576},{"$f":"O72","v":183.73887512496501},{"$f":"$R$165/2","v":906.41522996686899}]
[null,{"$f":"B98+1","v":24},{"$f":"C71+1","v":19},{"$f":"(D71+Panels!C69)/2","v":97.296829758928567},{"$f":"E71","v":1.9},null,{"$f":"IF(Design!$H$19=\"x\",D74,0)","v":0},{"$f":"IF(Design!$H$19=\"x\",E74,0)","v":0},null,null,{"$f":"K73","v":100.79585183392803},{"$f":"L73","v":8.4836759075711576},null,{"$f":"N73","v":1.8994633059507224},183.73887512496501,753.38509286995554,{"$f":"ATAN((E73-E74)/(D73-D74))*180/PI()","v":62.010724122659894},null,376.69254643497777,-376.69254643497777,-1.8428636394673958E-9,null,376.6925464358992,null,376.6925464358992,-376.6925464358992,null,347.20811416501192,-347.20811416501192,null,315.94440808050115,-315.94440808050115,{"$f":"IF(C71>0,L74,\"\")","v":8.4836759075711576},{"$f":"AH73","v":183.73887512496501},{"$f":"-AI73","v":-906.41522996686899}]
[null,null,null,null,null,null,null,null,null,null,{"$f":"K74","v":100.79585183392803},{"$f":"L74","v":8.4836759075711576},{"$f":"((D73-D74)^2+(E73-E74)^2)^0.5","v":14.911464574248424},{"$f":"((I73-I70)^2+(J73-J70)^2)^0.5","v":3.3425932231253341},{"$f":"O72+N75","v":187.08146834809034},{"$f":"((D73-D74)^2+(E73-E74)^2)^0.5*Panels!$T$114","v":852.93577364700991},null,null,426.46788682350495,-426.46788682350495,90.466139853690379,null,381.23481689665977,null,381.23481689665977,-381.23481689665977,null,351.97990081347109,-351.97990081347109,null,320.66550749655141,-320.66550749655141,{"$f":"IF(C71>0,L75,\"\")","v":8.4836759075711576},null,null,{"$f":"AJ72+N75","v":187.08146834809034}]
[null,null,null,{"$f":"D73","v":104.29487390892749},{"$f":"E73","v":15.067351815142317},null,{"$f":"IF(Design!$H$19=\"x\",D76,0)","v":0},{"$f":"IF(Design!$H$19=\"x\",E76,0)","v":0},{"$f":"SUM(D76:D77)/2","v":97.453258610802692},{"$f":"SUM(E76:E77)/2","v":15.150488958215373},{"$f":"IF(Design!$H$18=\"x\",I76,0)","v":97.453258610802692},{"$f":"IF(Design!$H$18=\"x\",J76,0)","v":15.150488958215373},null,{"$f":"N75","v":3.3425932231253341},187.08146834809034,852.93577364700991,null,null,426.46788682350495,-426.46788682350495,90.466139853690379,null,381.23481689665977,null,381.23481689665977,-381.23481689665977,null,351.97990081347109,-351.97990081347109,null,320.66550749655141,-320.66550749655141,{"$f":"IF(C74>0,L76,\"\")","v":15.150488958215373},{"$f":"O75","v":187.08146834809034},{"$f":"$R$165/2","v":906.41522996686899}]
[null,23,{"$f":"C74+1","v":20},{"$f":"Panels!C69","v":90.611643312677913},{"$f":"E76-(D74-D73)*Panels!$Y$5","v":15.233626101288428},null,{"$f":"IF(Design!$H$19=\"x\",D77,0)","v":0},{"$f":"IF(Design!$H$19=\"x\",E77,0)","v":0},null,null,{"$f":"K76","v":97.453258610802692},{"$f":"L76","v":15.150488958215373},null,{"$f":"N76","v":3.3425932231253341},187.08146834809034,852.93577364700991,{"$f":"ATAN((E76-E77)/(D76-D77))*180/PI()","v":-0.69620590631726886},null,426.46788682350495,-426.46788682350495,90.466139853690379,null,381.23481689665977,null,381.23481689665977,-381.23481689665977,null,351.97990081347109,-351.97990081347109,null,320.66550749655141,-320.66550749655141,{"$f":"IF(C74>0,L77,\"\")","v":15.150488958215373},{"$f":"AH76","v":187.08146834809034},{"$f":"-AI76","v":-906.41522996686899}]
[null,null,null,null,null,null,null,null,null,null,{"$f":"K77","v":97.453258610802692},{"$f":"L77","v":15.150488958215373},{"$f":"((D76-D77)^2+(E76-E77)^2)^0.5","v":13.684240815199571},{"$f":"((I76-I73)^2+(J76-J73)^2)^0.5","v":7.4578365299544771},{"$f":"O75+N78","v":194.53930487804482},{"$f":"((D76-D77)^2+(E76-E77)^2)^0.5*Panels!$T$114","v":782.73857462941544},null,null,391.36928731470772,-391.36928731470772,-5.8895507777378953E-5,null,391.36931676246161,null,391.36931676246161,-391.36931676246161,null,362.74387607622458,-362.74387607622458,null,331.45485470191215,-331.45485470191215,{"$f":"IF(C74>0,L78,\"\")","v":15.150488958215373},null,null,{"$f":"AJ75+N78","v":194.53930487804482}]
[null,null,null,{"$f":"Panels!C63","v":90.611643312677913},{"$f":"Panels!D63","v":48.229287296147568},null,{"$f":"IF(Design!$H$19=\"x\",D79,0)","v":0},{"$f":"IF(Design!$H$19=\"x\",E79,0)","v":0},{"$f":"SUM(D79:D80)/2","v":98.233242575410543},{"$f":"SUM(E79:E80)/2","v":48.048146134876035},{"$f":"IF(Design!$H$18=\"x\",I79,0)","v":98.233242575410543},{"$f":"IF(Design!$H$18=\"x\",J79,0)","v":48.048146134876035},null,{"$f":"N78","v":7.4578365299544771},194.53930487804482,782.73857462941544,null,null,391.36928731470772,-391.36928731470772,-5.8895507777378953E-5,null,391.36931676246161,null,391.36931676246161,-391.36931676246161,null,362.74387607622458,-362.74387607622458,null,331.45485470191215,-331.45485470191215,{"$f":"IF(C77>0,L79,\"\")","v":48.048146134876035},{"$f":"O78","v":194.53930487804482},{"$f":"$R$165/2","v":906.41522996686899},null,null,null,{"$f":"Panels!C72","v":106.68201586430816},{"$f":"Panels!D72","v":65.25904275321588},{"$f":"Panels!C73","v":104.29487390892749},{"$f":"Panels!D73","v":15.067351815142317},{"$f":"(AP79-AN79)/(AO79-AM79)","v":21.025850944867518},{"$f":"(AP79*AM79-AN79*AO79)/(AM79-AO79)","v":-2177.8211213077193}]
[null,{"$f":"B104+1","v":22},{"$f":"C77+1","v":21},{"$f":"AS80","v":105.85484183814316},{"$f":"AT80","v":47.867004973604502},null,{"$f":"IF(Design!$H$19=\"x\",D80,0)","v":0},{"$f":"IF(Design!$H$19=\"x\",E80,0)","v":0},null,null,{"$f":"K79","v":98.233242575410543},{"$f":"L79","v":48.048146134876035},null,{"$f":"N79","v":7.4578365299544771},194.53930487804482,782.73857462941544,{"$f":"ATAN((E79-E80)/(D79-D80))*180/PI()","v":-1.3614820432195589},null,391.36928731470772,-391.36928731470772,-5.8895507777378953E-5,null,391.36931676246161,null,391.36931676246161,-391.36931676246161,null,362.74387607622458,-362.74387607622458,null,331.45485470191215,-331.45485470191215,{"$f":"IF(C77>0,L80,\"\")","v":48.048146134876035},{"$f":"AH79","v":194.53930487804482},{"$f":"-AI79","v":-906.41522996686899},null,null,null,{"$f":"D79","v":90.611643312677913},{"$f":"E79","v":48.229287296147568},{"$f":"AM80+10*N$3","v":100.60882020047298},{"$f":"AN80-10*O$3","v":47.991686214213644},{"$f":"IF(AO80<>AM80,(AP80-AN80)/(AO80-AM80),\"\")","v":-2.3766817832742038E-2},{"$f":"IF(AQ80<>\"\",(AP80*AM80-AN80*AO80)/(AM80-AO80),AM80)","v":50.382837716285373},{"$f":"IF(AQ80<>\"\",(AR79-AR80)/(AQ80-AQ79),AM80)","v":105.85484183814316},{"$f":"IF(AQ80<>\"\",AS80*AQ80+AR80,AN79)","v":47.867004973604502}]
[null,null,null,null,null,null,null,null,null,null,{"$f":"K80","v":98.233242575410543},{"$f":"L80","v":48.048146134876035},{"$f":"((D79-D80)^2+(E79-E80)^2)^0.5","v":15.247503066665475},{"$f":"((I79-I76)^2+(J79-J76)^2)^0.5","v":32.906902356468287},{"$f":"O78+N81","v":227.44620723451311},{"$f":"((D79-D80)^2+(E79-E80)^2)^0.5*Panels!$T$114","v":872.15717541326524},null,null,436.07858770663262,-436.07858770663262,-1.6241557525859207E-2,null,436.08670848539555,null,436.08670848539555,-436.08670848539555,null,412.17458143241231,-412.17458143241231,null,383.56581532983552,-383.56581532983552,{"$f":"IF(C77>0,L81,\"\")","v":48.048146134876035},null,null,{"$f":"AJ78+N81","v":227.44620723451311}]
[null,null,null,{"$f":"D79","v":90.611643312677913},{"$f":"E79","v":48.229287296147568},null,{"$f":"IF(Design!$H$19=\"x\",D82,0)","v":0},{"$f":"IF(Design!$H$19=\"x\",E82,0)","v":0},{"$f":"SUM(D82:D83)/2","v":98.417470351525949},{"$f":"SUM(E82:E83)/2","v":51.921691895383177},{"$f":"IF(Design!$H$18=\"x\",I82,0)","v":98.417470351525949},{"$f":"IF(Design!$H$18=\"x\",J82,0)","v":51.921691895383177},null,{"$f":"N81","v":32.906902356468287},227.44620723451311,872.15717541326524,null,null,436.07858770663262,-436.07858770663262,-1.6241557525859207E-2,null,436.08670848539555,null,436.08670848539555,-436.08670848539555,null,412.17458143241231,-412.17458143241231,null,383.56581532983552,-383.56581532983552,{"$f":"IF(C80>0,L82,\"\")","v":51.921691895383177},{"$f":"O81","v":227.44620723451311},{"$f":"$R$165/2","v":906.41522996686899}]
[null,21,{"$f":"C80+1","v":22},{"$f":"(D80+Panels!C56)/2","v":106.22329739037399},{"$f":"(E80+Panels!D56)/2","v":55.614096494618778},null,{"$f":"IF(Design!$H$19=\"x\",D83,0)","v":0},{"$f":"IF(Design!$H$19=\"x\",E83,0)","v":0},null,null,{"$f":"K82","v":98.417470351525949},{"$f":"L82","v":51.921691895383177},null,{"$f":"N82","v":32.906902356468287},227.44620723451311,872.15717541326524,{"$f":"ATAN((E82-E83)/(D82-D83))*180/PI()","v":25.31563922306399},null,436.07858770663262,-436.07858770663262,-1.6241557525859207E-2,null,436.08670848539555,null,436.08670848539555,-436.08670848539555,null,412.17458143241231,-412.17458143241231,null,383.56581532983552,-383.56581532983552,{"$f":"IF(C80>0,L83,\"\")","v":51.921691895383177},{"$f":"AH82","v":227.44620723451311},{"$f":"-AI82","v":-906.41522996686899}]
[null,null,null,null,null,null,null,null,null,null,{"$f":"K83","v":98.417470351525949},{"$f":"L83","v":51.921691895383177},{"$f":"((D82-D83)^2+(E82-E83)^2)^0.5","v":17.270180946923208},{"$f":"((I82-I79)^2+(J82-J79)^2)^0.5","v":3.8779242685018076},{"$f":"O81+N84","v":231.32413150301491},{"$f":"((D82-D83)^2+(E82-E83)^2)^0.5*Panels!$T$114","v":987.85435016400754},null,null,493.92717508200377,-493.92717508200377,105.14146298067715,null,441.3564435916652,null,441.3564435916652,-441.3564435916652,null,418.20765349521372,-418.20765349521372,null,390.22322623092805,-390.22322623092805,{"$f":"IF(C80>0,L84,\"\")","v":51.921691895383177},null,null,{"$f":"AJ81+N84","v":231.32413150301491}]
[null,null,null,{"$f":"D82","v":90.611643312677913},{"$f":"E82","v":48.229287296147568},null,{"$f":"IF(Design!$H$19=\"x\",D85,0)","v":0},{"$f":"IF(Design!$H$19=\"x\",E85,0)","v":0},{"$f":"SUM(D85:D86)/2","v":94.70098921430926},{"$f":"SUM(E85:E86)/2","v":55.980757325156446},{"$f":"IF(Design!$H$18=\"x\",I85,0)","v":94.70098921430926},{"$f":"IF(Design!$H$18=\"x\",J85,0)","v":55.980757325156446},null,{"$f":"N84","v":3.8779242685018076},231.32413150301491,987.85435016400754,null,null,493.92717508200377,-493.92717508200377,105.14146298067715,null,441.3564435916652,null,441.3564435916652,-441.3564435916652,null,418.20765349521372,-418.20765349521372,null,390.22322623092805,-390.22322623092805,{"$f":"IF(C83>0,L85,\"\")","v":55.980757325156446},{"$f":"O84","v":231.32413150301491},{"$f":"$R$165/2","v":906.41522996686899}]
[null,{"$f":"B110+1","v":20},{"$f":"C83+1","v":23},{"$f":"(D89+Panels!C56)/2","v":98.790335115940621},{"$f":"(E89+Panels!D56)/2","v":63.732227354165332},null,{"$f":"IF(Design!$H$19=\"x\",D86,0)","v":0},{"$f":"IF(Design!$H$19=\"x\",E86,0)","v":0},null,null,{"$f":"K85","v":94.70098921430926},{"$f":"L85","v":55.980757325156446},null,{"$f":"N85","v":3.8779242685018076},231.32413150301491,987.85435016400754,{"$f":"ATAN((E85-E86)/(D85-D86))*180/PI()","v":62.185777281689312},null,493.92717508200377,-493.92717508200377,105.14146298067715,null,441.3564435916652,null,441.3564435916652,-441.3564435916652,null,418.20765349521372,-418.20765349521372,null,390.22322623092805,-390.22322623092805,{"$f":"IF(C83>0,L86,\"\")","v":55.980757325156446},{"$f":"AH85","v":231.32413150301491},{"$f":"-AI85","v":-906.41522996686899}]
[null,null,null,null,null,null,null,null,null,null,{"$f":"K86","v":94.70098921430926},{"$f":"L86","v":55.980757325156446},{"$f":"((D85-D86)^2+(E85-E86)^2)^0.5","v":17.528038967758157},{"$f":"((I85-I82)^2+(J85-J82)^2)^0.5","v":5.5034756478490863},{"$f":"O84+N87","v":236.827607150864},{"$f":"((D85-D86)^2+(E85-E86)^2)^0.5*Panels!$T$114","v":1002.6038289557666},null,null,501.30191447788332,-501.30191447788332,104.93352805317636,null,448.83515045129514,null,448.83515045129514,-448.83515045129514,null,426.84491904404712,-426.84491904404712,null,399.87013248138692,-399.87013248138692,{"$f":"IF(C83>0,L87,\"\")","v":55.980757325156446},null,null,{"$f":"AJ84+N87","v":236.827607150864}]
[null,null,null,{"$f":"D79","v":90.611643312677913},{"$f":"E79","v":48.229287296147568},null,{"$f":"IF(Design!$H$19=\"x\",D88,0)","v":0},{"$f":"IF(Design!$H$19=\"x\",E88,0)","v":0},{"$f":"SUM(D88:D89)/2","v":90.800280300977178},{"$f":"SUM(E88:E89)/2","v":56.166276994422589},{"$f":"IF(Design!$H$18=\"x\",I88,0)","v":90.800280300977178},{"$f":"IF(Design!$H$18=\"x\",J88,0)","v":56.166276994422589},null,{"$f":"N87","v":5.5034756478490863},236.827607150864,1002.6038289557666,null,null,501.30191447788332,-501.30191447788332,104.93352805317636,null,448.83515045129514,null,448.83515045129514,-448.83515045129514,null,426.84491904404712,-426.84491904404712,null,399.87013248138692,-399.87013248138692,{"$f":"IF(C86>0,L88,\"\")","v":56.166276994422589},{"$f":"O87","v":236.827607150864},{"$f":"$R$165/2","v":906.41522996686899},null,null,null,{"$f":"Panels!C57","v":42.984222563379923},{"$f":"Panels!D57","v":66.386394013050818},{"$f":"Panels!C56","v":106.59175294260481},{"$f":"Panels!D56","v":63.361188015633054},{"$f":"(AP88-AN88)/(AO88-AM88)","v":-4.7560500767466339E-2},{"$f":"(AP88*AM88-AN88*AO88)/(AM88-AO88)","v":68.430745163265385}]
[null,19,{"$f":"C86+1","v":24},{"$f":"AS89","v":90.988917289276444},{"$f":"AT89","v":64.103266692697616},null,{"$f":"IF(Design!$H$19=\"x\",D89,0)","v":0},{"$f":"IF(Design!$H$19=\"x\",E89,0)","v":0},null,null,{"$f":"K88","v":90.800280300977178},{"$f":"L88","v":56.166276994422589},null,{"$f":"N88","v":5.5034756478490863},236.827607150864,1002.6038289557666,{"$f":"ATAN((E88-E89)/(D88-D89))*180/PI()","v":88.63851795678039},null,501.30191447788332,-501.30191447788332,104.93352805317636,null,448.83515045129514,null,448.83515045129514,-448.83515045129514,null,426.84491904404712,-426.84491904404712,null,399.87013248138692,-399.87013248138692,{"$f":"IF(C86>0,L89,\"\")","v":56.166276994422589},{"$f":"AH88","v":236.827607150864},{"$f":"-AI88","v":-906.41522996686899},null,null,null,{"$f":"D88","v":90.611643312677913},{"$f":"E88","v":48.229287296147568},{"$f":"AM89+10*O$3","v":90.849244394611844},{"$f":"AN89+10*P$3","v":58.226464183942632},{"$f":"IF(AO89<>AM89,(AP89-AN89)/(AO89-AM89),\"\")","v":42.075468707566458},{"$f":"IF(AQ89<>\"\",(AP89*AM89-AN89*AO89)/(AM89-AO89),AM89)","v":-3764.2980754476062},{"$f":"IF(AQ89<>\"\",(AR88-AR89)/(AQ89-AQ88),AM89)","v":90.988917289276444},{"$f":"IF(AQ89<>\"\",AS89*AQ89+AR89,AN88)","v":64.103266692697616}]
[null,null,null,null,null,null,null,null,null,null,{"$f":"K89","v":90.800280300977178},{"$f":"L89","v":56.166276994422589},{"$f":"((D88-D89)^2+(E88-E89)^2)^0.5","v":15.878462064555052},{"$f":"((I88-I85)^2+(J88-J85)^2)^0.5","v":3.9051181255159197},{"$f":"O87+N90","v":240.73272527637991},{"$f":"((D88-D89)^2+(E88-E89)^2)^0.5*Panels!$T$114","v":908.24803009254902},null,null,454.12401504627451,-454.12401504627451,-3.5648821217137083E-2,null,454.14183945688308,null,454.14183945688308,-454.14183945688308,null,433.02723707557169,-433.02723707557169,null,406.85962372329897,-406.85962372329897,{"$f":"IF(C86>0,L90,\"\")","v":56.166276994422589},null,null,{"$f":"AJ87+N90","v":240.73272527637991}]
[null,null,null,{"$f":"AS52","v":59.122758485041643},{"$f":"AT52","v":65.618837162962791},null,{"$f":"IF(Design!$H$19=\"x\",D91,0)","v":0},{"$f":"IF(Design!$H$19=\"x\",E91,0)","v":0},{"$f":"SUM(D91:D92)/2","v":58.91611135310265},{"$f":"SUM(E91:E92)/2","v":56.924062229555176},{"$f":"IF(Design!$H$18=\"x\",I91,0)","v":58.91611135310265},{"$f":"IF(Design!$H$18=\"x\",J91,0)","v":56.924062229555176},null,{"$f":"N90","v":3.9051181255159197},240.73272527637991,908.24803009254902,null,null,454.12401504627451,-454.12401504627451,-3.5648821217137083E-2,null,454.14183945688308,null,454.14183945688308,-454.14183945688308,null,433.02723707557169,-433.02723707557169,null,406.85962372329897,-406.85962372329897,{"$f":"IF(C89>0,L91,\"\")","v":56.924062229555176},{"$f":"O90","v":240.73272527637991},{"$f":"$R$165/2","v":906.41522996686899}]
[null,{"$f":"B116+1","v":18},{"$f":"C89+1","v":25},{"$f":"Panels!C62","v":58.709464221163657},{"$f":"Panels!D62","v":48.229287296147568},null,{"$f":"IF(Design!$H$19=\"x\",D92,0)","v":0},{"$f":"IF(Design!$H$19=\"x\",E92,0)","v":0},null,null,{"$f":"K91","v":58.91611135310265},{"$f":"L91","v":56.924062229555176},null,{"$f":"N91","v":3.9051181255159197},240.73272527637991,908.24803009254902,{"$f":"ATAN((E91-E92)/(D91-D92))*180/PI()","v":88.638517956780476},null,454.12401504627451,-454.12401504627451,-3.5648821217137083E-2,null,454.14183945688308,null,454.14183945688308,-454.14183945688308,null,433.02723707557169,-433.02723707557169,null,406.85962372329897,-406.85962372329897,{"$f":"IF(C89>0,L92,\"\")","v":56.924062229555176},{"$f":"AH91","v":240.73272527637991},{"$f":"-AI91","v":-906.41522996686899}]
[null,null,null,null,null,null,null,null,null,null,{"$f":"K92","v":58.91611135310265},{"$f":"L92","v":56.924062229555176},{"$f":"((D91-D92)^2+(E91-E92)^2)^0.5","v":17.394460518193942},{"$f":"((I91-I88)^2+(J91-J88)^2)^0.5","v":31.893172748398541},{"$f":"O90+N93","v":272.62589802477845},{"$f":"((D91-D92)^2+(E91-E92)^2)^0.5*Panels!$T$114","v":994.96314164069349},null,null,497.48157082034675,-497.48157082034675,-1.9393768752706819E-4,null,497.48166778919051,null,497.48166778919051,-497.48166778919051,null,485.18227798373852,-485.18227798373852,null,468.71248923771191,-468.71248923771191,{"$f":"IF(C89>0,L93,\"\")","v":56.924062229555176},null,null,{"$f":"AJ90+N93","v":272.62589802477845}]
[null,null,null,{"$f":"(D91+Panels!C57)/2","v":51.053490524210787},{"$f":"(E91+Panels!D57)/2","v":66.002615588006805},null,{"$f":"IF(Design!$H$19=\"x\",D94,0)","v":0},{"$f":"IF(Design!$H$19=\"x\",E94,0)","v":0},{"$f":"SUM(D94:D95)/2","v":54.881477372687222},{"$f":"SUM(E94:E95)/2","v":57.11595144207719},{"$f":"IF(Design!$H$18=\"x\",I94,0)","v":54.881477372687222},{"$f":"IF(Design!$H$18=\"x\",J94,0)","v":57.11595144207719},null,{"$f":"N93","v":31.893172748398541},272.62589802477845,994.96314164069349,null,null,497.48157082034675,-497.48157082034675,-1.9393768752706819E-4,null,497.48166778919051,null,497.48166778919051,-497.48166778919051,null,485.18227798373852,-485.18227798373852,null,468.71248923771191,-468.71248923771191,{"$f":"IF(C92>0,L94,\"\")","v":57.11595144207719},{"$f":"O93","v":272.62589802477845},{"$f":"$R$165/2","v":906.41522996686899}]
[null,24,{"$f":"C92+1","v":26},{"$f":"Panels!C62","v":58.709464221163657},{"$f":"E92","v":48.229287296147568},null,{"$f":"IF(Design!$H$19=\"x\",D95,0)","v":0},{"$f":"IF(Design!$H$19=\"x\",E95,0)","v":0},null,null,{"$f":"K94","v":54.881477372687222},{"$f":"L94","v":57.11595144207719},null,{"$f":"N94","v":31.893172748398541},272.62589802477845,994.96314164069349,{"$f":"ATAN((E94-E95)/(D94-D95))*180/PI()","v":-66.695732849609243},null,497.48157082034675,-497.48157082034675,-1.9393768752706819E-4,null,497.48166778919051,null,497.48166778919051,-497.48166778919051,null,485.18227798373852,-485.18227798373852,null,468.71248923771191,-468.71248923771191,{"$f":"IF(C92>0,L95,\"\")","v":57.11595144207719},{"$f":"AH94","v":272.62589802477845},{"$f":"-AI94","v":-906.41522996686899}]
[null,null,null,null,null,null,null,null,null,null,{"$f":"K95","v":54.881477372687222},{"$f":"L95","v":57.11595144207719},{"$f":"((D94-D95)^2+(E94-E95)^2)^0.5","v":19.352135071320635},{"$f":"((I94-I91)^2+(J94-J91)^2)^0.5","v":4.0391945763735082},{"$f":"O93+N96","v":276.66509260115197},{"$f":"((D94-D95)^2+(E94-E95)^2)^0.5*Panels!$T$114","v":1106.9421260795405},null,null,553.47106303977023,-553.47106303977023,101.00101786487585,null,502.9705541073323,null,502.9705541073323,-502.9705541073323,null,491.99911258519904,-491.99911258519904,null,477.1891205405841,-477.1891205405841,{"$f":"IF(C92>0,L96,\"\")","v":57.11595144207719},null,null,{"$f":"AJ93+N96","v":276.66509260115197}]
[null,null,null,{"$f":"(AS98+D100)/2","v":41.762607298459031},{"$f":"(AT98+E100)/2","v":57.891488036441373},null,{"$f":"IF(Design!$H$19=\"x\",D97,0)","v":0},{"$f":"IF(Design!$H$19=\"x\",E97,0)","v":0},{"$f":"SUM(D97:D98)/2","v":50.236035759811344},{"$f":"SUM(E97:E98)/2","v":53.060387666294474},{"$f":"IF(Design!$H$18=\"x\",I97,0)","v":50.236035759811344},{"$f":"IF(Design!$H$18=\"x\",J97,0)","v":53.060387666294474},null,{"$f":"N96","v":4.0391945763735082},276.66509260115197,1106.9421260795405,null,null,553.47106303977023,-553.47106303977023,101.00101786487585,null,502.9705541073323,null,502.9705541073323,-502.9705541073323,null,491.99911258519904,-491.99911258519904,null,477.1891205405841,-477.1891205405841,{"$f":"IF(C95>0,L97,\"\")","v":53.060387666294474},{"$f":"O96","v":276.66509260115197},{"$f":"$R$165/2","v":906.41522996686899},null,null,"Panel H",{"$f":"Panels!C56","v":106.59175294260481},{"$f":"Panels!D56","v":63.361188015633054},{"$f":"Panels!C57","v":42.984222563379923},{"$f":"Panels!D57","v":66.386394013050818},{"$f":"(AP97-AN97)/(AO97-AM97)","v":-4.7560500767466339E-2},{"$f":"(AP97*AM97-AN97*AO97)/(AM97-AO97)","v":68.430745163265385}]
[null,23,{"$f":"C95+1","v":27},{"$f":"D101","v":58.709464221163657},{"$f":"E101","v":48.229287296147568},null,{"$f":"IF(Design!$H$19=\"x\",D98,0)","v":0},{"$f":"IF(Design!$H$19=\"x\",E98,0)","v":0},null,null,{"$f":"K97","v":50.236035759811344},{"$f":"L97","v":53.060387666294474},null,{"$f":"N97","v":4.0391945763735082},276.66509260115197,1106.9421260795405,{"$f":"ATAN((E97-E98)/(D97-D98))*180/PI()","v":-29.6894996681722},null,553.47106303977023,-553.47106303977023,101.00101786487585,null,502.9705541073323,null,502.9705541073323,-502.9705541073323,null,491.99911258519904,-491.99911258519904,null,477.1891205405841,-477.1891205405841,{"$f":"IF(C95>0,L98,\"\")","v":53.060387666294474},{"$f":"AH97","v":276.66509260115197},{"$f":"-AI97","v":-906.41522996686899},null,null,"Panel G",{"$f":"AM101","v":38.029786001071884},{"$f":"AN101","v":29.012946596280582},{"$f":"AO101","v":43.074485485083265},{"$f":"AP101","v":68.040682321040364},{"$f":"IF(AO98<>AM98,(AP98-AN98)/(AO98-AM98),\"\")","v":7.7363846644292451},{"$f":"IF(AQ98<>\"\",(AP98*AM98-AN98*AO98)/(AM98-AO98),AM98)","v":-265.20010661393798},{"$f":"IF(AQ98<>\"\",(AR97-AR98)/(AQ98-AQ97),AM98)","v":42.861408282900207},{"$f":"AS98*AQ97+AR97","v":66.392235121731815}]
[null,null,null,null,null,null,null,null,null,null,{"$f":"K98","v":50.236035759811344},{"$f":"L98","v":53.060387666294474},{"$f":"((D97-D98)^2+(E97-E98)^2)^0.5","v":19.50779543424515},{"$f":"((I97-I94)^2+(J97-J94)^2)^0.5","v":6.1666624131761738},{"$f":"O96+N99","v":282.83175501432817},{"$f":"((D97-D98)^2+(E97-E98)^2)^0.5*Panels!$T$114","v":1115.8458988388227},null,null,557.92294941941134,-557.92294941941134,93.14495976764556,null,511.35046953558856,null,511.35046953558856,-511.35046953558856,null,502.49813703048397,-502.49813703048397,null,490.42705964207852,-490.42705964207852,{"$f":"IF(C95>0,L99,\"\")","v":53.060387666294474},null,null,{"$f":"AJ96+N99","v":282.83175501432817}]
[null,null,null,{"$f":"AS101","v":40.663806314017862},{"$f":"AT101","v":49.390740951150931},null,{"$f":"IF(Design!$H$19=\"x\",D100,0)","v":0},{"$f":"IF(Design!$H$19=\"x\",E100,0)","v":0},{"$f":"SUM(D100:D101)/2","v":49.686635267590759},{"$f":"SUM(E100:E101)/2","v":48.810014123649253},{"$f":"IF(Design!$H$18=\"x\",I100,0)","v":49.686635267590759},{"$f":"IF(Design!$H$18=\"x\",J100,0)","v":48.810014123649253},null,{"$f":"N99","v":6.1666624131761738},282.83175501432817,1115.8458988388227,null,null,557.92294941941134,-557.92294941941134,93.14495976764556,null,511.35046953558856,null,511.35046953558856,-511.35046953558856,null,502.49813703048397,-502.49813703048397,null,490.42705964207852,-490.42705964207852,{"$f":"IF(C98>0,L100,\"\")","v":48.810014123649253},{"$f":"O99","v":282.83175501432817},{"$f":"$R$165/2","v":906.41522996686899},null,null,"Panel I",{"$f":"Panels!C62","v":58.709464221163657},{"$f":"Panels!D62","v":48.229287296147568},{"$f":"AM100-100*Panels!X8","v":-41.084054061591559},{"$f":"AN100+100*Panels!Y8","v":54.652192304739962},{"$f":"(AP100-AN100)/(AO100-AM100)","v":-6.4361945736733303E-2},{"$f":"(AP100*AM100-AN100*AO100)/(AM100-AO100)","v":52.007942646582784}]
[null,22,{"$f":"C98+1","v":28},{"$f":"D95","v":58.709464221163657},{"$f":"E92","v":48.229287296147568},null,{"$f":"IF(Design!$H$19=\"x\",D101,0)","v":0},{"$f":"IF(Design!$H$19=\"x\",E101,0)","v":0},null,null,{"$f":"K100","v":49.686635267590759},{"$f":"L100","v":48.810014123649253},null,{"$f":"N100","v":6.1666624131761738},282.83175501432817,1115.8458988388227,{"$f":"ATAN((E100-E101)/(D100-D101))*180/PI()","v":-3.6825884650990406},null,557.92294941941134,-557.92294941941134,93.14495976764556,null,511.35046953558856,null,511.35046953558856,-511.35046953558856,null,502.49813703048397,-502.49813703048397,null,490.42705964207852,-490.42705964207852,{"$f":"IF(C98>0,L101,\"\")","v":48.810014123649253},{"$f":"AH100","v":282.83175501432817},{"$f":"-AI100","v":-906.41522996686899},null,null,"Panel G",{"$f":"Panels!C48","v":38.029786001071884},{"$f":"Panels!D48","v":29.012946596280582},{"$f":"Panels!C49","v":43.074485485083265},{"$f":"Panels!D49","v":68.040682321040364},{"$f":"IF(AO101<>AM101,(AP101-AN101)/(AO101-AM101),\"\")","v":7.7363846644292451},{"$f":"IF(AQ101<>\"\",(AP101*AM101-AN101*AO101)/(AM101-AO101),AM101)","v":-265.20010661393798},{"$f":"IF(AQ101<>\"\",(AR100-AR101)/(AQ101-AQ100),AM101)","v":40.663806314017862},{"$f":"AS101*AQ100+AR100","v":49.390740951150931}]
[null,null,null,null,null,null,null,null,null,null,{"$f":"K101","v":49.686635267590759},{"$f":"L101","v":48.810014123649253},{"$f":"((D100-D101)^2+(E100-E101)^2)^0.5","v":18.082995987790689},{"$f":"((I100-I97)^2+(J100-J97)^2)^0.5","v":4.2857340273132563},{"$f":"O99+N102","v":287.11748904164142},{"$f":"((D100-D101)^2+(E100-E101)^2)^0.5*Panels!$T$114","v":1034.3473705016274},null,null,517.17368525081372,-517.17368525081372,-1.3891540359054488E-3,null,517.17437982783167,null,517.17437982783167,-517.17437982783167,null,509.86008054291278,-509.86008054291278,null,499.84291806534844,-499.84291806534844,{"$f":"IF(C98>0,L102,\"\")","v":48.810014123649253},null,null,{"$f":"AJ99+N102","v":287.11748904164142}]
[null,null,null,{"$f":"AS104","v":40.420239884424582},{"$f":"AT104","v":47.506417360475716},null,{"$f":"IF(Design!$H$19=\"x\",D103,0)","v":0},{"$f":"IF(Design!$H$19=\"x\",E103,0)","v":0},{"$f":"SUM(D103:D104)/2","v":49.564852052794123},{"$f":"SUM(E103:E104)/2","v":46.917852328311639},{"$f":"IF(Design!$H$18=\"x\",I103,0)","v":49.564852052794123},{"$f":"IF(Design!$H$18=\"x\",J103,0)","v":46.917852328311639},null,{"$f":"N102","v":4.2857340273132563},287.11748904164142,1034.3473705016274,null,null,517.17368525081372,-517.17368525081372,-1.3891540359054488E-3,null,517.17437982783167,null,517.17437982783167,-517.17437982783167,null,509.86008054291278,-509.86008054291278,null,499.84291806534844,-499.84291806534844,{"$f":"IF(C101>0,L103,\"\")","v":46.917852328311639},{"$f":"O102","v":287.11748904164142},{"$f":"$R$165/2","v":906.41522996686899},null,null,"Panel I",{"$f":"Panels!C61","v":58.709464221163657},{"$f":"Panels!D61","v":46.329287296147569},{"$f":"AM103-100*Panels!X8","v":-41.084054061591559},{"$f":"AN103+100*Panels!Y8","v":52.752192304739964},{"$f":"(AP103-AN103)/(AO103-AM103)","v":-6.4361945736733303E-2},{"$f":"(AP103*AM103-AN103*AO103)/(AM103-AO103)","v":50.107942646582792}]
[null,21,{"$f":"C101+1","v":29},{"$f":"Panels!C61","v":58.709464221163657},{"$f":"Panels!D61","v":46.329287296147569},null,{"$f":"IF(Design!$H$19=\"x\",D104,0)","v":0},{"$f":"IF(Design!$H$19=\"x\",E104,0)","v":0},null,null,{"$f":"K103","v":49.564852052794123},{"$f":"L103","v":46.917852328311639},null,{"$f":"N103","v":4.2857340273132563},287.11748904164142,1034.3473705016274,{"$f":"ATAN((E103-E104)/(D103-D104))*180/PI()","v":-3.682588465099073},null,{"$f":"P104/2","v":517.17368525081372},{"$f":"-S104","v":-517.17368525081372},{"$f":"(S104-W104)*2","v":-1.3891540359054488E-3},null,{"$f":"IF($H$16=\"Par\",Y104,0)+IF($H$16=\"Con\",AB104,0)+IF($H$16=\"Exp\",AE104,0)","v":517.17437982783167},null,{"$f":"((_S3_-_S2_)*(O104-_L2_)/(_L3_-_L2_)+_S2_)/2","v":517.17437982783167},{"$f":"-Y104","v":-517.17437982783167},null,{"$f":"PI()*($Q$11*(O104-_L2_)*2+$O$11)^2/2","v":509.86008054291278},{"$f":"-AB104","v":-509.86008054291278},null,{"$f":"($H$11*EXP($S$11*(O104-$I$11)))/2","v":499.84291806534844},{"$f":"-AE104","v":-499.84291806534844},{"$f":"IF(C101>0,L104,\"\")","v":46.917852328311639},{"$f":"AH103","v":287.11748904164142},{"$f":"-AI103","v":-906.41522996686899},null,null,"Panel G",{"$f":"AM101","v":38.029786001071884},{"$f":"AN101","v":29.012946596280582},{"$f":"AO101","v":43.074485485083265},{"$f":"AP101","v":68.040682321040364},{"$f":"IF(AO104<>AM104,(AP104-AN104)/(AO104-AM104),\"\")","v":7.7363846644292451},{"$f":"IF(AQ104<>\"\",(AP104*AM104-AN104*AO104)/(AM104-AO104),AM104)","v":-265.20010661393798},{"$f":"IF(AQ104<>\"\",(AR103-AR104)/(AQ104-AQ103),AM104)","v":40.420239884424582},{"$f":"AS104*AQ103+AR103","v":47.506417360475716}]
[null,null,null,null,null,null,null,null,null,null,{"$f":"K104","v":49.564852052794123},{"$f":"L104","v":46.917852328311639},{"$f":"((D103-D104)^2+(E103-E104)^2)^0.5","v":18.327066378117205},{"$f":"((I103-I100)^2+(J103-J100)^2)^0.5","v":1.8960768473723493},{"$f":"O102+N105","v":289.01356588901376},{"$f":"((D103-D104)^2+(E103-E104)^2)^0.5*Panels!$T$114","v":1048.3081968283043},null,null,524.15409841415214,-524.15409841415214,8.8062562258437538,null,519.75097030123027,null,519.75097030123027,-519.75097030123027,null,513.13420371093787,-513.13420371093787,null,504.06612068413472,-504.06612068413472,{"$f":"IF(C101>0,L105,\"\")","v":46.917852328311639},null,null,{"$f":"AJ102+N105","v":289.01356588901376}]
[null,null,null,{"$f":"(D103+Panels!C48)/2","v":39.225012942748236},{"$f":"(E103+Panels!D48)/2","v":38.259681978378147},null,{"$f":"IF(Design!$H$19=\"x\",D106,0)","v":0},{"$f":"IF(Design!$H$19=\"x\",E106,0)","v":0},{"$f":"SUM(D106:D107)/2","v":48.967238581955947},{"$f":"SUM(E106:E107)/2","v":42.294484637262855},{"$f":"IF(Design!$H$18=\"x\",I106,0)","v":48.967238581955947},{"$f":"IF(Design!$H$18=\"x\",J106,0)","v":42.294484637262855},null,{"$f":"N105","v":1.8960768473723493},289.01356588901376,1048.3081968283043,null,null,524.15409841415214,-524.15409841415214,8.8062562258437538,null,519.75097030123027,null,519.75097030123027,-519.75097030123027,null,513.13420371093787,-513.13420371093787,null,504.06612068413472,-504.06612068413472,{"$f":"IF(C104>0,L106,\"\")","v":42.294484637262855},{"$f":"O105","v":289.01356588901376},{"$f":"$R$165/2","v":906.41522996686899}]
[null,{"$f":"B110+1","v":20},{"$f":"C104+1","v":30},{"$f":"D104","v":58.709464221163657},{"$f":"E104","v":46.329287296147569},null,{"$f":"IF(Design!$H$19=\"x\",D107,0)","v":0},{"$f":"IF(Design!$H$19=\"x\",E107,0)","v":0},null,null,{"$f":"K106","v":48.967238581955947},{"$f":"L106","v":42.294484637262855},null,{"$f":"N106","v":1.8960768473723493},289.01356588901376,1048.3081968283043,{"$f":"ATAN((E106-E107)/(D106-D107))*180/PI()","v":22.49719216901746},null,524.15409841415214,-524.15409841415214,8.8062562258437538,null,519.75097030123027,null,519.75097030123027,-519.75097030123027,null,513.13420371093787,-513.13420371093787,null,504.06612068413472,-504.06612068413472,{"$f":"IF(C104>0,L107,\"\")","v":42.294484637262855},{"$f":"AH106","v":289.01356588901376},{"$f":"-AI106","v":-906.41522996686899},null,null,"S2 Section",{"$f":"AS17","v":33.163421552901738},{"$f":"AT17","v":47.467336681397569},{"$f":"AO15","v":31.269654462761739},{"$f":"AP15","v":47.621109918024345},{"$f":"(AP107-AN107)/(AO107-AM107)","v":-8.11996561918331E-2},{"$f":"(AP107*AM107-AN107*AO107)/(AM107-AO107)","v":50.160195109638053}]
[null,null,null,null,null,null,null,null,null,null,{"$f":"K107","v":48.967238581955947},{"$f":"L107","v":42.294484637262855},{"$f":"((D106-D107)^2+(E106-E107)^2)^0.5","v":21.089390024500872},{"$f":"((I106-I103)^2+(J106-J103)^2)^0.5","v":4.6618312568304123},{"$f":"O105+N108","v":293.67539714584416},{"$f":"((D106-D107)^2+(E106-E107)^2)^0.5*Panels!$T$114","v":1206.31310940145},null,null,603.156554700725,-603.156554700725,154.14118654422236,null,526.08596142861381,null,526.08596142861381,-526.08596142861381,null,521.22875417128171,-521.22875417128171,null,514.60193065814769,-514.60193065814769,{"$f":"IF(C104>0,L108,\"\")","v":42.294484637262855},null,null,{"$f":"AJ105+N108","v":293.67539714584416}]
[null,null,null,{"$f":"(Panels!C48+D112)/2","v":47.985914044270523},{"$f":"(Panels!D48+E112)/2","v":28.204512422171035},null,{"$f":"IF(Design!$H$19=\"x\",D109,0)","v":0},{"$f":"IF(Design!$H$19=\"x\",E109,0)","v":0},{"$f":"SUM(D109:D110)/2","v":53.347689132717093},{"$f":"SUM(E109:E110)/2","v":37.266899859159302},{"$f":"IF(Design!$H$18=\"x\",I109,0)","v":53.347689132717093},{"$f":"IF(Design!$H$18=\"x\",J109,0)","v":37.266899859159302},null,{"$f":"N108","v":4.6618312568304123},293.67539714584416,1206.31310940145,null,null,603.156554700725,-603.156554700725,154.14118654422236,null,526.08596142861381,null,526.08596142861381,-526.08596142861381,null,521.22875417128171,-521.22875417128171,null,514.60193065814769,-514.60193065814769,{"$f":"IF(C107>0,L109,\"\")","v":37.266899859159302},{"$f":"O108","v":293.67539714584416},{"$f":"$R$165/2","v":906.41522996686899}]
[null,19,{"$f":"C107+1","v":31},{"$f":"D107","v":58.709464221163657},{"$f":"E107","v":46.329287296147569},null,{"$f":"IF(Design!$H$19=\"x\",D110,0)","v":0},{"$f":"IF(Design!$H$19=\"x\",E110,0)","v":0},null,null,{"$f":"K109","v":53.347689132717093},{"$f":"L109","v":37.266899859159302},null,{"$f":"N109","v":4.6618312568304123},293.67539714584416,1206.31310940145,{"$f":"ATAN((E109-E110)/(D109-D110))*180/PI()","v":59.389255408554909},null,603.156554700725,-603.156554700725,154.14118654422236,null,526.08596142861381,null,526.08596142861381,-526.08596142861381,null,521.22875417128171,-521.22875417128171,null,514.60193065814769,-514.60193065814769,{"$f":"IF(C107>0,L110,\"\")","v":37.266899859159302},{"$f":"AH109","v":293.67539714584416},{"$f":"-AI109","v":-906.41522996686899}]
[null,null,null,null,null,null,null,null,null,null,{"$f":"K110","v":53.347689132717093},{"$f":"L110","v":37.266899859159302},{"$f":"((D109-D110)^2+(E109-E110)^2)^0.5","v":21.059486998231364},{"$f":"((I109-I106)^2+(J109-J106)^2)^0.5","v":6.6682048355372361},{"$f":"O108+N111","v":300.34360198138137},{"$f":"((D109-D110)^2+(E109-E110)^2)^0.5*Panels!$T$114","v":1204.6026562988341},null,null,602.30132814941703,-602.30132814941703,134.30780442875948,null,535.14742593503729,null,535.14742593503729,-535.14742593503729,null,532.91717002790494,-532.91717002790494,null,530.05609669796138,-530.05609669796138,{"$f":"IF(C107>0,L111,\"\")","v":37.266899859159302},null,null,{"$f":"AJ108+N111","v":300.34360198138137}]
[null,null,null,{"$f":"AS113","v":57.942042087469162},{"$f":"AT113","v":27.396078248061485},null,{"$f":"IF(Design!$H$19=\"x\",D112,0)","v":0},{"$f":"IF(Design!$H$19=\"x\",E112,0)","v":0},{"$f":"SUM(D112:D113)/2","v":58.325753154316409},{"$f":"SUM(E112:E113)/2","v":36.862682772104527},{"$f":"IF(Design!$H$18=\"x\",I112,0)","v":58.325753154316409},{"$f":"IF(Design!$H$18=\"x\",J112,0)","v":36.862682772104527},null,{"$f":"N111","v":6.6682048355372361},300.34360198138137,1204.6026562988341,null,null,602.30132814941703,-602.30132814941703,143.91601347987262,null,530.34332140948072,null,{"$f":"((_S5_-_S3_)*(O112-_L3_)/(_L5_-_L3_)+_S3_)/2","v":530.34332140948072},{"$f":"-Y112","v":-530.34332140948072},null,{"$f":"Y112","v":530.34332140948072},-530.34332140948072,null,{"$f":"Y112","v":530.34332140948072},-530.34332140948072,{"$f":"IF(C110>0,L112,\"\")","v":36.862682772104527},{"$f":"O111","v":300.34360198138137},{"$f":"$R$165/2","v":906.41522996686899},null,null,"Panel F (top)",{"$f":"Panels!C42","v":29.81285537892925},{"$f":"Panels!D42","v":29.68015853775065},{"$f":"Panels!C45","v":67.579498272542139},{"$f":"Panels!D45","v":26.613520119269818},{"$f":"(AP112-AN112)/(AO112-AM112)","v":-8.1199656191825897E-2},{"$f":"(AP112*AM112-AN112*AO112)/(AM112-AO112)","v":32.100952144616336}]
["S3",18,{"$f":"C110+1","v":32},{"$f":"D110","v":58.709464221163657},{"$f":"E110","v":46.329287296147569},null,{"$f":"IF(Design!$H$19=\"x\",D113,0)","v":0},{"$f":"IF(Design!$H$19=\"x\",E113,0)","v":0},null,null,{"$f":"K112","v":58.325753154316409},{"$f":"L112","v":36.862682772104527},null,{"$f":"N112","v":6.6682048355372361},300.34360198138137,1204.6026562988341,{"$f":"ATAN((E112-E113)/(D112-D113))*180/PI()","v":87.678893578120551},null,602.30132814941703,-602.30132814941703,143.91601347987262,null,530.34332140948072,null,530.34332140948072,-530.34332140948072,null,530.34332140948072,-530.34332140948072,null,530.34332140948072,-530.34332140948072,{"$f":"IF(C110>0,L113,\"\")","v":36.862682772104527},{"$f":"AH112","v":300.34360198138137},{"$f":"-AI112","v":-906.41522996686899},null,null,"Panel I (bottom)",{"$f":"Panels!C61","v":58.709464221163657},{"$f":"Panels!D61","v":46.329287296147569},{"$f":"AM113+10*O4","v":59.114462917067932},{"$f":"AN113+10*P4","v":56.32108273322072},{"$f":"IF(AO113<>AM113,(AP113-AN113)/(AO113-AM113),\"\")","v":24.671179285561916},{"$f":"IF(AQ113<>\"\",(AP113*AM113-AN113*AO113)/(AM113-AO113),AM113)","v":-1402.1024302634644},{"$f":"IF(AQ113<>\"\",(AR112-AR113)/(AQ113-AQ112),AM113)","v":57.942042087469162},{"$f":"IF(AQ113<>\"\",AS113*AQ113+AR113,AN112)","v":27.396078248061485}]
[null,null,null,null,null,null,null,null,null,null,{"$f":"K113","v":58.325753154316409},{"$f":"L113","v":36.862682772104527},{"$f":"((D112-D113)^2+(E112-E113)^2)^0.5","v":18.948755673917297},{"$f":"((I112-I109)^2+(J112-J109)^2)^0.5","v":4.9944482034163293},{"$f":"O111+N114","v":305.33805018479768},{"$f":"((D112-D113)^2+(E112-E113)^2)^0.5*Panels!$T$114","v":1083.8688245480694},null,null,541.93441227403468,-541.93441227403468,0,null,541.93441227403468,null,541.93441227403468,-541.93441227403468,null,541.93441227403468,-541.93441227403468,null,541.93441227403468,-541.93441227403468,{"$f":"IF(C110>0,L114,\"\")","v":36.862682772104527},null,null,{"$f":"AJ111+N114","v":305.33805018479768}]
[null,null,null,{"$f":"Panels!C45+(E115-E116)*O4","v":68.377984272080923},{"$f":"E113","v":46.329287296147569},null,{"$f":"IF(Design!$H$19=\"x\",D115,0)","v":0},{"$f":"IF(Design!$H$19=\"x\",E115,0)","v":0},{"$f":"SUM(D115:D116)/2","v":67.978741272311538},{"$f":"SUM(E115:E116)/2","v":36.471403707708696},{"$f":"IF(Design!$H$18=\"x\",I115,0)","v":67.978741272311538},{"$f":"IF(Design!$H$18=\"x\",J115,0)","v":36.471403707708696},null,{"$f":"N114","v":4.9944482034163293},305.33805018479768,1083.8688245480694,null,null,541.93441227403468,-541.93441227403468,0,null,541.93441227403468,null,{"$f":"((_S5_-_S3_)*(O115-_L3_)/(_L5_-_L3_)+_S3_)/2","v":541.93441227403468},{"$f":"-Y115","v":-541.93441227403468},null,541.93441227403468,-541.93441227403468,null,541.93441227403468,-541.93441227403468,{"$f":"IF(C113>0,L115,\"\")","v":36.471403707708696},{"$f":"O114","v":305.33805018479768},{"$f":"$R$165/2","v":906.41522996686899}]
[null,17,{"$f":"C113+1","v":33},{"$f":"Panels!C45","v":67.579498272542139},{"$f":"Panels!D45","v":26.613520119269818},null,{"$f":"IF(Design!$H$19=\"x\",D116,0)","v":0},{"$f":"IF(Design!$H$19=\"x\",E116,0)","v":0},null,null,{"$f":"K115","v":67.978741272311538},{"$f":"L115","v":36.471403707708696},null,{"$f":"N115","v":4.9944482034163293},305.33805018479768,1083.8688245480694,{"$f":"ATAN((E115-E116)/(D115-D116))*180/PI()","v":87.680795864182585},null,541.93441227403468,-541.93441227403468,0,null,541.93441227403468,null,541.93441227403468,-541.93441227403468,null,541.93441227403468,-541.93441227403468,null,541.93441227403468,-541.93441227403468,{"$f":"IF(C113>0,L116,\"\")","v":36.471403707708696},{"$f":"AH115","v":305.33805018479768},{"$f":"-AI115","v":-906.41522996686899}]
[null,null,null,null,null,null,null,null,null,null,{"$f":"K116","v":67.978741272311538},{"$f":"L116","v":36.471403707708696},{"$f":"((D115-D116)^2+(E115-E116)^2)^0.5","v":19.731929841358891},{"$f":"((I115-I112)^2+(J115-J112)^2)^0.5","v":9.6609150142411266},{"$f":"O114+N117","v":314.99896519903882},{"$f":"((D115-D116)^2+(E115-E116)^2)^0.5*Panels!$T$114","v":1128.6663869257286},null,null,564.3331934628643,-564.3331934628643,-4.4445869900755497E-2,null,564.35541639781468,null,564.35541639781468,-564.35541639781468,null,564.35541639781468,-564.35541639781468,null,564.35541639781468,-564.35541639781468,{"$f":"IF(C113>0,L117,\"\")","v":36.471403707708696},null,null,{"$f":"AJ114+N117","v":314.99896519903882}]
[null,null,null,{"$f":"(D115+Panels!C66)/2","v":78.544813792379415},{"$f":"E115","v":46.329287296147569},null,{"$f":"IF(Design!$H$19=\"x\",D118,0)","v":0},{"$f":"IF(Design!$H$19=\"x\",E118,0)","v":0},{"$f":"SUM(D118:D119)/2","v":73.062156032460777},{"$f":"SUM(E118:E119)/2","v":36.471403707708696},{"$f":"IF(Design!$H$18=\"x\",I118,0)","v":73.062156032460777},{"$f":"IF(Design!$H$18=\"x\",J118,0)","v":36.471403707708696},null,{"$f":"N117","v":9.6609150142411266},314.99896519903882,1128.6663869257286,null,null,564.3331934628643,-564.3331934628643,-4.4445869900755497E-2,null,564.35541639781468,null,{"$f":"((_S5_-_S3_)*(O118-_L3_)/(_L5_-_L3_)+_S3_)/2","v":564.35541639781468},{"$f":"-Y118","v":-564.35541639781468},null,564.35541639781468,-564.35541639781468,null,564.35541639781468,-564.35541639781468,{"$f":"IF(C116>0,L118,\"\")","v":36.471403707708696},{"$f":"O117","v":314.99896519903882},{"$f":"$R$165/2","v":906.41522996686899}]
[null,16,{"$f":"C116+1","v":34},{"$f":"D116","v":67.579498272542139},{"$f":"E116","v":26.613520119269818},null,{"$f":"IF(Design!$H$19=\"x\",D119,0)","v":0},{"$f":"IF(Design!$H$19=\"x\",E119,0)","v":0},null,null,{"$f":"K118","v":73.062156032460777},{"$f":"L118","v":36.471403707708696},null,{"$f":"N118","v":9.6609150142411266},314.99896519903882,1128.6663869257286,{"$f":"ATAN((E118-E119)/(D118-D119))*180/PI()","v":60.918506945356881},null,564.3331934628643,-564.3331934628643,-4.4445869900755497E-2,null,564.35541639781468,null,564.35541639781468,-564.35541639781468,null,564.35541639781468,-564.35541639781468,null,564.35541639781468,-564.35541639781468,{"$f":"IF(C116>0,L119,\"\")","v":36.471403707708696},{"$f":"AH118","v":314.99896519903882},{"$f":"-AI118","v":-906.41522996686899}]
[null,null,null,null,null,null,null,null,null,null,{"$f":"K119","v":73.062156032460777},{"$f":"L119","v":36.471403707708696},{"$f":"((D118-D119)^2+(E118-E119)^2)^0.5","v":22.559911786672266},{"$f":"((I118-I115)^2+(J118-J115)^2)^0.5","v":5.083414760149239},{"$f":"O117+N120","v":320.08237995918807},{"$f":"((D118-D119)^2+(E118-E119)^2)^0.5*Panels!$T$114","v":1290.4269541976537},null,null,645.21347709882684,-645.21347709882684,138.12099337695031,null,576.15298041035169,null,576.15298041035169,-576.15298041035169,null,576.15298041035169,-576.15298041035169,null,576.15298041035169,-576.15298041035169,{"$f":"IF(C116>0,L120,\"\")","v":36.471403707708696},null,null,{"$f":"AJ117+N120","v":320.08237995918807}]
[null,null,null,{"$f":"Panels!C66","v":88.711643312677907},{"$f":"(E118+E124)/2","v":36.043479148562945},null,{"$f":"IF(Design!$H$19=\"x\",D121,0)","v":0},{"$f":"IF(Design!$H$19=\"x\",E121,0)","v":0},{"$f":"SUM(D121:D122)/2","v":78.145570792610016},{"$f":"SUM(E121:E122)/2","v":31.32849963391638},{"$f":"IF(Design!$H$18=\"x\",I121,0)","v":78.145570792610016},{"$f":"IF(Design!$H$18=\"x\",J121,0)","v":31.32849963391638},null,{"$f":"N120","v":5.083414760149239},320.08237995918807,1290.4269541976537,null,null,645.21347709882684,-645.21347709882684,138.12099337695031,null,576.15298041035169,null,{"$f":"((_S5_-_S3_)*(O121-_L3_)/(_L5_-_L3_)+_S3_)/2","v":576.15298041035169},-576.15298041035169,null,576.15298041035169,-576.15298041035169,null,576.15298041035169,-576.15298041035169,{"$f":"IF(C119>0,L121,\"\")","v":31.32849963391638},{"$f":"O120","v":320.08237995918807},{"$f":"$R$165/2","v":906.41522996686899}]
[null,15,{"$f":"C119+1","v":35},{"$f":"D119","v":67.579498272542139},{"$f":"E119","v":26.613520119269818},null,{"$f":"IF(Design!$H$19=\"x\",D122,0)","v":0},{"$f":"IF(Design!$H$19=\"x\",E122,0)","v":0},null,null,{"$f":"K121","v":78.145570792610016},{"$f":"L121","v":31.32849963391638},null,{"$f":"N121","v":5.083414760149239},320.08237995918807,1290.4269541976537,{"$f":"ATAN((E121-E122)/(D121-D122))*180/PI()","v":24.048228291978486},null,645.21347709882684,-645.21347709882684,138.12099337695031,null,576.15298041035169,null,576.15298041035169,-576.15298041035169,null,576.15298041035169,-576.15298041035169,null,576.15298041035169,-576.15298041035169,{"$f":"IF(C119>0,L122,\"\")","v":31.32849963391638},{"$f":"AH121","v":320.08237995918807},{"$f":"-AI121","v":-906.41522996686899}]
[null,null,null,null,null,null,null,null,null,null,{"$f":"K122","v":78.145570792610016},{"$f":"L122","v":31.32849963391638},{"$f":"((D121-D122)^2+(E121-E122)^2)^0.5","v":23.140693189519663},{"$f":"((I121-I118)^2+(J121-J118)^2)^0.5","v":7.2312217457309895},{"$f":"O120+N123","v":327.31360170491905},{"$f":"((D121-D122)^2+(E121-E122)^2)^0.5*Panels!$T$114","v":1323.6476504405248},null,null,661.82382522026239,-661.82382522026239,137.77732178468273,null,592.93516432792103,null,592.93516432792103,-592.93516432792103,null,592.93516432792103,-592.93516432792103,null,592.93516432792103,-592.93516432792103,{"$f":"IF(C119>0,L123,\"\")","v":31.32849963391638},null,null,{"$f":"AJ120+N123","v":327.31360170491905}]
[null,null,null,{"$f":"D121","v":88.711643312677907},{"$f":"E122-(D124-D125)*O4","v":25.75767100097832},null,{"$f":"IF(Design!$H$19=\"x\",D124,0)","v":0},{"$f":"IF(Design!$H$19=\"x\",E124,0)","v":0},{"$f":"SUM(D124:D125)/2","v":78.145570792610016},{"$f":"SUM(E124:E125)/2","v":26.185595560124071},{"$f":"IF(Design!$H$18=\"x\",I124,0)","v":78.145570792610016},{"$f":"IF(Design!$H$18=\"x\",J124,0)","v":26.185595560124071},null,{"$f":"N123","v":7.2312217457309895},327.31360170491905,1323.6476504405248,null,null,661.82382522026239,-661.82382522026239,137.77732178468273,null,592.93516432792103,null,{"$f":"((_S5_-_S3_)*(O124-_L3_)/(_L5_-_L3_)+_S3_)/2","v":592.93516432792103},-592.93516432792103,null,592.93516432792103,-592.93516432792103,null,592.93516432792103,-592.93516432792103,{"$f":"IF(C122>0,L124,\"\")","v":26.185595560124071},{"$f":"O123","v":327.31360170491905},{"$f":"$R$165/2","v":906.41522996686899}]
[null,14,{"$f":"C122+1","v":36},{"$f":"D122","v":67.579498272542139},{"$f":"E122","v":26.613520119269818},null,{"$f":"IF(Design!$H$19=\"x\",D125,0)","v":0},{"$f":"IF(Design!$H$19=\"x\",E125,0)","v":0},null,null,{"$f":"K124","v":78.145570792610016},{"$f":"L124","v":26.185595560124071},null,{"$f":"N124","v":7.2312217457309895},327.31360170491905,1323.6476504405248,{"$f":"ATAN((E124-E125)/(D124-D125))*180/PI()","v":-2.3192041358174218},null,661.82382522026239,-661.82382522026239,137.77732178468273,null,592.93516432792103,null,592.93516432792103,-592.93516432792103,null,592.93516432792103,-592.93516432792103,null,592.93516432792103,-592.93516432792103,{"$f":"IF(C122>0,L125,\"\")","v":26.185595560124071},{"$f":"AH124","v":327.31360170491905},{"$f":"-AI124","v":-906.41522996686899}]
[null,null,null,null,null,null,null,null,null,null,{"$f":"K125","v":78.145570792610016},{"$f":"L125","v":26.185595560124071},{"$f":"((D124-D125)^2+(E124-E125)^2)^0.5","v":21.149468828096254},{"$f":"((I124-I121)^2+(J124-J121)^2)^0.5","v":5.1429040737923088},{"$f":"O123+N126","v":332.45650577871135},{"$f":"((D124-D125)^2+(E124-E125)^2)^0.5*Panels!$T$114","v":1209.7496169671058},null,null,604.8748084835529,-604.8748084835529,8.03527224525169E-3,null,604.87079084743027,null,604.87079084743027,-604.87079084743027,null,604.87079084743027,-604.87079084743027,null,604.87079084743027,-604.87079084743027,{"$f":"IF(C122>0,L126,\"\")","v":26.185595560124071},null,null,{"$f":"AJ123+N126","v":332.45650577871135}]
[null,null,null,{"$f":"(D124+D130)/2","v":88.711643312677907},{"$f":"Panels!D44-(D124-D125)*O4","v":23.863903910838317},null,{"$f":"IF(Design!$H$19=\"x\",D127,0)","v":0},{"$f":"IF(Design!$H$19=\"x\",E127,0)","v":0},{"$f":"SUM(D127:D128)/2","v":78.068684174296635},{"$f":"SUM(E127:E128)/2","v":24.291828469984068},{"$f":"IF(Design!$H$18=\"x\",I127,0)","v":78.068684174296635},{"$f":"IF(Design!$H$18=\"x\",J127,0)","v":24.291828469984068},null,{"$f":"N126","v":5.1429040737923088},332.45650577871135,1209.7496169671058,null,null,604.8748084835529,-604.8748084835529,8.03527224525169E-3,null,604.87079084743027,null,{"$f":"((_S5_-_S3_)*(O127-_L3_)/(_L5_-_L3_)+_S3_)/2","v":604.87079084743027},-604.87079084743027,null,604.87079084743027,-604.87079084743027,null,604.87079084743027,-604.87079084743027,{"$f":"IF(C125>0,L127,\"\")","v":24.291828469984068},{"$f":"O126","v":332.45650577871135},{"$f":"$R$165/2","v":906.41522996686899}]
[null,13,{"$f":"C125+1","v":37},{"$f":"Panels!C44","v":67.425725035915377},{"$f":"Panels!D44","v":24.719753029129816},null,{"$f":"IF(Design!$H$19=\"x\",D128,0)","v":0},{"$f":"IF(Design!$H$19=\"x\",E128,0)","v":0},null,null,{"$f":"K127","v":78.068684174296635},{"$f":"L127","v":24.291828469984068},null,{"$f":"N127","v":5.1429040737923088},332.45650577871135,1209.7496169671058,{"$f":"ATAN((E127-E128)/(D127-D128))*180/PI()","v":-2.3024678923793545},null,604.8748084835529,-604.8748084835529,8.03527224525169E-3,null,604.87079084743027,null,604.87079084743027,-604.87079084743027,null,604.87079084743027,-604.87079084743027,null,604.87079084743027,-604.87079084743027,{"$f":"IF(C125>0,L128,\"\")","v":24.291828469984068},{"$f":"AH127","v":332.45650577871135},{"$f":"-AI127","v":-906.41522996686899}]
[null,null,null,null,null,null,null,null,null,null,{"$f":"K128","v":78.068684174296635},{"$f":"L128","v":24.291828469984068},{"$f":"((D127-D128)^2+(E127-E128)^2)^0.5","v":21.303117016021233},{"$f":"((I127-I124)^2+(J127-J124)^2)^0.5","v":1.8953272392315266},{"$f":"O126+N129","v":334.35183301794285},{"$f":"((D127-D128)^2+(E127-E128)^2)^0.5*Panels!$T$114","v":1218.5382933164146},null,null,609.26914665820732,-609.26914665820732,-6.2067752537586784E-4,null,609.26945699697001,null,609.26945699697001,-609.26945699697001,null,609.26945699697001,-609.26945699697001,null,609.26945699697001,-609.26945699697001,{"$f":"IF(C125>0,L129,\"\")","v":24.291828469984068},null,null,{"$f":"AJ126+N129","v":334.35183301794285}]
[null,null,null,{"$f":"D124","v":88.711643312677907},{"$f":"(E127+Panels!D25)/2","v":12.881951955419158},null,{"$f":"IF(Design!$H$19=\"x\",D130,0)","v":0},{"$f":"IF(Design!$H$19=\"x\",E130,0)","v":0},{"$f":"SUM(D130:D131)/2","v":78.068684174296635},{"$f":"SUM(E130:E131)/2","v":18.800852492274487},{"$f":"IF(Design!$H$18=\"x\",I130,0)","v":78.068684174296635},{"$f":"IF(Design!$H$18=\"x\",J130,0)","v":18.800852492274487},null,{"$f":"N129","v":1.8953272392315266},334.35183301794285,1218.5382933164146,null,null,609.26914665820732,-609.26914665820732,-6.2067752537586784E-4,null,609.26945699697001,null,{"$f":"((_S5_-_S3_)*(O130-_L3_)/(_L5_-_L3_)+_S3_)/2","v":609.26945699697001},-609.26945699697001,null,609.26945699697001,-609.26945699697001,null,609.26945699697001,-609.26945699697001,{"$f":"IF(C128>0,L130,\"\")","v":18.800852492274487},{"$f":"O129","v":334.35183301794285},{"$f":"$R$165/2","v":906.41522996686899}]
[null,12,{"$f":"C128+1","v":38},{"$f":"Panels!C44","v":67.425725035915377},{"$f":"Panels!D44","v":24.719753029129816},null,{"$f":"IF(Design!$H$19=\"x\",D131,0)","v":0},{"$f":"IF(Design!$H$19=\"x\",E131,0)","v":0},null,null,{"$f":"K130","v":78.068684174296635},{"$f":"L130","v":18.800852492274487},null,{"$f":"N130","v":1.8953272392315266},334.35183301794285,1218.5382933164146,{"$f":"ATAN((E130-E131)/(D130-D131))*180/PI()","v":-29.079878874862043},null,609.26914665820732,-609.26914665820732,-6.2067752537586784E-4,null,609.26945699697001,null,609.26945699697001,-609.26945699697001,null,609.26945699697001,-609.26945699697001,null,609.26945699697001,-609.26945699697001,{"$f":"IF(C128>0,L131,\"\")","v":18.800852492274487},{"$f":"AH130","v":334.35183301794285},{"$f":"-AI130","v":-906.41522996686899}]
[null,null,null,null,null,null,null,null,null,null,{"$f":"K131","v":78.068684174296635},{"$f":"L131","v":18.800852492274487},{"$f":"((D130-D131)^2+(E130-E131)^2)^0.5","v":24.356187122490219},{"$f":"((I130-I127)^2+(J130-J127)^2)^0.5","v":5.4909759777095815},{"$f":"O129+N132","v":339.84280899565243},{"$f":"((D130-D131)^2+(E130-E131)^2)^0.5*Panels!$T$114","v":1393.1739034064406},null,null,696.58695170322028,-696.58695170322028,149.14812924277089,null,622.01288708183483,null,622.01288708183483,-622.01288708183483,null,622.01288708183483,-622.01288708183483,null,622.01288708183483,-622.01288708183483,{"$f":"IF(C128>0,L132,\"\")","v":18.800852492274487},null,null,{"$f":"AJ129+N132","v":339.84280899565243}]
[null,null,null,{"$f":"(D134+D130)/2","v":78.068684174296635},{"$f":"Panels!D25","v":1.9},null,{"$f":"IF(Design!$H$19=\"x\",D133,0)","v":0},{"$f":"IF(Design!$H$19=\"x\",E133,0)","v":0},{"$f":"SUM(D133:D134)/2","v":72.747204605106006},{"$f":"SUM(E133:E134)/2","v":13.309876514564907},{"$f":"IF(Design!$H$18=\"x\",I133,0)","v":72.747204605106006},{"$f":"IF(Design!$H$18=\"x\",J133,0)","v":13.309876514564907},null,{"$f":"N132","v":5.4909759777095815},339.84280899565243,1393.1739034064406,null,null,696.58695170322028,-696.58695170322028,149.14812924277089,null,622.01288708183483,null,{"$f":"((_S5_-_S3_)*(O133-_L3_)/(_L5_-_L3_)+_S3_)/2","v":622.01288708183483},-622.01288708183483,null,622.01288708183483,-622.01288708183483,null,622.01288708183483,-622.01288708183483,{"$f":"IF(C131>0,L133,\"\")","v":13.309876514564907},{"$f":"O132","v":339.84280899565243},{"$f":"$R$165/2","v":906.41522996686899}]
[null,11,{"$f":"C131+1","v":39},{"$f":"D131","v":67.425725035915377},{"$f":"E131","v":24.719753029129816},null,{"$f":"IF(Design!$H$19=\"x\",D134,0)","v":0},{"$f":"IF(Design!$H$19=\"x\",E134,0)","v":0},null,null,{"$f":"K133","v":72.747204605106006},{"$f":"L133","v":13.309876514564907},null,{"$f":"N133","v":5.4909759777095815},339.84280899565243,1393.1739034064406,{"$f":"ATAN((E133-E134)/(D133-D134))*180/PI()","v":-64.996012478747502},null,696.58695170322028,-696.58695170322028,149.14812924277089,null,622.01288708183483,null,622.01288708183483,-622.01288708183483,null,622.01288708183483,-622.01288708183483,null,622.01288708183483,-622.01288708183483,{"$f":"IF(C131>0,L134,\"\")","v":13.309876514564907},{"$f":"AH133","v":339.84280899565243},{"$f":"-AI133","v":-906.41522996686899}]
[null,null,null,null,null,null,null,null,null,null,{"$f":"K134","v":72.747204605106006},{"$f":"L134","v":13.309876514564907},{"$f":"((D133-D134)^2+(E133-E134)^2)^0.5","v":25.179628820372482},{"$f":"((I133-I130)^2+(J133-J130)^2)^0.5","v":7.6464999832012657},{"$f":"O132+N135","v":347.48930897885367},{"$f":"((D133-D134)^2+(E133-E134)^2)^0.5*Panels!$T$114","v":1440.2747685253059},null,null,720.13738426265297,-720.13738426265297,160.75707513801922,null,639.75884669364336,null,639.75884669364336,-639.75884669364336,null,639.75884669364336,-639.75884669364336,null,639.75884669364336,-639.75884669364336,{"$f":"IF(C131>0,L135,\"\")","v":13.309876514564907},null,null,{"$f":"AJ132+N135","v":347.48930897885367}]
[null,null,null,{"$f":"D134","v":67.425725035915377},{"$f":"E134","v":24.719753029129816},null,{"$f":"IF(Design!$H$19=\"x\",D136,0)","v":0},{"$f":"IF(Design!$H$19=\"x\",E136,0)","v":0},{"$f":"SUM(D136:D137)/2","v":66.963626525032623},{"$f":"SUM(E136:E137)/2","v":13.309876514564907},{"$f":"IF(Design!$H$18=\"x\",I136,0)","v":66.963626525032623},{"$f":"IF(Design!$H$18=\"x\",J136,0)","v":13.309876514564907},null,{"$f":"N135","v":7.6464999832012657},347.48930897885367,1440.2747685253059,null,null,720.13738426265297,-720.13738426265297,160.75707513801922,null,639.75884669364336,null,{"$f":"((_S5_-_S3_)*(O136-_L3_)/(_L5_-_L3_)+_S3_)/2","v":639.75884669364336},-639.75884669364336,null,639.75884669364336,-639.75884669364336,null,639.75884669364336,-639.75884669364336,{"$f":"IF(C134>0,L136,\"\")","v":13.309876514564907},{"$f":"O135","v":347.48930897885367},{"$f":"$R$165/2","v":906.41522996686899}]
[null,10,{"$f":"C134+1","v":40},{"$f":"D134-(E136-E137)*O4","v":66.501528014149855},{"$f":"E133","v":1.9},null,{"$f":"IF(Design!$H$19=\"x\",D137,0)","v":0},{"$f":"IF(Design!$H$19=\"x\",E137,0)","v":0},null,null,{"$f":"K136","v":66.963626525032623},{"$f":"L136","v":13.309876514564907},null,{"$f":"N136","v":7.6464999832012657},347.48930897885367,1440.2747685253059,{"$f":"ATAN((E136-E137)/(D136-D137))*180/PI()","v":87.680795864182585},null,720.13738426265297,-720.13738426265297,160.75707513801922,null,639.75884669364336,null,639.75884669364336,-639.75884669364336,null,639.75884669364336,-639.75884669364336,null,639.75884669364336,-639.75884669364336,{"$f":"IF(C134>0,L137,\"\")","v":13.309876514564907},{"$f":"AH136","v":347.48930897885367},{"$f":"-AI136","v":-906.41522996686899}]
[null,null,null,null,null,null,null,null,null,null,{"$f":"K137","v":66.963626525032623},{"$f":"L137","v":13.309876514564907},{"$f":"((D136-D137)^2+(E136-E137)^2)^0.5","v":22.838460290604523},{"$f":"((I136-I133)^2+(J136-J133)^2)^0.5","v":5.7835780800733829},{"$f":"O135+N138","v":353.27288705892704},{"$f":"((D136-D137)^2+(E136-E137)^2)^0.5*Panels!$T$114","v":1306.3599286225788},null,null,653.17996431128938,-653.17996431128938,-2.7639790425837418E-3,null,653.18134630081067,null,653.18134630081067,-653.18134630081067,null,653.18134630081067,-653.18134630081067,null,653.18134630081067,-653.18134630081067,{"$f":"IF(C134>0,L138,\"\")","v":13.309876514564907},null,null,{"$f":"AJ135+N138","v":353.27288705892704}]
[null,null,null,{"$f":"Panels!C43","v":29.659082142302488},{"$f":"Panels!D43","v":27.786391447610647},null,{"$f":"IF(Design!$H$19=\"x\",D139,0)","v":0},{"$f":"IF(Design!$H$19=\"x\",E139,0)","v":0},{"$f":"SUM(D139:D140)/2","v":29.134884403404993},{"$f":"SUM(E139:E140)/2","v":14.843195723805323},{"$f":"IF(Design!$H$18=\"x\",I139,0)","v":29.134884403404993},{"$f":"IF(Design!$H$18=\"x\",J139,0)","v":14.843195723805323},null,{"$f":"N138","v":5.7835780800733829},353.27288705892704,1306.3599286225788,null,null,{"$f":"P139/2","v":653.17996431128938},{"$f":"-S139","v":-653.17996431128938},{"$f":"(S139-W139)*2","v":-2.7639790425837418E-3},null,{"$f":"IF($H$16=\"Par\",Y139,0)+IF($H$16=\"Con\",AB139,0)+IF($H$16=\"Exp\",AE139,0)","v":653.18134630081067},null,{"$f":"((_S5_-_S3_)*(O139-_L3_)/(_L5_-_L3_)+_S3_)/2","v":653.18134630081067},-653.18134630081067,null,653.18134630081067,-653.18134630081067,null,653.18134630081067,-653.18134630081067,{"$f":"IF(C137>0,L139,\"\")","v":14.843195723805323},{"$f":"O138","v":353.27288705892704},{"$f":"$R$165/2","v":906.41522996686899}]
[null,9,{"$f":"C137+1","v":41},{"$f":"D139-(E139-E140)*O4","v":28.610686664507497},{"$f":"E137","v":1.9},null,{"$f":"IF(Design!$H$19=\"x\",D140,0)","v":0},{"$f":"IF(Design!$H$19=\"x\",E140,0)","v":0},null,null,{"$f":"K139","v":29.134884403404993},{"$f":"L139","v":14.843195723805323},null,{"$f":"N139","v":5.7835780800733829},353.27288705892704,1306.3599286225788,{"$f":"ATAN((E139-E140)/(D139-D140))*180/PI()","v":87.680795864182585},null,653.17996431128938,-653.17996431128938,-2.7639790425837418E-3,null,653.18134630081067,null,653.18134630081067,-653.18134630081067,null,653.18134630081067,-653.18134630081067,null,653.18134630081067,-653.18134630081067,{"$f":"IF(C137>0,L140,\"\")","v":14.843195723805323},{"$f":"AH139","v":353.27288705892704},{"$f":"-AI139","v":-906.41522996686899}]
[null,null,null,null,null,null,null,null,null,null,{"$f":"K140","v":29.134884403404993},{"$f":"L140","v":14.843195723805323},{"$f":"((D139-D140)^2+(E139-E140)^2)^0.5","v":25.90761268926164},{"$f":"((I139-I136)^2+(J139-J136)^2)^0.5","v":37.859804520124378},{"$f":"O138+N141","v":391.13269157905142},{"$f":"((D139-D140)^2+(E139-E140)^2)^0.5*Panels!$T$114","v":1481.9154458257658},null,null,740.9577229128829,-740.9577229128829,-0.17694360476207294,null,741.04619471526394,null,741.04619471526394,-741.04619471526394,null,741.04619471526394,-741.04619471526394,null,741.04619471526394,-741.04619471526394,{"$f":"IF(C137>0,L141,\"\")","v":14.843195723805323},null,null,{"$f":"AJ138+N141","v":391.13269157905142}]
[null,null,null,{"$f":"D139","v":29.659082142302488},{"$f":"E139","v":27.786391447610647},null,{"$f":"IF(Design!$H$19=\"x\",D142,0)","v":0},{"$f":"IF(Design!$H$19=\"x\",E142,0)","v":0},{"$f":"SUM(D142:D143)/2","v":22.45721273727812},{"$f":"SUM(E142:E143)/2","v":14.843195723805323},{"$f":"IF(Design!$H$18=\"x\",I142,0)","v":22.45721273727812},{"$f":"IF(Design!$H$18=\"x\",J142,0)","v":14.843195723805323},null,{"$f":"N141","v":37.859804520124378},391.13269157905142,1481.9154458257658,null,null,740.9577229128829,-740.9577229128829,-0.17694360476207294,null,741.04619471526394,null,{"$f":"((_S5_-_S3_)*(O142-_L3_)/(_L5_-_L3_)+_S3_)/2","v":741.04619471526394},{"$f":"-Y142","v":-741.04619471526394},null,{"$f":"Y142","v":741.04619471526394},{"$f":"-AB142","v":-741.04619471526394},null,{"$f":"Y142","v":741.04619471526394},-741.04619471526394,{"$f":"IF(C140>0,L142,\"\")","v":14.843195723805323},{"$f":"O141","v":391.13269157905142},{"$f":"$R$165/2","v":906.41522996686899}]
[null,8,{"$f":"C140+1","v":42},{"$f":"(D140+Panels!C27)/2","v":15.255343332253748},{"$f":"E140","v":1.9},null,{"$f":"IF(Design!$H$19=\"x\",D143,0)","v":0},{"$f":"IF(Design!$H$19=\"x\",E143,0)","v":0},null,null,{"$f":"K142","v":22.45721273727812},{"$f":"L142","v":14.843195723805323},null,37.859804520124378,391.13269157905142,1481.9154458257658,{"$f":"ATAN((E142-E143)/(D142-D143))*180/PI()","v":60.907506573018487},null,740.9577229128829,-740.9577229128829,-0.17694360476207294,null,741.04619471526394,null,741.04619471526394,-741.04619471526394,null,741.04619471526394,-741.04619471526394,null,741.04619471526394,-741.04619471526394,{"$f":"IF(C140>0,L143,\"\")","v":14.843195723805323},{"$f":"AH142","v":391.13269157905142},{"$f":"-AI142","v":-906.41522996686899}]
[null,null,null,null,null,null,null,null,null,null,{"$f":"K143","v":22.45721273727812},{"$f":"L143","v":14.843195723805323},{"$f":"((D142-D143)^2+(E142-E143)^2)^0.5","v":29.623857849494115},{"$f":"((I142-I139)^2+(J142-J139)^2)^0.5","v":6.6776716661268729},{"$f":"O141+N144","v":397.81036324517828},{"$f":"((D142-D143)^2+(E142-E143)^2)^0.5*Panels!$T$114","v":1694.4846689910635},null,null,847.24233449553174,-847.24233449553174,181.39726433831788,null,756.5437023263728,null,756.5437023263728,-756.5437023263728,null,756.5437023263728,-756.5437023263728,null,756.5437023263728,-756.5437023263728,{"$f":"IF(C140>0,L144,\"\")","v":14.843195723805323},null,null,{"$f":"AJ141+N144","v":397.81036324517828}]
[null,null,null,{"$f":"D142","v":29.659082142302488},{"$f":"E142","v":27.786391447610647},null,{"$f":"IF(Design!$H$19=\"x\",D145,0)","v":0},{"$f":"IF(Design!$H$19=\"x\",E145,0)","v":0},{"$f":"SUM(D145:D146)/2","v":15.779541071151243},{"$f":"SUM(E145:E146)/2","v":21.314793585707985},{"$f":"IF(Design!$H$18=\"x\",I145,0)","v":15.779541071151243},{"$f":"IF(Design!$H$18=\"x\",J145,0)","v":21.314793585707985},null,{"$f":"N144","v":6.6776716661268729},397.81036324517828,1694.4846689910635,null,null,847.24233449553174,-847.24233449553174,181.39726433831788,null,756.5437023263728,null,756.5437023263728,-756.5437023263728,null,756.5437023263728,-756.5437023263728,null,756.5437023263728,-756.5437023263728,{"$f":"IF(C143>0,L145,\"\")","v":21.314793585707985},{"$f":"O144","v":397.81036324517828},{"$f":"$R$165/2","v":906.41522996686899}]
[null,7,{"$f":"C143+1","v":43},{"$f":"Panels!C24","v":1.9},{"$f":"(E142+E143)/2","v":14.843195723805323},null,{"$f":"IF(Design!$H$19=\"x\",D146,0)","v":0},{"$f":"IF(Design!$H$19=\"x\",E146,0)","v":0},null,null,{"$f":"K145","v":15.779541071151243},{"$f":"L145","v":21.314793585707985},null,6.6776716661268729,397.81036324517828,1694.4846689910635,{"$f":"ATAN((E145-E146)/(D145-D146))*180/PI()","v":24.998174273742848},null,847.24233449553174,-847.24233449553174,181.39726433831788,null,756.5437023263728,null,756.5437023263728,-756.5437023263728,null,756.5437023263728,-756.5437023263728,null,756.5437023263728,-756.5437023263728,{"$f":"IF(C143>0,L146,\"\")","v":21.314793585707985},{"$f":"AH145","v":397.81036324517828},{"$f":"-AI145","v":-906.41522996686899}]
[null,null,null,null,null,null,null,null,null,null,{"$f":"K146","v":15.779541071151243},{"$f":"L146","v":21.314793585707985},{"$f":"((D145-D146)^2+(E145-E146)^2)^0.5","v":30.628303200272608},{"$f":"((I145-I142)^2+(J145-J142)^2)^0.5","v":9.2990794042623808},{"$f":"O144+N147","v":407.10944264944067},{"$f":"((D145-D146)^2+(E145-E146)^2)^0.5*Panels!$T$114","v":1751.9389430555932},null,null,875.9694715277966,-875.9694715277966,195.68902276887661,null,778.12496014335829,null,778.12496014335829,-778.12496014335829,null,778.12496014335829,-778.12496014335829,null,778.12496014335829,-778.12496014335829,{"$f":"IF(C143>0,L147,\"\")","v":21.314793585707985},null,null,{"$f":"AJ144+N147","v":407.10944264944067}]
[null,null,null,{"$f":"D145","v":29.659082142302488},{"$f":"E145","v":27.786391447610647},null,{"$f":"IF(Design!$H$19=\"x\",D148,0)","v":0},{"$f":"IF(Design!$H$19=\"x\",E148,0)","v":0},{"$f":"SUM(D148:D149)/2","v":15.779541071151243},{"$f":"SUM(E148:E149)/2","v":28.348511050967254},{"$f":"IF(Design!$H$18=\"x\",I148,0)","v":15.779541071151243},{"$f":"IF(Design!$H$18=\"x\",J148,0)","v":28.348511050967254},null,{"$f":"N147","v":9.2990794042623808},407.10944264944067,1751.9389430555932,null,null,875.9694715277966,-875.9694715277966,195.68902276887661,null,778.12496014335829,null,778.12496014335829,-778.12496014335829,null,778.12496014335829,-778.12496014335829,null,778.12496014335829,-778.12496014335829,{"$f":"IF(C146>0,L148,\"\")","v":28.348511050967254},{"$f":"O147","v":407.10944264944067},{"$f":"$R$165/2","v":906.41522996686899}]
[null,6,{"$f":"C146+1","v":44},{"$f":"D146","v":1.9},{"$f":"E148+(D148-D149)*O4","v":28.910630654323864},null,{"$f":"IF(Design!$H$19=\"x\",D149,0)","v":0},{"$f":"IF(Design!$H$19=\"x\",E149,0)","v":0},null,null,{"$f":"K148","v":15.779541071151243},{"$f":"L148","v":28.348511050967254},null,9.2990794042623808,407.10944264944067,1751.9389430555932,{"$f":"ATAN((E148-E149)/(D148-D149))*180/PI()","v":-2.3192041358174222},null,875.9694715277966,-875.9694715277966,195.68902276887661,null,778.12496014335829,null,778.12496014335829,-778.12496014335829,null,778.12496014335829,-778.12496014335829,null,778.12496014335829,-778.12496014335829,{"$f":"IF(C146>0,L149,\"\")","v":28.348511050967254},{"$f":"AH148","v":407.10944264944067},{"$f":"-AI148","v":-906.41522996686899}]
[null,null,null,null,null,null,null,null,null,null,{"$f":"K149","v":15.779541071151243},{"$f":"L149","v":28.348511050967254},{"$f":"((D148-D149)^2+(E148-E149)^2)^0.5","v":27.781838585252203},{"$f":"((I148-I145)^2+(J148-J145)^2)^0.5","v":7.0337174652592687},{"$f":"O147+N150","v":414.14316011469992},{"$f":"((D148-D149)^2+(E148-E149)^2)^0.5*Panels!$T$114","v":1589.121167076426},null,null,794.560583538213,-794.560583538213,0.22361288306365168,null,794.44877709668117,null,794.44877709668117,-794.44877709668117,null,794.44877709668117,-794.44877709668117,null,794.44877709668117,-794.44877709668117,{"$f":"IF(C146>0,L150,\"\")","v":28.348511050967254},null,null,{"$f":"AJ147+N150","v":414.14316011469992}]
[null,null,null,{"$f":"Panels!C42","v":29.81285537892925},{"$f":"Panels!D42","v":29.68015853775065},null,{"$f":"IF(Design!$H$19=\"x\",D151,0)","v":0},{"$f":"IF(Design!$H$19=\"x\",E151,0)","v":0},{"$f":"SUM(D151:D152)/2","v":15.856427689464624},{"$f":"SUM(E151:E152)/2","v":30.245392039122201},{"$f":"IF(Design!$H$18=\"x\",I151,0)","v":15.856427689464624},{"$f":"IF(Design!$H$18=\"x\",J151,0)","v":30.245392039122201},null,{"$f":"N150","v":7.0337174652592687},414.14316011469992,1589.121167076426,null,null,794.560583538213,-794.560583538213,0.22361288306365168,null,794.44877709668117,null,794.44877709668117,-794.44877709668117,null,794.44877709668117,-794.44877709668117,null,794.44877709668117,-794.44877709668117,{"$f":"IF(C149>0,L151,\"\")","v":30.245392039122201},{"$f":"O150","v":414.14316011469992},{"$f":"$R$165/2","v":906.41522996686899}]
[null,5,{"$f":"C149+1","v":45},{"$f":"D149","v":1.9},{"$f":"E151+(D151-D152)*O4","v":30.810625540493749},null,{"$f":"IF(Design!$H$19=\"x\",D152,0)","v":0},{"$f":"IF(Design!$H$19=\"x\",E152,0)","v":0},null,null,{"$f":"K151","v":15.856427689464624},{"$f":"L151","v":30.245392039122201},null,7.0337174652592687,414.14316011469992,1589.121167076426,{"$f":"ATAN((E151-E152)/(D151-D152))*180/PI()","v":-2.319204135817424},null,794.560583538213,-794.560583538213,0.22361288306365168,null,794.44877709668117,null,794.44877709668117,-794.44877709668117,null,794.44877709668117,-794.44877709668117,null,794.44877709668117,-794.44877709668117,{"$f":"IF(C149>0,L152,\"\")","v":30.245392039122201},{"$f":"AH151","v":414.14316011469992},{"$f":"-AI151","v":-906.41522996686899}]
[null,null,null,null,null,null,null,null,null,null,{"$f":"K152","v":15.856427689464624},{"$f":"L152","v":30.245392039122201},{"$f":"((D151-D152)^2+(E151-E152)^2)^0.5","v":27.935737882671198},{"$f":"((I151-I148)^2+(J151-J148)^2)^0.5","v":1.8984385782266853},{"$f":"O150+N153","v":416.04159869292658},{"$f":"((D151-D152)^2+(E151-E152)^2)^0.5*Panels!$T$114","v":1597.9242068887927},null,null,798.96210344439635,-798.96210344439635,0.21487883582835821,null,798.85466402648217,null,798.85466402648217,-798.85466402648217,null,798.85466402648217,-798.85466402648217,null,798.85466402648217,-798.85466402648217,{"$f":"IF(C149>0,L153,\"\")","v":30.245392039122201},null,null,{"$f":"AJ150+N153","v":416.04159869292658}]
[null,null,null,{"$f":"Panels!C37","v":29.81285537892925},{"$f":"Panels!D37","v":29.68015853775065},null,{"$f":"IF(Design!$H$19=\"x\",D154,0)","v":0},{"$f":"IF(Design!$H$19=\"x\",E154,0)","v":0},{"$f":"SUM(D154:D155)/2","v":15.856427689464624},{"$f":"SUM(E154:E155)/2","v":30.245392039122201},{"$f":"IF(Design!$H$18=\"x\",I154,0)","v":15.856427689464624},{"$f":"IF(Design!$H$18=\"x\",J154,0)","v":30.245392039122201},null,{"$f":"N153","v":1.8984385782266853},416.04159869292658,1597.9242068887927,null,null,{"$f":"P154/2","v":798.96210344439635},-798.96210344439635,0.21487883582835821,null,798.85466402648217,null,798.85466402648217,-798.85466402648217,null,{"$f":"Y154","v":798.85466402648217},{"$f":"-AB154","v":-798.85466402648217},null,798.85466402648217,-798.85466402648217,{"$f":"IF(C152>0,L154,\"\")","v":30.245392039122201},{"$f":"O153","v":416.04159869292658},{"$f":"$R$165/2","v":906.41522996686899}]
[null,4,{"$f":"C152+1","v":46},{"$f":"(D152+D164)/2","v":1.9},{"$f":"E154+(D154-D155)*O4","v":30.810625540493749},null,{"$f":"IF(Design!$H$19=\"x\",D155,0)","v":0},{"$f":"IF(Design!$H$19=\"x\",E155,0)","v":0},null,null,{"$f":"K154","v":15.856427689464624},{"$f":"L154","v":30.245392039122201},null,1.8984385782266853,416.04159869292658,1597.9242068887927,{"$f":"ATAN((E154-E155)/(D154-D155))*180/PI()","v":-2.319204135817424},null,798.96210344439635,-798.96210344439635,0.21487883582835821,null,798.85466402648217,null,798.85466402648217,-798.85466402648217,null,798.85466402648217,-798.85466402648217,null,798.85466402648217,-798.85466402648217,{"$f":"IF(C152>0,L155,\"\")","v":30.245392039122201},{"$f":"AH154","v":416.04159869292658},{"$f":"-AI154","v":-906.41522996686899}]
[null,null,null,null,null,null,null,null,null,null,{"$f":"K155","v":15.856427689464624},{"$f":"L155","v":30.245392039122201},{"$f":"((D154-D155)^2+(E154-E155)^2)^0.5","v":27.935737882671198},{"$f":"((I154-I151)^2+(J154-J151)^2)^0.5","v":0},{"$f":"O153+N156","v":416.04159869292658},{"$f":"((D154-D155)^2+(E154-E155)^2)^0.5*Panels!$T$114","v":1597.9242068887927},null,null,798.96210344439635,-798.96210344439635,0.21487883582835821,null,798.85466402648217,null,798.85466402648217,-798.85466402648217,null,798.85466402648217,-798.85466402648217,null,{"$f":"Y156","v":798.85466402648217},{"$f":"-AE156","v":-798.85466402648217},{"$f":"IF(C152>0,L156,\"\")","v":30.245392039122201},null,null,{"$f":"AJ153+N156","v":416.04159869292658}]
[null,null,null,{"$f":"Path!AS16","v":31.269654462761729},{"$f":"Path!AT16","v":47.621109918024331},null,{"$f":"IF(Design!$H$19=\"x\",D157,0)","v":0},{"$f":"IF(Design!$H$19=\"x\",E157,0)","v":0},{"$f":"SUM(D157:D158)/2","v":16.584827231380864},{"$f":"SUM(E157:E158)/2","v":48.215843505853215},{"$f":"IF(Design!$H$18=\"x\",I157,0)","v":16.584827231380864},{"$f":"IF(Design!$H$18=\"x\",J157,0)","v":48.215843505853215},null,{"$f":"N156","v":0},416.04159869292658,1597.9242068887927,null,null,{"$f":"P157/2","v":798.96210344439635},{"$f":"-S157","v":-798.96210344439635},0.21487883582835821,null,798.85466402648217,null,798.85466402648217,{"$f":"-Y157","v":-798.85466402648217},null,798.85466402648217,-798.85466402648217,null,798.85466402648217,-798.85466402648217,{"$f":"IF(C155>0,L157,\"\")","v":48.215843505853215},{"$f":"O156","v":416.04159869292658},{"$f":"$R$165/2","v":906.41522996686899}]
["S4",{"$f":"B161+1","v":3},{"$f":"C155+1","v":47},{"$f":"(D149+D155)/2","v":1.9},{"$f":"E157+(D157-D158)*O4","v":48.810577093682099},null,{"$f":"IF(Design!$H$19=\"x\",D158,0)","v":0},{"$f":"IF(Design!$H$19=\"x\",E158,0)","v":0},null,null,{"$f":"K157","v":16.584827231380864},{"$f":"L157","v":48.215843505853215},null,{"$f":"N157","v":0},416.04159869292658,1597.9242068887927,{"$f":"ATAN((E157-E158)/(D157-D158))*180/PI()","v":-2.3192041358174218},null,798.96210344439635,-798.96210344439635,0.21487883582835821,null,798.85466402648217,null,798.85466402648217,-798.85466402648217,null,798.85466402648217,-798.85466402648217,null,798.85466402648217,-798.85466402648217,{"$f":"IF(C155>0,L158,\"\")","v":48.215843505853215},{"$f":"AH157","v":416.04159869292658},{"$f":"-AI157","v":-906.41522996686899}]
[null,null,null,null,null,null,null,null,null,null,{"$f":"K158","v":16.584827231380864},{"$f":"L158","v":48.215843505853215},{"$f":"((D157-D158)^2+(E157-E158)^2)^0.5","v":29.393731226640611},{"$f":"((I157-I154)^2+(J157-J154)^2)^0.5","v":17.985207583200108},{"$f":"O156+N159","v":434.02680627612671},{"$f":"((D157-D158)^2+(E157-E158)^2)^0.5*Panels!$T$114","v":1681.3214261638429},null,null,840.66071308192147,-840.66071308192147,0.1321352304382799,null,840.59464546670233,null,840.59464546670233,-840.59464546670233,null,840.59464546670233,-840.59464546670233,null,840.59464546670233,-840.59464546670233,{"$f":"IF(C155>0,L159,\"\")","v":48.215843505853215},null,null,{"$f":"AJ156+N159","v":434.02680627612671}]
[null,null,null,{"$f":"Panels!C15","v":1.9},{"$f":"Panels!D15","v":76.835000000000008},null,{"$f":"IF(Design!$H$19=\"x\",D160,0)","v":0},{"$f":"IF(Design!$H$19=\"x\",E160,0)","v":0},{"$f":"SUM(D160:D161)/2","v":17.718841974401442},{"$f":"SUM(E160:E161)/2","v":76.193812896971707},{"$f":"IF(Design!$H$18=\"x\",I160,0)","v":17.718841974401442},{"$f":"IF(Design!$H$18=\"x\",J160,0)","v":76.193812896971707},null,{"$f":"N159","v":17.985207583200108},434.02680627612671,1681.3214261638429,null,null,840.66071308192147,-840.66071308192147,0.1321352304382799,null,840.59464546670233,null,840.59464546670233,-840.59464546670233,null,840.59464546670233,-840.59464546670233,null,840.59464546670233,-840.59464546670233,{"$f":"IF(C158>0,L160,\"\")","v":76.193812896971707},{"$f":"O159","v":434.02680627612671},{"$f":"$R$165/2","v":906.41522996686899},null,null,"Panel B",{"$f":"Panels!C37","v":29.81285537892925},{"$f":"Panels!D37","v":29.68015853775065},{"$f":"Panels!C36","v":33.654298627389551},{"$f":"Panels!D36","v":76.98877323662677},{"$f":"(AP160-AN160)/(AO160-AM160)","v":12.31532308015692},{"$f":"(AP160*AM160-AN160*AO160)/(AM160-AO160)","v":-337.47478739575706}]
[null,{"$f":"B164+1","v":2},{"$f":"C158+1","v":48},{"$f":"AS161","v":33.537683948802886},{"$f":"AT161","v":75.552625793943392},null,{"$f":"IF(Design!$H$19=\"x\",D161,0)","v":0},{"$f":"IF(Design!$H$19=\"x\",E161,0)","v":0},null,null,{"$f":"K160","v":17.718841974401442},{"$f":"L160","v":76.193812896971707},null,{"$f":"N160","v":17.985207583200108},434.02680627612671,1681.3214261638429,{"$f":"ATAN((E160-E161)/(D160-D161))*180/PI()","v":-2.3211064218795472},null,840.66071308192147,-840.66071308192147,0.1321352304382799,null,840.59464546670233,null,840.59464546670233,-840.59464546670233,null,840.59464546670233,-840.59464546670233,null,840.59464546670233,-840.59464546670233,{"$f":"IF(C158>0,L161,\"\")","v":76.193812896971707},{"$f":"AH160","v":434.02680627612671},{"$f":"-AI160","v":-906.41522996686899},null,null,"Panel A",{"$f":"Panels!C15","v":1.9},{"$f":"Panels!D15","v":76.835000000000008},{"$f":"AM161+100*Panels!X6","v":101.81795437073151},{"$f":"AN161-100*Panels!Y6","v":72.785013040957253},{"$f":"(AP161-AN161)/(AO161-AM161)","v":-4.0533125248099537E-2},{"$f":"(AP161*AM161-AN161*AO161)/(AM161-AO161)","v":76.912012937971397},{"$f":"(AR160-AR161)/(AQ161-AQ160)","v":33.537683948802886},{"$f":"AS161*AQ161+AR161","v":75.552625793943392}]
[null,null,null,null,null,null,null,null,null,null,{"$f":"K161","v":17.718841974401442},{"$f":"L161","v":76.193812896971707},{"$f":"((D160-D161)^2+(E160-E161)^2)^0.5","v":31.663662600032538},{"$f":"((I160-I157)^2+(J160-J157)^2)^0.5","v":28.000942139287943},{"$f":"O159+N162","v":462.02774841541464},{"$f":"((D160-D161)^2+(E160-E161)^2)^0.5*Panels!$T$114","v":1811.1615007218613},null,null,905.58075036093067,-905.58075036093067,3.311759802954839E-3,null,905.57909448102919,null,905.57909448102919,-905.57909448102919,null,905.57909448102919,-905.57909448102919,null,905.57909448102919,-905.57909448102919,{"$f":"IF(C158>0,L162,\"\")","v":76.193812896971707},null,null,{"$f":"AJ159+N162","v":462.02774841541464}]
[null,null,null,{"$f":"(Panels!C36+D161)/2","v":33.595991288096215},{"$f":"(Panels!D36+E161)/2","v":76.270699515285088},null,{"$f":"IF(Design!$H$19=\"x\",D163,0)","v":0},{"$f":"IF(Design!$H$19=\"x\",E163,0)","v":0},{"$f":"SUM(D163:D164)/2","v":17.747995644048107},{"$f":"SUM(E163:E164)/2","v":76.91306830765663},{"$f":"IF(Design!$H$18=\"x\",I163,0)","v":17.747995644048107},{"$f":"IF(Design!$H$18=\"x\",J163,0)","v":76.91306830765663},null,{"$f":"N162","v":28.000942139287943},462.02774841541464,1811.1615007218613,null,null,{"$f":"P163/2","v":905.58075036093067},{"$f":"-S163","v":-905.58075036093067},3.311759802954839E-3,null,905.57909448102919,null,905.57909448102919,{"$f":"-Y163","v":-905.57909448102919},null,905.57909448102919,-905.57909448102919,null,905.57909448102919,-905.57909448102919,{"$f":"IF(C161>0,L163,\"\")","v":76.91306830765663},{"$f":"O162","v":462.02774841541464},{"$f":"$R$165/2","v":906.41522996686899},null,null,"Panel A",{"$f":"D163","v":33.595991288096215},{"$f":"E163","v":76.270699515285088},{"$f":"AM163-100*Panels!X6","v":-66.321963082635293},{"$f":"AN163+100*Panels!Y6","v":80.320686474327843},{"$f":"(AP163-AN163)/(AO163-AM163)","v":-4.0533125248099537E-2},{"$f":"(AP163*AM163-AN163*AO163)/(AM163-AO163)","v":77.632450037999547}]
["S5",1,{"$f":"C161+1","v":49},{"$f":"D152","v":1.9},{"$f":"AT164","v":77.555437100028158},null,{"$f":"IF(Design!$H$19=\"x\",D164,0)","v":0},{"$f":"IF(Design!$H$19=\"x\",E164,0)","v":0},null,null,{"$f":"K163","v":17.747995644048107},{"$f":"L163","v":76.91306830765663},null,{"$f":"N163","v":28.000942139287943},462.02774841541464,1811.1615007218613,{"$f":"ATAN((E163-E164)/(D163-D164))*180/PI()","v":-2.3211064218795361},null,905.58075036093067,-905.58075036093067,3.311759802954839E-3,null,905.57909448102919,null,905.57909448102919,-905.57909448102919,null,905.57909448102919,-905.57909448102919,null,905.57909448102919,-905.57909448102919,{"$f":"IF(C161>0,L164,\"\")","v":76.91306830765663},{"$f":"AH163","v":462.02774841541464},{"$f":"-AI163","v":-906.41522996686899},null,null,"Panel A",{"$f":"Panels!C14","v":1.9},{"$f":"Panels!D14","v":0},{"$f":"Panels!C15","v":1.9},{"$f":"Panels!D15","v":76.835000000000008},{"$f":"IF(AO164<>AM164,(AP164-AN164)/(AO164-AM164),\"\")","v":""},{"$f":"IF(AQ164<>\"\",(AP164*AM164-AN164*AO164)/(AM164-AO164),AM164)","v":1.9},{"$f":"IF(AQ164<>\"\",(AR163-AR164)/(AQ164-AQ163),AM164)","v":1.9},{"$f":"AS164*AQ163+AR163","v":77.555437100028158}]
[null,null,null,null,null,null,null,null,null,null,{"$f":"K164","v":17.747995644048107},{"$f":"L164","v":76.91306830765663},{"$f":"((D163-D164)^2+(E163-E164)^2)^0.5","v":31.722017817231027},{"$f":"((I163-I160)^2+(J163-J160)^2)^0.5","v":0.71984601287595118},{"$f":"O162+N165","v":462.7475944282906},{"$f":"((D163-D164)^2+(E163-E164)^2)^0.5*Panels!$T$114","v":1814.4994191456149},{"$f":"($O$162+O165)/2","v":462.38767142185259},{"$f":"($P$162+P165)/2","v":1812.830459933738},907.24970957280743,-907.24970957280743,0,null,907.24970957280743,null,907.24970957280743,-907.24970957280743,null,907.24970957280743,-907.24970957280743,null,907.24970957280743,-907.24970957280743,{"$f":"IF(C161>0,L165,\"\")","v":76.91306830765663},null,null,{"$f":"AJ162+N165","v":462.7475944282906}]

{"sheet":"Guides","index":3,"n_rows":30,"n_cols":30,"rows_kept":30,"cut":false,"hidden":false,"merged":[]}
["Guides",null,"x","y",null,"x","y"]
[null,null,{"$f":"AB6","v":42.295426384251904},{"$f":"AC6","v":76.83499999999998},null,{"$f":"IF(Design!$H$22=\"x\",C2,0)","v":0},{"$f":"IF(Design!$H$22=\"x\",D2,0)","v":0},null,null,null,null,null,null,null,null,null,null,null,null,null,"Intersection points"]
[null,1,{"$f":"AB7","v":32.363784754114775},{"$f":"AC7","v":0},null,{"$f":"IF(Design!$H$22=\"x\",C3,0)","v":0},{"$f":"IF(Design!$H$22=\"x\",D3,0)","v":0}]
[null,null,null,null,null,null,null,null,null,null,null,null,null,null,null,null,null,null,null,null,null,"x1","y1","x2","y2","a","b","x","y","l"]
[null,null,{"$f":"Panels!C39","v":35.548065717529553},{"$f":"Panels!D39","v":76.835000000000008},null,{"$f":"IF(Design!$H$22=\"x\",C5,0)","v":0},{"$f":"IF(Design!$H$22=\"x\",D5,0)","v":0},null,null,null,null,null,null,null,null,null,null,null,null,null,"Front",{"$f":"Panels!C19","v":0},{"$f":"Panels!D19","v":76.835000000000008},{"$f":"Panels!C18","v":120.65},{"$f":"Panels!D18","v":76.835000000000008},{"$f":"(Y5-W5)/(X5-V5)","v":0},{"$f":"(Y5*V5-W5*X5)/(V5-X5)","v":76.835000000000008}]
[null,2,{"$f":"(D6-Panels!D38)*(Panels!C39-Panels!C38)/(Panels!D39-Panels!D38)+Panels!C38","v":29.309090134030612},{"$f":"Panels!D20","v":0},null,{"$f":"IF(Design!$H$22=\"x\",C6,0)","v":0},{"$f":"IF(Design!$H$22=\"x\",D6,0)","v":0},null,null,null,null,null,null,null,null,null,null,null,null,null,"Panel",{"$f":"Panels!C51","v":36.145462410396654},{"$f":"Panels!D51","v":29.256513025873851},{"$f":"Panels!C50","v":41.190161894408035},{"$f":"Panels!D50","v":68.284248750633637},{"$f":"(Y6-W6)/(X6-V6)","v":7.7363846644292469},{"$f":"(Y6*V6-W6*X6)/(V6-X6)","v":-250.37868805462261},{"$f":"(AA5-AA6)/(Z6-Z5)","v":42.295426384251904},{"$f":"AB6*Z6+AA6","v":76.83499999999998},{"$f":"(AB6^2+AC6^2)^0.5","v":87.707014075418556}]
[null,null,null,null,null,null,null,null,null,null,null,null,null,null,null,null,null,null,null,null,"Back",{"$f":"Panels!C20","v":0},{"$f":"Panels!D20","v":0},{"$f":"Panels!C21","v":120.65},{"$f":"Panels!D21","v":0},{"$f":"(Y7-W7)/(X7-V7)","v":0},{"$f":"(Y7*V7-W7*X7)/(V7-X7)","v":0},{"$f":"(AA6-AA7)/(Z7-Z6)","v":32.363784754114775},{"$f":"AB7*Z7+AA7","v":0},{"$f":"(AB7^2+AC7^2)^0.5","v":32.363784754114775}]
[null,null,{"$f":"AB14","v":109.13472187516774},{"$f":"AC14","v":76.835000000000036},null,{"$f":"IF(Design!$H$22=\"x\",C8,0)","v":0},{"$f":"IF(Design!$H$22=\"x\",D8,0)","v":0}]
[null,3,{"$f":"AB15","v":105.48041079869948},{"$f":"AC15","v":0},null,{"$f":"IF(Design!$H$22=\"x\",C9,0)","v":0},{"$f":"IF(Design!$H$22=\"x\",D9,0)","v":0},null,null,null,null,null,null,null,null,null,null,null,null,null,"Front",{"$f":"V5","v":0},76.835000000000008,120.65,76.835000000000008,{"$f":"(Y9-W9)/(X9-V9)","v":0},{"$f":"(Y9*V9-W9*X9)/(V9-X9)","v":76.835000000000008}]
[null,null,null,null,null,null,null,null,null,null,null,null,null,null,null,null,null,null,null,null,"Panel",36.145462410396654,29.256513025873851,41.190161894408035,68.284248750633637,{"$f":"(Y10-W10)/(X10-V10)","v":7.7363846644292469},{"$f":"(Y10*V10-W10*X10)/(V10-X10)","v":-250.37868805462261},{"$f":"(AA9-AA10)/(Z10-Z9)","v":42.295426384251904},{"$f":"AB10*Z10+AA10","v":76.83499999999998},{"$f":"(AB10^2+AC10^2)^0.5","v":87.707014075418556}]
[null,null,{"$f":"Panels!C69","v":90.611643312677913},{"$f":"Panels!D20","v":0},null,{"$f":"IF(Design!$H$22=\"x\",C11,0)","v":0},{"$f":"IF(Design!$H$22=\"x\",D11,0)","v":0},null,null,null,null,null,null,null,null,null,null,null,null,null,"Back",0,0,120.65,0,{"$f":"(Y11-W11)/(X11-V11)","v":0},{"$f":"(Y11*V11-W11*X11)/(V11-X11)","v":0},{"$f":"(AA10-AA11)/(Z11-Z10)","v":32.363784754114775},{"$f":"AB11*Z11+AA11","v":0},{"$f":"(AB11^2+AC11^2)^0.5","v":32.363784754114775}]
[null,4,{"$f":"Panels!C69","v":90.611643312677913},{"$f":"Panels!D19","v":76.835000000000008},null,{"$f":"IF(Design!$H$22=\"x\",C12,0)","v":0},{"$f":"IF(Design!$H$22=\"x\",D12,0)","v":0}]
[null,null,null,null,null,null,null,null,null,null,null,null,null,null,null,null,null,null,null,null,"Front",{"$f":"V9","v":0},{"$f":"W9","v":76.835000000000008},{"$f":"X9","v":120.65},{"$f":"Y9","v":76.835000000000008},{"$f":"(Y13-W13)/(X13-V13)","v":0},{"$f":"(Y13*V13-W13*X13)/(V13-X13)","v":76.835000000000008}]
[null,null,{"$f":"Panels!C20","v":0},{"$f":"(C14-Panels!C43)*(Panels!D44-Panels!D43)/(Panels!C44-Panels!C43)+Panels!D43","v":30.194698720530731},null,{"$f":"IF(Design!$H$22=\"x\",C14,0)","v":0},{"$f":"IF(Design!$H$22=\"x\",D14,0)","v":0},null,null,null,null,null,null,null,null,null,null,null,null,null,"Panel",{"$f":"Panels!C74","v":106.1927286465103},{"$f":"Panels!D74","v":14.977088893438969},{"$f":"Panels!C75","v":108.57987060189097},{"$f":"Panels!D75","v":65.168779831512538},{"$f":"(Y14-W14)/(X14-V14)","v":21.025850944867521},{"$f":"(Y14*V14-W14*X14)/(V14-X14)","v":-2217.8153950568499},{"$f":"(AA13-AA14)/(Z14-Z13)","v":109.13472187516774},{"$f":"AB14*Z14+AA14","v":76.835000000000036},{"$f":"(AB14^2+AC14^2)^0.5","v":133.46911531800239}]
[null,5,{"$f":"Panels!C21","v":120.65},{"$f":"(C15-Panels!C43)*(Panels!D44-Panels!D43)/(Panels!C44-Panels!C43)+Panels!D43","v":20.397960200986937},null,{"$f":"IF(Design!$H$22=\"x\",C15,0)","v":0},{"$f":"IF(Design!$H$22=\"x\",D15,0)","v":0},null,null,null,null,null,null,null,null,null,null,null,null,null,"Back",{"$f":"V11","v":0},{"$f":"W11","v":0},{"$f":"X11","v":120.65},{"$f":"Y11","v":0},{"$f":"(Y15-W15)/(X15-V15)","v":0},{"$f":"(Y15*V15-W15*X15)/(V15-X15)","v":0},{"$f":"(AA14-AA15)/(Z15-Z14)","v":105.48041079869948},{"$f":"AB15*Z15+AA15","v":0},{"$f":"(AB15^2+AC15^2)^0.5","v":105.48041079869948}]
[]
[null,null,{"$f":"Panels!C20","v":0},{"$f":"Panels!D20","v":0},null,{"$f":"IF(Design!$H$22=\"x\",C17,0)","v":0},{"$f":"IF(Design!$H$22=\"x\",D17,0)","v":0}]
[null,6,{"$f":"Panels!C21","v":120.65},{"$f":"Panels!D21","v":0},null,{"$f":"IF(Design!$H$22=\"x\",C18,0)","v":0},{"$f":"IF(Design!$H$22=\"x\",D18,0)","v":0}]
[]
[null,null,{"$f":"Panels!C20","v":0},{"$f":"(C20-Panels!C54)*(Panels!D55-Panels!D54)/(Panels!C55-Panels!C54)+Panels!D54","v":70.332892850605148},null,{"$f":"IF(Design!$H$22=\"x\",C20,0)","v":0},{"$f":"IF(Design!$H$22=\"x\",D20,0)","v":0}]
[null,7,{"$f":"Panels!C21","v":120.65},{"$f":"(C21-Panels!C54)*(Panels!D55-Panels!D54)/(Panels!C55-Panels!C54)+Panels!D54","v":64.594718433010357},null,{"$f":"IF(Design!$H$22=\"x\",C21,0)","v":0},{"$f":"IF(Design!$H$22=\"x\",D21,0)","v":0}]
[]
[null,null,{"$f":"Panels!C23","v":0},{"$f":"Panels!D62","v":48.229287296147568},null,{"$f":"IF(Design!$H$22=\"x\",C23,0)","v":0},{"$f":"IF(Design!$H$22=\"x\",D23,0)","v":0}]
[null,8,{"$f":"Panels!C21","v":120.65},{"$f":"D23","v":48.229287296147568},null,{"$f":"IF(Design!$H$22=\"x\",C24,0)","v":0},{"$f":"IF(Design!$H$22=\"x\",D24,0)","v":0}]
[]
[null,null,{"$f":"Panels!C20","v":0},{"$f":"Panels!D20","v":0},null,{"$f":"IF(Design!$H$22=\"x\",C26,0)","v":0},{"$f":"IF(Design!$H$22=\"x\",D26,0)","v":0}]
[null,9,{"$f":"Panels!C19","v":0},{"$f":"Panels!D19","v":76.835000000000008},null,{"$f":"IF(Design!$H$22=\"x\",C27,0)","v":0},{"$f":"IF(Design!$H$22=\"x\",D27,0)","v":0}]
[]
[null,null,{"$f":"Panels!C23","v":0},{"$f":"Panels!D23","v":0},null,{"$f":"IF(Design!$H$22=\"x\",C29,0)","v":0},{"$f":"IF(Design!$H$22=\"x\",D29,0)","v":0}]
[null,10,{"$f":"Panels!C21","v":120.65},{"$f":"Panels!D21","v":0},null,{"$f":"IF(Design!$H$22=\"x\",C30,0)","v":0},{"$f":"IF(Design!$H$22=\"x\",D30,0)","v":0}]

{"sheet":"Layout","index":4,"n_rows":0,"n_cols":0,"rows_kept":0,"cut":false,"hidden":false,"merged":[]}

{"sheet":"Instructions","index":5,"n_rows":12,"n_cols":3,"rows_kept":12,"cut":false,"hidden":false,"merged":[]}
[]
[null,"Instructions"]
[]
[null,1,{"$f":"CONCATENATE(\"Cut out the side panels, \",Design!$E$51,\"cm x \",Design!$F$51,\"cm (2 are required)\")","v":"Cut out the side panels, 120.7cm x 76.8cm (2 are required)"}]
[null,{"$f":"B4+1","v":2},"Draw out the guides on the side panels as illustrated. One panel must mirror the other"]
[null,3,{"$f":"CONCATENATE(\"Prepare the speaker baffle.  This panel should be \",ROUND(Design!$E$50,1),\"cm x \",ROUND(Design!$F$50,1),\" cm. Cut the mounting hole for the speaker so that it is \",Design!D18,\" cm from one of the ends that measures \",Design!E49,\" cm.\")","v":"Prepare the speaker baffle.  This panel should be 57.2cm x 47.5 cm. Cut the mounting hole for the speaker so that it is 18 cm from one of the ends that measures 57.2 cm."}]
[null,4,"Using the guides on the side panel, join the speaker baffle and all of the internal panels to the side panel."]
[null,5,"Cut out and join all the rest of the bracing panels to the internal panels."]
[null,6,{"$f":"CONCATENATE(\"Cut out the front panel (\",ROUND(Design!E53,1),\"cm x \",ROUND(Design!F53,1),\"cm), top and bottom panels (\",ROUND(Design!E49,1),\"cm x \",ROUND(Design!F49,1),\"cm), and back panel (\",ROUND(Design!E52,1),\"cm x \",ROUND(Design!F52,1),\"cm)\")","v":"Cut out the front panel (57.2cm x 83.2cm), top and bottom panels (57.2cm x 76.8cm), and back panel (57.2cm x 116.9cm)"}]
[null,7,"Join the front panel, top and bottom panels and back panels to the side panel to which the other panels have already been joined.  "]
[null,8,"Double-check to ensure that all joins are airtight. "]
[null,9,"Finally, join the remaining side panel to the rest of the box.  This should complete the build. Again, ensure that all joins are airtight."]

{"sheet":"Bracing","index":6,"n_rows":24,"n_cols":28,"rows_kept":24,"cut":false,"hidden":false,"merged":[]}
["Bracing",null,"x","y",null,"x","y",null,null,null,null,null,null,null,null,null,null,null,"Intersection points"]
[null,null,{"$f":"C8","v":67.425725035915377},{"$f":"D8","v":24.719753029129816},null,{"$f":"IF(Design!$H$21=\"x\",C2,0)","v":0},{"$f":"IF(Design!$H$21=\"x\",D2,0)","v":0}]
[null,1,{"$f":"C4","v":88.711643312677907},{"$f":"Panels!D60","v":46.329287296147569},null,{"$f":"IF(Design!$H$21=\"x\",C3,0)","v":0},{"$f":"IF(Design!$H$21=\"x\",D3,0)","v":0},null,null,null,null,null,null,null,null,null,null,null,null,"x1","y1","x2","y2","a","b","x","y","l"]
[null,null,{"$f":"Panels!C70","v":88.711643312677907},{"$f":"Panels!D25","v":1.9},null,{"$f":"IF(Design!$H$21=\"x\",C4,0)","v":0},{"$f":"IF(Design!$H$21=\"x\",D4,0)","v":0},null,null,null,null,null,null,null,null,null,null,null,"Guide 1",{"$f":"Guides!C9","v":105.48041079869948},{"$f":"Guides!D9","v":0},{"$f":"Guides!C8","v":109.13472187516774},{"$f":"Guides!D8","v":76.835000000000036},{"$f":"(W4-U4)/(V4-T4)","v":21.025850944867521},{"$f":"(W4*T4-U4*V4)/(T4-V4)","v":-2217.8153950568499}]
[null,null,{"$f":"Panels!C24","v":1.9},{"$f":"Panels!D24","v":1.9},null,{"$f":"IF(Design!$H$21=\"x\",C5,0)","v":0},{"$f":"IF(Design!$H$21=\"x\",D5,0)","v":0},null,null,null,null,null,null,null,null,null,null,null,"Guide 2",{"$f":"Guides!C23","v":0},{"$f":"Guides!D23","v":48.229287296147568},{"$f":"Guides!C24","v":120.65},{"$f":"Guides!D24","v":48.229287296147568},{"$f":"(W5-U5)/(V5-T5)","v":0},{"$f":"(W5*T5-U5*V5)/(T5-V5)","v":48.229287296147568},{"$f":"(Y4-Y5)/(X5-X4)","v":107.77421985416225},{"$f":"Z5*X5+Y5","v":48.229287296147568},{"$f":"(Z5^2+AA5^2)^0.5","v":118.07347974150521}]
[null,null,{"$f":"C5","v":1.9},{"$f":"(Guides!D20+Guides!D14)/2","v":50.263795785567936},null,{"$f":"IF(Design!$H$21=\"x\",C6,0)","v":0},{"$f":"IF(Design!$H$21=\"x\",D6,0)","v":0}]
[null,null,{"$f":"Z8","v":29.659082142302481},{"$f":"AA8","v":27.78639144761064},null,{"$f":"IF(Design!$H$21=\"x\",C7,0)","v":0},{"$f":"IF(Design!$H$21=\"x\",D7,0)","v":0},null,null,null,null,null,null,null,null,null,null,null,"Guide 3",{"$f":"Guides!C14","v":0},{"$f":"Guides!D14","v":30.194698720530731},{"$f":"Guides!C15","v":120.65},{"$f":"Guides!D15","v":20.397960200986937},{"$f":"(W7-U7)/(V7-T7)","v":-8.1199656191825897E-2},{"$f":"(W7*T7-U7*V7)/(T7-V7)","v":30.194698720530731}]
[null,null,{"$f":"Panels!C44","v":67.425725035915377},{"$f":"Panels!D44","v":24.719753029129816},null,{"$f":"IF(Design!$H$21=\"x\",C8,0)","v":0},{"$f":"IF(Design!$H$21=\"x\",D8,0)","v":0},null,null,null,null,null,null,null,null,null,null,null,"Panel B",{"$f":"Panels!C36","v":33.654298627389551},{"$f":"Panels!D36","v":76.98877323662677},{"$f":"Panels!C37","v":29.81285537892925},{"$f":"Panels!D37","v":29.68015853775065},{"$f":"(W8-U8)/(V8-T8)","v":12.31532308015692},{"$f":"(W8*T8-U8*V8)/(T8-V8)","v":-337.47478739575706},{"$f":"(Y7-Y8)/(X8-X7)","v":29.659082142302481},{"$f":"Z8*X8+Y8","v":27.78639144761064},{"$f":"(Z8^2+AA8^2)^0.5","v":40.641662160936477}]
[null,null,{"$f":"C2","v":67.425725035915377},{"$f":"D2","v":24.719753029129816},null,{"$f":"IF(Design!$H$21=\"x\",C9,0)","v":0},{"$f":"IF(Design!$H$21=\"x\",D9,0)","v":0}]
[null,null,null,null,null,null,null,null,null,null,null,null,null,null,null,null,null,null,"Guide 3",{"$f":"Guides!C8","v":109.13472187516774},{"$f":"Guides!D8","v":76.835000000000036},{"$f":"Guides!C9","v":105.48041079869948},{"$f":"Guides!D9","v":0},{"$f":"(W10-U10)/(V10-T10)","v":21.025850944867521},{"$f":"(W10*T10-U10*V10)/(T10-V10)","v":-2217.8153950568499}]
[null,null,{"$f":"Panels!C32","v":35.548065717529553},{"$f":"Panels!D32","v":74.935000000000002},null,{"$f":"IF(Design!$H$21=\"x\",C11,0)","v":0},{"$f":"IF(Design!$H$21=\"x\",D11,0)","v":0},null,null,null,null,null,null,null,null,null,null,null,"Panel I",{"$f":"Panels!C62","v":58.709464221163657},{"$f":"Panels!D62","v":48.229287296147568},{"$f":"Panels!C63","v":90.611643312677913},{"$f":"Panels!D63","v":48.229287296147568},{"$f":"(W11-U11)/(V11-T11)","v":0},{"$f":"(W11*T11-U11*V11)/(T11-V11)","v":48.229287296147575},{"$f":"(Y10-Y11)/(X11-X10)","v":107.77421985416225},{"$f":"Z11*X11+Y11","v":48.229287296147575},{"$f":"(Z11^2+AA11^2)^0.5","v":118.07347974150521}]
[null,2,{"$f":"Panels!C54","v":43.074485485083265},{"$f":"Panels!D54","v":68.284248750633637},null,{"$f":"IF(Design!$H$21=\"x\",C12,0)","v":0},{"$f":"IF(Design!$H$21=\"x\",D12,0)","v":0}]
[null,null,{"$f":"Panels!C75","v":108.57987060189097},{"$f":"Panels!D75","v":65.168779831512538},null,{"$f":"IF(Design!$H$21=\"x\",C13,0)","v":0},{"$f":"IF(Design!$H$21=\"x\",D13,0)","v":0}]
[null,null,{"$f":"Panels!C74","v":106.1927286465103},{"$f":"Panels!D73","v":15.067351815142317},null,{"$f":"IF(Design!$H$21=\"x\",C14,0)","v":0},{"$f":"IF(Design!$H$21=\"x\",D14,0)","v":0},null,null,null,null,null,null,null,null,null,null,null,"Panel G",{"$f":"Panels!C57","v":42.984222563379923},{"$f":"Panels!D57","v":66.386394013050818},{"$f":"Panels!C56","v":106.59175294260481},{"$f":"Panels!D56","v":63.361188015633054},{"$f":"(W14-U14)/(V14-T14)","v":-4.7560500767466339E-2},{"$f":"(W14*T14-U14*V14)/(T14-V14)","v":68.430745163265385}]
[null,null,{"$f":"Panels!C25","v":118.75},{"$f":"Panels!D25","v":1.9},null,{"$f":"IF(Design!$H$21=\"x\",C15,0)","v":0},{"$f":"IF(Design!$H$21=\"x\",D15,0)","v":0},null,null,null,null,null,null,null,null,null,null,null,"Guide",{"$f":"Panels!C61","v":58.709464221163657},{"$f":"Panels!D61","v":46.329287296147569},{"$f":"Panels!C62","v":58.709464221163657},{"$f":"Panels!D62","v":48.229287296147568},{"$f":"IF((V15<>T15),(W15-U15)/(V15-T15),\"vertical\")","v":"vertical"},{"$f":"IF((V15<>T15),(W15*T15-U15*V15)/(T15-V15),\"vertical\")","v":"vertical"},{"$f":"IF((V15<>T15),(Y14-Y15)/(X15-X14),T15)","v":58.709464221163657},{"$f":"IF((V15<>T15),Z15*X15+Y15,T15*X14+Y14)","v":65.638493645117194},{"$f":"(Z15^2+AA15^2)^0.5","v":88.063687392342288}]
[null,null,{"$f":"Panels!C33","v":118.75},{"$f":"Panels!D33","v":74.935000000000002},null,{"$f":"IF(Design!$H$21=\"x\",C16,0)","v":0},{"$f":"IF(Design!$H$21=\"x\",D16,0)","v":0}]
[null,null,{"$f":"C11","v":35.548065717529553},{"$f":"D11","v":74.935000000000002},null,{"$f":"IF(Design!$H$21=\"x\",C17,0)","v":0},{"$f":"IF(Design!$H$21=\"x\",D17,0)","v":0}]
[null,null,null,null,null,null,null,null,null,null,null,null,null,null,null,null,null,null,"Panel F",{"$f":"Panels!C45","v":67.579498272542139},{"$f":"Panels!D45","v":26.613520119269818},{"$f":"Panels!C46","v":29.81285537892925},{"$f":"Panels!D46","v":29.68015853775065},{"$f":"(W18-U18)/(V18-T18)","v":-8.1199656191825897E-2},{"$f":"(W18*T18-U18*V18)/(T18-V18)","v":32.100952144616336}]
[null,null,null,null,null,null,null,null,null,null,null,null,null,null,null,null,null,null,"Guide",{"$f":"T15","v":58.709464221163657},{"$f":"U15","v":46.329287296147569},{"$f":"V15","v":58.709464221163657},{"$f":"W15","v":48.229287296147568},{"$f":"IF((V19<>T19),(W19-U19)/(V19-T19),\"vertical\")","v":"vertical"},{"$f":"IF((V19<>T19),(W19*T19-U19*V19)/(T19-V19),\"vertical\")","v":"vertical"},{"$f":"IF((V19<>T19),(Y18-Y19)/(X19-X18),T19)","v":58.709464221163657},{"$f":"IF((V19<>T19),Z19*X19+Y19,T19*X18+Y18)","v":27.333763834651542},{"$f":"(Z19^2+AA19^2)^0.5","v":64.760604031344556}]
[null,null,{"$f":"Panels!C48","v":38.029786001071884},{"$f":"Panels!D48","v":29.012946596280582},null,{"$f":"IF(Design!$H$21=\"x\",C20,0)","v":0},{"$f":"IF(Design!$H$21=\"x\",D20,0)","v":0}]
[null,3,{"$f":"Panels!C57","v":42.984222563379923},{"$f":"Panels!D57","v":66.386394013050818},null,{"$f":"IF(Design!$H$21=\"x\",C21,0)","v":0},{"$f":"IF(Design!$H$21=\"x\",D21,0)","v":0}]
[null,null,{"$f":"Z15","v":58.709464221163657},{"$f":"AA15","v":65.638493645117194},null,{"$f":"IF(Design!$H$21=\"x\",C22,0)","v":0},{"$f":"IF(Design!$H$21=\"x\",D22,0)","v":0}]
[null,null,{"$f":"Z19","v":58.709464221163657},{"$f":"AA19","v":27.333763834651542},null,{"$f":"IF(Design!$H$21=\"x\",C23,0)","v":0},{"$f":"IF(Design!$H$21=\"x\",D23,0)","v":0}]
[null,null,{"$f":"C20","v":38.029786001071884},{"$f":"D20","v":29.012946596280582},null,{"$f":"IF(Design!$H$21=\"x\",C24,0)","v":0},{"$f":"IF(Design!$H$21=\"x\",D24,0)","v":0}]