{"text_format":"1","workbook":"xlsx","n_sheets":4,"sheets":["Information","Panel Calculations","Path Calculations","Guides"],"not_rendered":{"charts":5,"images":0,"macros":1,"external_links":0,"defined_names":0,"comments":0,"pivot_tables":0},"unopened":[],"bounds":{"document_bytes":16777216,"sheet_cells":100000,"rows_first":2000,"rows_last":500,"rows_between":2000,"halvings":0,"cell_chars":16384,"cell_head_chars":4096},"cells_cut":0,"cells_raw":0,"read":"whole","date_system":"1900"}

{"sheet":"Information","index":0,"n_rows":113,"n_cols":11,"rows_kept":113,"cut":false,"hidden":false,"merged":[[14,8,14,10],[9,8,9,10],[6,8,6,10],[4,8,4,10],[5,8,5,10],[7,8,7,10],[8,8,8,10],[73,3,73,17],[75,3,75,7],[76,3,76,7],[77,3,77,7],[78,3,78,7],[79,3,79,7],[80,3,80,7],[81,3,81,7],[82,3,82,7],[83,3,83,7],[84,3,84,7],[85,3,85,7],[86,3,86,7],[87,3,87,7],[88,3,88,7],[89,3,89,7],[90,3,90,7],[91,3,91,7],[92,3,92,7],[93,3,93,7],[94,3,94,7],[95,3,95,7],[96,3,96,7],[97,3,97,7],[98,3,98,7],[99,3,99,7],[100,3,100,7],[101,3,101,7],[102,3,102,7],[103,3,103,7],[109,3,109,7],[110,3,110,7],[111,3,111,7],[112,3,112,7],[104,3,104,7],[105,3,105,7],[106,3,106,7],[107,3,107,7],[108,3,108,7]]}
[null,"MLTL-2","=",0.1]
[]
[null,"Driver Dimensions"]
[null,"Frame Width","=",21.6,"cm",{"$f":"D4/2.54","v":8.5039370078740166},"in",null,"Plot"]
[null,"Mounting Width","=",18,"cm",{"$f":"D5/2.54","v":7.0866141732283463},"in","x",{"$f":"CONCATENATE('Panel Calculations'!B31,\" \",'Panel Calculations'!C31)","v":"Panel A (baffle)"}]
[null,"Mounting Depth","=",10.199999999999999,"cm",{"$f":"D6/2.54","v":4.015748031496063},"in","x",{"$f":"CONCATENATE('Panel Calculations'!B37,\" \",'Panel Calculations'!C37)","v":"Panel B (top)"}]
[null,"Magnet Width","=",15.2,"cm",{"$f":"D7/2.54","v":5.984251968503937},"in","x",{"$f":"CONCATENATE('Panel Calculations'!B43,\" \",'Panel Calculations'!C43)","v":"Panel C (bottom)"}]
[null,"Magnet Height","=",5.0999999999999996,"cm",{"$f":"D8/2.54","v":2.0078740157480315},"in","x",{"$f":"CONCATENATE('Panel Calculations'!B49,\" \",'Panel Calculations'!C49)","v":"Panel D (back)"}]
[null,null,null,null,null,null,null,"x",{"$f":"CONCATENATE('Panel Calculations'!B55,\" \",'Panel Calculations'!C55)","v":"Panel E (1st inside)"}]
[null,"Box Dimensions",null,null,null,null,null,"x",{"$f":"CONCATENATE('Panel Calculations'!B61,\" \",'Panel Calculations'!C61)","v":"Panel F (2nd inside)"}]
[null,"Depth","=",{"$f":"12.5*2.54","v":31.75},"cm",{"$f":"D11/2.54","v":12.5},"in","x",{"$f":"CONCATENATE('Panel Calculations'!B67,\" \",'Panel Calculations'!C67)","v":"Panel G (sides)"}]
[null,"Height","=",{"$f":"21*2.54","v":53.34},"cm",{"$f":"D12/2.54","v":21},"in","x","Panel I"]
[null,"Width","=",{"$f":"10.5*2.54","v":26.67},"cm",{"$f":"D13/2.54","v":10.5},"in","x","Panel J"]
[null,null,null,null,null,null,null,"x","Panel K"]
[null,"Box Parameters",null,null,null,null,null,"x",{"$f":"CONCATENATE('Panel Calculations'!B73,\" \",'Panel Calculations'!C73)","v":"Panel H (port separator)"}]
[null,"Panel Thickness","=",1.9,"cm",{"$f":"D16/2.54","v":0.74803149606299213},"in"]
[null,"Separator Thickness",null,0,"cm",{"$f":"D17/2.54","v":0},"in","x","Profile View"]
[null,"Baffle Offset","=",1.9,"cm",{"$f":"D18/2.54","v":0.74803149606299213},"in"]
[null,"Driver Offset","=",5,"cm",{"$f":"D19/2.54","v":1.9685039370078741},"in",null,"Plot"]
[null,null,null,null,null,null,null,"x","Advanced Centerline"]
[null,"Baffle Width","=",{"$f":"D13-2*D52","v":22.87},"cm",{"$f":"D21/2.54","v":9.0039370078740166},"in","x","Sample points"]
[null,null,null,null,null,null,null,"x","Guide lines"]
[null,"HornResp Params",null,null,null,null,null,"x","Driver"]
[null,"S1","=",{"$f":"ROUND('Path Calculations'!P7,0)","v":510},"cm^2"]
[null,"S2","=",{"$f":"ROUND('Path Calculations'!P89,0)","v":306},"cm^2"]
[null,"S3","=",{"$f":"ROUND('Path Calculations'!P70,0)","v":68},"cm^2"]
[null,"S4","=",68.499999999999531,"cm^2"]
[null,"L12","=",{"$f":"ROUND('Path Calculations'!O89,1)","v":35},"cm"]
[null,"L23","=",{"$f":"ROUND('Path Calculations'!O70-Information!D28,1)","v":40.700000000000003},"cm"]
[null,"L34","=",{"$f":"ROUND('Path Calculations'!O85-Information!D29-Information!D28,1)","v":48.6},"cm"]
[]
[null,"L (actual)","=",{"$f":"SUM(D28:D30)","v":124.30000000000001},"cm"]
[]
[]
[]
[null,null,null,null,null,null,null,0.05,null,null,50]
[]
[null,"Box Design"]
[null,"Vol. (net)","=",{"$f":"D40-I59","v":27.374633771999711},"l.",{"$f":"(D39*1000/2.54^3)/1728","v":0.96672606828097596},"cu.ft."]
[null,"Vol. (gross)","=",{"$f":"D11*D12*D13/1000","v":45.166845150000007},"l.",{"$f":"D40*0.0353","v":1.5943896337950001},"cu.ft."]
[]
[null,"Expansion","=",null,null,14.526434725743199,{"$f":"'Path Calculations'!S34","v":-7.8235233440295815E-3}]
[]
[null,"Panels",null,"p","x","y","Goals","#","v"]
[null,{"$f":"I5","v":"Panel A (baffle)"},null,{"$f":"$D$16","v":1.9},{"$f":"D21","v":22.87},{"$f":"'Panel Calculations'!L32","v":44.644809794490627},null,1,{"$f":"F45*E45*D45*H45/10^3","v":1.9399509200000011}]
[null,{"$f":"I6","v":"Panel B (top)"},null,{"$f":"$D$16","v":1.9},{"$f":"D21","v":22.87},{"$f":"'Panel Calculations'!L38","v":31.75},null,1,1.3796327500000001]
[null,{"$f":"I7","v":"Panel C (bottom)"},null,{"$f":"$D$16","v":1.9},{"$f":"D21","v":22.87},{"$f":"'Panel Calculations'!L44","v":31.75},null,1,1.3796327500000001]
[null,{"$f":"I8","v":"Panel D (back)"},null,{"$f":"$D$16","v":1.9},{"$f":"D21","v":22.87},{"$f":"'Panel Calculations'!L51","v":49.540000000000006},null,1,2.1526616200000004]
[null,{"$f":"I9","v":"Panel E (1st inside)"},null,{"$f":"$D$16","v":1.9},{"$f":"D21","v":22.87},10.467257450585555,{"$f":"'Path Calculations'!S25","v":-1.1058741408760397E-3},1,0.45483373800029414]
[null,null,null,null,null,17.347983170739472,{"$f":"'Path Calculations'!S61","v":4.4629966069464899E-5}]
[null,{"$f":"I10","v":"Panel F (2nd inside)"},null,{"$f":"$D$16","v":1.9},{"$f":"D21","v":22.87},{"$f":"'Panel Calculations'!L62","v":26.85480979449062},null,1,1.166922050000001]
[null,{"$f":"I11","v":"Panel G (sides)"},null,{"$f":"$D$16","v":1.9},{"$f":"'Panel Calculations'!L68","v":31.75},{"$f":"'Panel Calculations'!L71","v":53.34},null,2,{"$f":"F52*E52*D52*H52/10^3","v":6.4354709999999997}]
[null,{"$f":"I15","v":"Panel H (port separator)"},null,{"$f":"D17","v":0},{"$f":"'Panel Calculations'!L74","v":29.85},{"$f":"'Panel Calculations'!L75","v":2.9951902055093798},{"$f":"'Path Calculations'!S49","v":3.109225824360351E-2},2,{"$f":"F53*E53*D53*H53/10^3","v":0}]
[null,{"$f":"I12","v":"Panel I"},null,{"$f":"D16","v":1.9},{"$f":"D21","v":22.87},17.3,null,2,{"$f":"F54*E54*D54*H54/10^3","v":1.5034738000000001}]
[null,{"$f":"I13","v":"Panel J"},null,{"$f":"D17","v":0},{"$f":"'Panel Calculations'!L86","v":2.9951902055093811},{"$f":"'Panel Calculations'!L87","v":19.200000000000003},null,2,0]
[null,{"$f":"I14","v":"Panel K"},null,{"$f":"D16","v":1.9},{"$f":"D21","v":22.87},13.794138945196639,{"$f":"'Path Calculations'!S37","v":-2.1242527736831107E-8}]
[null,"Baffle Offset",null,{"$f":"D18","v":1.9},{"$f":"D21","v":22.87},{"$f":"F46","v":31.75},null,1,{"$f":"F57*E57*D57*H57/10^3","v":1.3796327500000001}]
[]
[null,null,null,null,null,null,null,"Pnl Vol",{"$f":"SUM(I45:I58)","v":17.792211378000296},"l"]
[]
[]
[]
[]
[]
[null,"Equivalent Vented"]
[null,"Net Volume","=",{"$f":"D39","v":27.374633771999711},"l.",{"$f":"D66*0.0353","v":0.96632457215158973},"cu.ft.",null,"Axes","x","y"]
[null,"Vent Area","=",{"$f":"D27","v":68.499999999999531},"cm^2",{"$f":"D67/2.54^2","v":10.617521235042398},"in^2",null,"Axis 1",0,0]
[null,"Vent Length","=",{"$f":"D30","v":48.6},"cm",{"$f":"D68/2.54","v":19.133858267716537},"in",null,null,{"$f":"J67","v":0},{"$f":"MAX('Panel Calculations'!D3:E65)","v":68.42}]
[null,"Equiv. Vent Dia.","=",{"$f":"2*(D67/PI())^0.5","v":9.338999347593834},"cm",{"$f":"D69/2.54","v":3.6767713966904858},"in",null,"Axis 2",0,0]
[null,"Port Ratio","=",{"$f":"D21/(D67/D21)","v":7.635575182481805},null,null,null,null,null,{"$f":"K68","v":68.42},{"$f":"K69","v":0}]
[null,"Sd/Vent","=",{"$f":"D97/D67","v":3.1941605839416281}]
[]
[]
[null,"Filename","=","I:\\Users\\Brian.Steele\\OneDrive\\Hornresp\\Import\\BOXPLAN.TXT"]
[]
[null,"ID","=","29.00",null,null,null,null,null,{"$f":"CONCATENATE(B76,C76,D76)","v":"ID=29.00"}]
[null,"Ang","=","2.0 x PI",null,null,null,null,null,{"$f":"CONCATENATE(B77,C77,D77)","v":"Ang=2.0 x PI"}]
[null,"Eg","=",2.83,null,null,null,null,null,"Eg=2.83"]
[null,"Rg","=",0,null,null,null,null,null,"Rg=0"]
[null,"Fta","=",0,null,null,null,null,null,"Fta=0"]
[null,"S1","=",{"$f":"D24","v":510},null,null,null,null,null,"S1=510"]
[null,"S2","=",{"$f":"D25","v":306},null,null,null,null,null,"S2=306"]
[null,"Par","=",{"$f":"D28","v":35},null,null,null,null,null,"Par=35"]
[null,"F12","=",0,null,null,null,null,null,"F12=0"]
[null,"S2","=",{"$f":"D82","v":306},null,null,null,null,null,"S2=306"]
[null,"S3","=",{"$f":"D26","v":68},null,null,null,null,null,"S3=68"]
[null,"Par","=",{"$f":"D29","v":40.700000000000003},null,null,null,null,null,"Par=40.7"]
[null,"F23","=",0,null,null,null,null,null,"F23=0"]
[null,"S3","=",{"$f":"D86","v":68},null,null,null,null,null,"S3=68"]
[null,"S4","=",{"$f":"D27","v":68.499999999999531},null,null,null,null,null,"S4=68.4999999999995"]
[null,"Par","=",{"$f":"D30","v":48.6},null,null,null,null,null,"Par=48.6"]
[null,"F34","=",0,null,null,null,null,null,"F34=0"]
[null,"S4","=",0,null,null,null,null,null,"S4=0"]
[null,"S5","=",0,null,null,null,null,null,"S5=0"]
[null,"L45","=",0,null,null,null,null,null,"L45=0"]
[null,"F45","=",0,null,null,null,null,null,"F45=0"]
[null,"Sd","=",218.8,null,null,null,null,null,"Sd=218.8"]
[null,"Bl","=",11.04,null,null,null,null,null,"Bl=11.04"]
[null,"Cms","=",3.9399999999999998E-4,null,null,null,null,null,"Cms=0.000394"]
[null,"Rms","=",1.99,null,null,null,null,null,"Rms=1.99"]
[null,"Mmd","=",59.76,null,null,null,null,null,"Mmd=59.76"]
[null,"Le","=",1.78,null,null,null,null,null,"Le=1.78"]
[null,"Re","=",3.9,null,null,null,null,null,"Re=3.9"]
[null,"OD","=",1,null,null,null,null,null,"OD=1"]
[null,"Vrc","=",0,null,null,null,null,null,"Vrc=0"]
[null,"Lrc","=",0,null,null,null,null,null,"Lrc=0"]
[null,"Ap1","=",0,null,null,null,null,null,"Ap1=0"]
[null,"Lp","=",0,null,null,null,null,null,"Lp=0"]
[null,"Vtc","=",0,null,null,null,null,null,"Vtc=0"]
[null,"Atc","=",0,null,null,null,null,null,"Atc=0"]
[null,"Pmax","=",350,null,null,null,null,null,"Pmax=350"]
[null,"Xmax","=",8,null,null,null,null,null,"Xmax=8"]
[null,"Comment","=",{"$f":"CONCATENATE(\"BOXPLAN \", B1, \" v\",D1)","v":"BOXPLAN MLTL-2 v0.1"},null,null,null,null,null,"Comment=BOXPLAN MLTL-2 v0.1"]

{"sheet":"Panel Calculations","index":1,"n_rows":140,"n_cols":18,"rows_kept":140,"cut":false,"hidden":false,"merged":[]}
[]
[null,"Offset",null,"x","y"]
[null,null,null,0,0]
[]
[null,"Driver",null,"x","y"]
[null,null,null,{"$f":"D31","v":1.9},{"$f":"'Path Calculations'!J23-Information!D4/2+Information!D19","v":11.368018962030551},null,{"$f":"IF(Information!$H$23=\"x\",'Panel Calculations'!D6,\"\")","v":1.9},{"$f":"IF(Information!$H$23=\"x\",'Panel Calculations'!E6,\"\")","v":11.368018962030551}]
[null,null,null,{"$f":"D6","v":1.9},{"$f":"E6+Information!D4","v":32.968018962030555},null,{"$f":"IF(Information!$H$23=\"x\",'Panel Calculations'!D7,\"\")","v":1.9},{"$f":"IF(Information!$H$23=\"x\",'Panel Calculations'!E7,\"\")","v":32.968018962030555}]
[null,null,null,{"$f":"D7","v":1.9},{"$f":"E7-(Information!D4-Information!D5)/2","v":31.168018962030555},null,{"$f":"IF(Information!$H$23=\"x\",'Panel Calculations'!D8,\"\")","v":1.9},{"$f":"IF(Information!$H$23=\"x\",'Panel Calculations'!E8,\"\")","v":31.168018962030555}]
[null,null,null,{"$f":"D8+Information!D6-Information!D8","v":7},{"$f":"E8-(Information!D5-Information!D7)/2","v":29.768018962030553},null,{"$f":"IF(Information!$H$23=\"x\",'Panel Calculations'!D9,\"\")","v":7},{"$f":"IF(Information!$H$23=\"x\",'Panel Calculations'!E9,\"\")","v":29.768018962030553}]
[null,null,null,{"$f":"D9+Information!D8","v":12.1},{"$f":"E9","v":29.768018962030553},null,{"$f":"IF(Information!$H$23=\"x\",'Panel Calculations'!D10,\"\")","v":12.1},{"$f":"IF(Information!$H$23=\"x\",'Panel Calculations'!E10,\"\")","v":29.768018962030553}]
[null,null,null,{"$f":"D10","v":12.1},{"$f":"E10-Information!D7","v":14.568018962030553},null,{"$f":"IF(Information!$H$23=\"x\",'Panel Calculations'!D11,\"\")","v":12.1},{"$f":"IF(Information!$H$23=\"x\",'Panel Calculations'!E11,\"\")","v":14.568018962030553}]
[null,null,null,{"$f":"D9","v":7},{"$f":"E11","v":14.568018962030553},null,{"$f":"IF(Information!$H$23=\"x\",'Panel Calculations'!D12,\"\")","v":7},{"$f":"IF(Information!$H$23=\"x\",'Panel Calculations'!E12,\"\")","v":14.568018962030553}]
[null,null,null,{"$f":"D8","v":1.9},{"$f":"E6+(Information!D4-Information!D5)/2","v":13.168018962030551},null,{"$f":"IF(Information!$H$23=\"x\",'Panel Calculations'!D13,\"\")","v":1.9},{"$f":"IF(Information!$H$23=\"x\",'Panel Calculations'!E13,\"\")","v":13.168018962030551}]
[null,null,null,{"$f":"D13","v":1.9},{"$f":"E6+Information!D4/2","v":22.168018962030551},null,{"$f":"IF(Information!$H$23=\"x\",'Panel Calculations'!D14,\"\")","v":1.9},{"$f":"IF(Information!$H$23=\"x\",'Panel Calculations'!E14,\"\")","v":22.168018962030551}]
[null,null,null,{"$f":"D12","v":7},{"$f":"E14","v":22.168018962030551},null,{"$f":"IF(Information!$H$23=\"x\",'Panel Calculations'!D15,\"\")","v":7},{"$f":"IF(Information!$H$23=\"x\",'Panel Calculations'!E15,\"\")","v":22.168018962030551}]
[null,null,null,{"$f":"D15","v":7},{"$f":"E12","v":14.568018962030553},null,{"$f":"IF(Information!$H$23=\"x\",'Panel Calculations'!D16,\"\")","v":7},{"$f":"IF(Information!$H$23=\"x\",'Panel Calculations'!E16,\"\")","v":14.568018962030553}]
[null,null,null,{"$f":"D16","v":7},{"$f":"E10","v":29.768018962030553},null,{"$f":"IF(Information!$H$23=\"x\",'Panel Calculations'!D17,\"\")","v":7},{"$f":"IF(Information!$H$23=\"x\",'Panel Calculations'!E17,\"\")","v":29.768018962030553}]
[]
[null,"Axes",null,0,0]
[null,null,null,0,{"$f":"MAX(D25:E143)","v":68.42}]
[null,null,null,null,null,null,null,null,null,null,null,null,null,null,"Expansion","Cos","Sin","Tan"]
[null,null,null,{"$f":"D19","v":0},{"$f":"E19","v":0},null,null,null,null,null,null,null,null,null,{"$f":"Information!F42","v":14.526434725743199},{"$f":"COS(Information!F42*PI()/180)","v":0.9680320187659307},{"$f":"SIN(Information!F42*PI()/180)","v":0.25082665457234959},{"$f":"TAN(Information!F42*PI()/180)","v":0.25910987416729164}]
[null,null,null,{"$f":"E20","v":68.42},{"$f":"E19","v":0},null,null,null,null,null,null,null,null,null,{"$f":"O22/2","v":7.2632173628715995},{"$f":"COS(Information!F42*PI()/(180*2))","v":0.99197581088601416},{"$f":"SIN(Information!F42*PI()/(180*2))","v":0.12642780792624164},{"$f":"TAN(Information!F42*PI()/(180*2))","v":0.12745049479918136}]
[null,null,null,null,null,null,null,null,null,"dx","dy"]
[]
[]
[]
[]
[]
[]
[null,"Panel A","(baffle)",{"$f":"D64+Information!D18","v":1.9},{"$f":"E63","v":6.79519020550938},null,{"$f":"IF(Information!$H$5=\"x\",'Panel Calculations'!D31,0)","v":1.9},{"$f":"IF(Information!$H$5=\"x\",'Panel Calculations'!E31,0)","v":6.79519020550938}]
[null,null,null,{"$f":"D31","v":1.9},{"$f":"E37","v":51.440000000000005},null,{"$f":"IF(Information!$H$5=\"x\",'Panel Calculations'!D32,0)","v":1.9},{"$f":"IF(Information!$H$5=\"x\",'Panel Calculations'!E32,0)","v":51.440000000000005},null,{"$f":"D31-D32","v":0},{"$f":"E31-E32","v":-44.644809794490627},{"$f":"(J32^2+K32^2)^0.5","v":44.644809794490627}]
[null,null,null,{"$f":"D32+Information!D45","v":3.8},{"$f":"E32","v":51.440000000000005},null,{"$f":"IF(Information!$H$5=\"x\",'Panel Calculations'!D33,0)","v":3.8},{"$f":"IF(Information!$H$5=\"x\",'Panel Calculations'!E33,0)","v":51.440000000000005},null,-1.9,0,{"$f":"(J33^2+K33^2)^0.5","v":1.9}]
[null,null,null,{"$f":"D33","v":3.8},{"$f":"E31","v":6.79519020550938},null,{"$f":"IF(Information!$H$5=\"x\",'Panel Calculations'!D34,0)","v":3.8},{"$f":"IF(Information!$H$5=\"x\",'Panel Calculations'!E34,0)","v":6.79519020550938},null,0,44.644809794490627,{"$f":"(J34^2+K34^2)^0.5","v":44.644809794490627}]
[null,null,null,{"$f":"D31","v":1.9},{"$f":"E31","v":6.79519020550938},null,{"$f":"IF(Information!$H$5=\"x\",'Panel Calculations'!D35,0)","v":1.9},{"$f":"IF(Information!$H$5=\"x\",'Panel Calculations'!E35,0)","v":6.79519020550938},null,1.9,0,{"$f":"(J35^2+K35^2)^0.5","v":1.9}]
[]
[null,"Panel B","(top)",{"$f":"D70","v":0},{"$f":"E69-Information!D47","v":51.440000000000005},null,{"$f":"IF(Information!$H$6=\"x\",'Panel Calculations'!D37,0)","v":0},{"$f":"IF(Information!$H$6=\"x\",'Panel Calculations'!E37,0)","v":51.440000000000005}]
[null,null,null,{"$f":"D37+Information!D11","v":31.75},{"$f":"E37","v":51.440000000000005},null,{"$f":"IF(Information!$H$6=\"x\",'Panel Calculations'!D38,0)","v":31.75},{"$f":"IF(Information!$H$6=\"x\",'Panel Calculations'!E38,0)","v":51.440000000000005},null,{"$f":"D37-D38","v":-31.75},0,{"$f":"(J38^2+K38^2)^0.5","v":31.75}]
[null,null,null,{"$f":"D38","v":31.75},{"$f":"E38+Information!D16","v":53.34},null,{"$f":"IF(Information!$H$6=\"x\",'Panel Calculations'!D39,0)","v":31.75},{"$f":"IF(Information!$H$6=\"x\",'Panel Calculations'!E39,0)","v":53.34},null,0,-1.8999999999999986,{"$f":"(J39^2+K39^2)^0.5","v":1.8999999999999986}]
[null,null,null,{"$f":"D37","v":0},{"$f":"E39","v":53.34},null,{"$f":"IF(Information!$H$6=\"x\",'Panel Calculations'!D40,0)","v":0},{"$f":"IF(Information!$H$6=\"x\",'Panel Calculations'!E40,0)","v":53.34},null,31.75,0,{"$f":"(J40^2+K40^2)^0.5","v":31.75}]
[null,null,null,{"$f":"D37","v":0},{"$f":"E37","v":51.440000000000005},null,{"$f":"IF(Information!$H$6=\"x\",'Panel Calculations'!D41,0)","v":0},{"$f":"IF(Information!$H$6=\"x\",'Panel Calculations'!E41,0)","v":51.440000000000005},null,0,1.8999999999999986,{"$f":"(J41^2+K41^2)^0.5","v":1.8999999999999986}]
[]
[null,"Panel C","(bottom)",{"$f":"D67","v":0},{"$f":"E67+Information!D47","v":1.9},null,{"$f":"IF(Information!$H$7=\"x\",'Panel Calculations'!D43,0)","v":0},{"$f":"IF(Information!$H$7=\"x\",'Panel Calculations'!E43,0)","v":1.9}]
[null,null,null,{"$f":"D68","v":31.75},{"$f":"E43","v":1.9},null,{"$f":"IF(Information!$H$7=\"x\",'Panel Calculations'!D44,0)","v":31.75},{"$f":"IF(Information!$H$7=\"x\",'Panel Calculations'!E44,0)","v":1.9},null,{"$f":"D43-D44","v":-31.75},0,{"$f":"(J44^2+K44^2)^0.5","v":31.75}]
[null,null,null,{"$f":"D44","v":31.75},{"$f":"E44-Information!D16","v":0},null,{"$f":"IF(Information!$H$7=\"x\",'Panel Calculations'!D45,0)","v":31.75},{"$f":"IF(Information!$H$7=\"x\",'Panel Calculations'!E45,0)","v":0},null,0,1.9,{"$f":"(J45^2+K45^2)^0.5","v":1.9}]
[null,null,null,{"$f":"D43","v":0},{"$f":"E45","v":0},null,{"$f":"IF(Information!$H$7=\"x\",'Panel Calculations'!D46,0)","v":0},{"$f":"IF(Information!$H$7=\"x\",'Panel Calculations'!E46,0)","v":0},null,31.75,0,{"$f":"(J46^2+K46^2)^0.5","v":31.75}]
[null,null,null,{"$f":"D43","v":0},{"$f":"E43","v":1.9},null,{"$f":"IF(Information!$H$7=\"x\",'Panel Calculations'!D47,0)","v":0},{"$f":"IF(Information!$H$7=\"x\",'Panel Calculations'!E47,0)","v":1.9},null,0,-1.9,{"$f":"(J47^2+K47^2)^0.5","v":1.9}]
[]
[null,"Panel D","(back)",{"$f":"D68","v":31.75},{"$f":"E67+Information!D47","v":1.9},null,{"$f":"IF(Information!$H$8=\"x\",'Panel Calculations'!D49,0)","v":31.75},{"$f":"IF(Information!$H$8=\"x\",'Panel Calculations'!E49,0)","v":1.9}]
[null,null,null,{"$f":"D49-Information!D16","v":29.85},{"$f":"E49","v":1.9},null,{"$f":"IF(Information!$H$8=\"x\",'Panel Calculations'!D50,0)","v":29.85},{"$f":"IF(Information!$H$8=\"x\",'Panel Calculations'!E50,0)","v":1.9},null,{"$f":"D49-D50","v":1.8999999999999986},0,{"$f":"(J50^2+K50^2)^0.5","v":1.8999999999999986}]
[null,null,null,{"$f":"D50","v":29.85},{"$f":"E38","v":51.440000000000005},null,{"$f":"IF(Information!$H$8=\"x\",'Panel Calculations'!D51,0)","v":29.85},{"$f":"IF(Information!$H$8=\"x\",'Panel Calculations'!E51,0)","v":51.440000000000005},null,0,-49.540000000000006,{"$f":"(J51^2+K51^2)^0.5","v":49.540000000000006}]
[null,null,null,{"$f":"D51+Information!D16","v":31.75},{"$f":"E51","v":51.440000000000005},null,{"$f":"IF(Information!$H$8=\"x\",'Panel Calculations'!D52,0)","v":31.75},{"$f":"IF(Information!$H$8=\"x\",'Panel Calculations'!E52,0)","v":51.440000000000005},null,-1.8999999999999986,0,{"$f":"(J52^2+K52^2)^0.5","v":1.8999999999999986}]
[null,null,null,{"$f":"D49","v":31.75},{"$f":"E49","v":1.9},null,{"$f":"IF(Information!$H$8=\"x\",'Panel Calculations'!D53,0)","v":31.75},{"$f":"IF(Information!$H$8=\"x\",'Panel Calculations'!E53,0)","v":1.9},null,0,49.540000000000006,{"$f":"(J53^2+K53^2)^0.5","v":49.540000000000006}]
[]
[null,"Panel E","(1st inside)",{"$f":"D50","v":29.85},{"$f":"E63+Information!F50+Information!D49*'Panel Calculations'!P22+(E61-E43)","v":28.977624417413502},null,{"$f":"IF(Information!$H$9=\"x\",'Panel Calculations'!D55,0)","v":29.85},{"$f":"IF(Information!$H$9=\"x\",'Panel Calculations'!E55,0)","v":28.977624417413502}]
[null,null,null,{"$f":"D55-Information!F49*P22","v":19.717359639166936},{"$f":"E55+Information!F49*Q22","v":31.603091586291377},null,{"$f":"IF(Information!$H$9=\"x\",'Panel Calculations'!D56,0)","v":19.717359639166936},{"$f":"IF(Information!$H$9=\"x\",'Panel Calculations'!E56,0)","v":31.603091586291377},null,{"$f":"D55-D56","v":10.132640360833065},-2.6254671688778757,{"$f":"(J56^2+K56^2)^0.5","v":10.467257450585556}]
[null,null,null,{"$f":"D56-Information!D49*Q22","v":19.240788995479473},{"$f":"E56-Information!D49*P22","v":29.76383075063611},null,{"$f":"IF(Information!$H$9=\"x\",'Panel Calculations'!D57,0)","v":19.240788995479473},{"$f":"IF(Information!$H$9=\"x\",'Panel Calculations'!E57,0)","v":29.76383075063611},null,0.47657064368746305,1.8392608356552671,{"$f":"(J57^2+K57^2)^0.5","v":1.8999999999999986}]
[null,null,null,{"$f":"D55-Information!D49*Q22","v":29.373429356312538},{"$f":"E55-Information!D49*P22","v":27.138363581758234},null,{"$f":"IF(Information!$H$9=\"x\",'Panel Calculations'!D58,0)","v":29.373429356312538},{"$f":"IF(Information!$H$9=\"x\",'Panel Calculations'!E58,0)","v":27.138363581758234},null,-10.132640360833065,2.6254671688778757,{"$f":"(J58^2+K58^2)^0.5","v":10.467257450585556}]
[null,null,null,{"$f":"D55","v":29.85},{"$f":"E55","v":28.977624417413502},null,{"$f":"IF(Information!$H$9=\"x\",'Panel Calculations'!D59,0)","v":29.85},{"$f":"IF(Information!$H$9=\"x\",'Panel Calculations'!E59,0)","v":28.977624417413502},null,-0.47657064368746305,-1.8392608356552671,{"$f":"(J59^2+K59^2)^0.5","v":1.8999999999999986}]
[]
[null,"Panel F","(2nd inside)",{"$f":"D40","v":0},{"$f":"E43+Information!D27/(Information!D21-Information!$D$53)","v":4.8951902055093797},null,{"$f":"IF(Information!$H$10=\"x\",'Panel Calculations'!D61,0)","v":0},{"$f":"IF(Information!$H$10=\"x\",'Panel Calculations'!E61,0)","v":4.8951902055093797}]
[null,null,null,{"$f":"D55-(Information!D27/Information!D21)","v":26.85480979449062},{"$f":"E61","v":4.8951902055093797},null,{"$f":"IF(Information!$H$10=\"x\",'Panel Calculations'!D62,0)","v":26.85480979449062},{"$f":"IF(Information!$H$10=\"x\",'Panel Calculations'!E62,0)","v":4.8951902055093797},null,{"$f":"D61-D62","v":-26.85480979449062},0,{"$f":"(J62^2+K62^2)^0.5","v":26.85480979449062}]
[null,null,null,{"$f":"D62","v":26.85480979449062},{"$f":"E62+Information!D52","v":6.79519020550938},null,{"$f":"IF(Information!$H$10=\"x\",'Panel Calculations'!D63,0)","v":26.85480979449062},{"$f":"IF(Information!$H$10=\"x\",'Panel Calculations'!E63,0)","v":6.79519020550938},null,0,-1.9000000000000004,{"$f":"(J63^2+K63^2)^0.5","v":1.9000000000000004}]
[null,null,null,{"$f":"D61","v":0},{"$f":"E63","v":6.79519020550938},null,{"$f":"IF(Information!$H$10=\"x\",'Panel Calculations'!D64,0)","v":0},{"$f":"IF(Information!$H$10=\"x\",'Panel Calculations'!E64,0)","v":6.79519020550938},null,26.85480979449062,0,{"$f":"(J64^2+K64^2)^0.5","v":26.85480979449062}]
[null,null,null,{"$f":"D61","v":0},{"$f":"E61","v":4.8951902055093797},null,{"$f":"IF(Information!$H$10=\"x\",'Panel Calculations'!D65,0)","v":0},{"$f":"IF(Information!$H$10=\"x\",'Panel Calculations'!E65,0)","v":4.8951902055093797},null,0,1.9000000000000004,{"$f":"(J65^2+K65^2)^0.5","v":1.9000000000000004}]
[]
[null,"Panel G","(sides)",{"$f":"D3","v":0},{"$f":"E3","v":0},null,{"$f":"IF(Information!$H$11=\"x\",'Panel Calculations'!D67,0)","v":0},{"$f":"IF(Information!$H$11=\"x\",'Panel Calculations'!E67,0)","v":0}]
[null,null,null,{"$f":"D67+Information!D11","v":31.75},{"$f":"E67","v":0},null,{"$f":"IF(Information!$H$11=\"x\",'Panel Calculations'!D68,0)","v":31.75},{"$f":"IF(Information!$H$11=\"x\",'Panel Calculations'!E68,0)","v":0},null,{"$f":"D67-D68","v":-31.75},0,{"$f":"(J68^2+K68^2)^0.5","v":31.75}]
[null,null,null,{"$f":"D68","v":31.75},{"$f":"E68+Information!D12","v":53.34},null,{"$f":"IF(Information!$H$11=\"x\",'Panel Calculations'!D69,0)","v":31.75},{"$f":"IF(Information!$H$11=\"x\",'Panel Calculations'!E69,0)","v":53.34},null,0,-53.34,{"$f":"(J69^2+K69^2)^0.5","v":53.34}]
[null,null,null,{"$f":"D67","v":0},{"$f":"E69","v":53.34},null,{"$f":"IF(Information!$H$11=\"x\",'Panel Calculations'!D70,0)","v":0},{"$f":"IF(Information!$H$11=\"x\",'Panel Calculations'!E70,0)","v":53.34},null,31.75,0,{"$f":"(J70^2+K70^2)^0.5","v":31.75}]
[null,null,null,{"$f":"D67","v":0},{"$f":"E67","v":0},null,{"$f":"IF(Information!$H$11=\"x\",'Panel Calculations'!D71,0)","v":0},{"$f":"IF(Information!$H$11=\"x\",'Panel Calculations'!E71,0)","v":0},null,0,53.34,{"$f":"(J71^2+K71^2)^0.5","v":53.34}]
[]
[null,"Panel H","(port separator)",{"$f":"D43","v":0},{"$f":"E43","v":1.9},null,{"$f":"IF(Information!$H$15=\"x\",'Panel Calculations'!D73,0)","v":0},{"$f":"IF(Information!$H$15=\"x\",'Panel Calculations'!E73,0)","v":1.9}]
[null,null,null,{"$f":"D50","v":29.85},{"$f":"E73","v":1.9},null,{"$f":"IF(Information!$H$15=\"x\",'Panel Calculations'!D74,0)","v":29.85},{"$f":"IF(Information!$H$15=\"x\",'Panel Calculations'!E74,0)","v":1.9},null,{"$f":"D73-D74","v":-29.85},{"$f":"E73-E74","v":0},{"$f":"(J74^2+K74^2)^0.5","v":29.85}]
[null,null,null,{"$f":"D74","v":29.85},{"$f":"E62","v":4.8951902055093797},null,{"$f":"IF(Information!$H$15=\"x\",'Panel Calculations'!D75,0)","v":29.85},{"$f":"IF(Information!$H$15=\"x\",'Panel Calculations'!E75,0)","v":4.8951902055093797},null,0,-2.9951902055093798,{"$f":"(J75^2+K75^2)^0.5","v":2.9951902055093798}]
[null,null,null,{"$f":"D73","v":0},{"$f":"E75","v":4.8951902055093797},null,{"$f":"IF(Information!$H$15=\"x\",'Panel Calculations'!D76,0)","v":0},{"$f":"IF(Information!$H$15=\"x\",'Panel Calculations'!E76,0)","v":4.8951902055093797},null,29.85,0,{"$f":"(J76^2+K76^2)^0.5","v":29.85}]
[null,null,null,{"$f":"D73","v":0},{"$f":"E73","v":1.9},null,{"$f":"IF(Information!$H$15=\"x\",'Panel Calculations'!D77,0)","v":0},{"$f":"IF(Information!$H$15=\"x\",'Panel Calculations'!E77,0)","v":1.9},null,0,2.9951902055093798,{"$f":"(J77^2+K77^2)^0.5","v":2.9951902055093798}]
[]
[null,{"$f":"IF(Information!H12=\"x\",Information!I12,\"\")","v":"Panel I"},null,{"$f":"D63","v":26.85480979449062},{"$f":"E63","v":6.79519020550938},null,{"$f":"IF(B79<>\"\",'Panel Calculations'!D79,0)","v":26.85480979449062},{"$f":"IF(B79<>\"\",'Panel Calculations'!E79,0)","v":6.79519020550938}]
[null,null,null,{"$f":"D79","v":26.85480979449062},{"$f":"E79+Information!$F$54","v":24.095190205509383},null,{"$f":"IF(B79<>\"\",'Panel Calculations'!D80,0)","v":26.85480979449062},{"$f":"IF(B79<>\"\",'Panel Calculations'!E80,0)","v":24.095190205509383},null,{"$f":"D79-D80","v":0},{"$f":"E79-E80","v":-17.300000000000004},{"$f":"(J80^2+K80^2)^0.5","v":17.300000000000004}]
[null,null,null,{"$f":"D80-Information!$D$54","v":24.954809794490622},{"$f":"E80","v":24.095190205509383},null,{"$f":"IF(B79<>\"\",'Panel Calculations'!D81,0)","v":24.954809794490622},{"$f":"IF(B79<>\"\",'Panel Calculations'!E81,0)","v":24.095190205509383},null,1.8999999999999986,0,{"$f":"(J81^2+K81^2)^0.5","v":1.8999999999999986}]
[null,null,null,{"$f":"D81","v":24.954809794490622},{"$f":"E79","v":6.79519020550938},null,{"$f":"IF(B79<>\"\",'Panel Calculations'!D82,0)","v":24.954809794490622},{"$f":"IF(B79<>\"\",'Panel Calculations'!E82,0)","v":6.79519020550938},null,0,17.300000000000004,{"$f":"(J82^2+K82^2)^0.5","v":17.300000000000004}]
[null,null,null,{"$f":"D79","v":26.85480979449062},{"$f":"E79","v":6.79519020550938},null,{"$f":"IF(B79<>\"\",'Panel Calculations'!D83,0)","v":26.85480979449062},{"$f":"IF(B79<>\"\",'Panel Calculations'!E83,0)","v":6.79519020550938},null,-1.8999999999999986,0,{"$f":"(J83^2+K83^2)^0.5","v":1.8999999999999986}]
[]
[null,{"$f":"IF(Information!H13=\"x\",Information!I13,\"\")","v":"Panel J"},null,{"$f":"D62","v":26.85480979449062},{"$f":"E62","v":4.8951902055093797},null,{"$f":"IF(B85<>\"\",'Panel Calculations'!D85,0)","v":26.85480979449062},{"$f":"IF(B85<>\"\",'Panel Calculations'!E85,0)","v":4.8951902055093797}]
[null,null,null,{"$f":"D74","v":29.85},{"$f":"E85","v":4.8951902055093797},null,{"$f":"IF(B85<>\"\",'Panel Calculations'!D86,0)","v":29.85},{"$f":"IF(B85<>\"\",'Panel Calculations'!E86,0)","v":4.8951902055093797},null,{"$f":"D85-D86","v":-2.9951902055093811},{"$f":"E85-E86","v":0},{"$f":"(J86^2+K86^2)^0.5","v":2.9951902055093811}]
[null,null,null,{"$f":"D86","v":29.85},{"$f":"E80","v":24.095190205509383},null,{"$f":"IF(B85<>\"\",'Panel Calculations'!D87,0)","v":29.85},{"$f":"IF(B85<>\"\",'Panel Calculations'!E87,0)","v":24.095190205509383},null,0,-19.200000000000003,{"$f":"(J87^2+K87^2)^0.5","v":19.200000000000003}]
[null,null,null,{"$f":"D85","v":26.85480979449062},{"$f":"E87","v":24.095190205509383},null,{"$f":"IF(B85<>\"\",'Panel Calculations'!D88,0)","v":26.85480979449062},{"$f":"IF(B85<>\"\",'Panel Calculations'!E88,0)","v":24.095190205509383},null,2.9951902055093811,0,{"$f":"(J88^2+K88^2)^0.5","v":2.9951902055093811}]
[null,null,null,{"$f":"D85","v":26.85480979449062},{"$f":"E85","v":4.8951902055093797},null,{"$f":"IF(B85<>\"\",'Panel Calculations'!D89,0)","v":26.85480979449062},{"$f":"IF(B85<>\"\",'Panel Calculations'!E89,0)","v":4.8951902055093797},null,0,19.200000000000003,{"$f":"(J89^2+K89^2)^0.5","v":19.200000000000003}]
[]
[null,{"$f":"IF(Information!H14=\"x\",Information!I14,\"\")","v":"Panel K"},null,{"$f":"D57","v":19.240788995479473},{"$f":"E57","v":29.76383075063611},null,{"$f":"IF(B91<>\"\",'Panel Calculations'!D91,0)","v":19.240788995479473},{"$f":"IF(B91<>\"\",'Panel Calculations'!E91,0)","v":29.76383075063611}]
[null,null,null,{"$f":"D91-Information!F56*Q22","v":15.780851271149642},{"$f":"E91-Information!F56*P22","v":16.410662580379661},null,{"$f":"IF(B91<>\"\",'Panel Calculations'!D92,0)","v":15.780851271149642},{"$f":"IF(B91<>\"\",'Panel Calculations'!E92,0)","v":16.410662580379661},null,{"$f":"D91-D92","v":3.4599377243298317},{"$f":"E91-E92","v":13.353168170256449},{"$f":"(J92^2+K92^2)^0.5","v":13.794138945196639}]
[null,null,null,{"$f":"D92+Information!D56*P22","v":17.62011210680491},{"$f":"E92-Information!D56*'Panel Calculations'!Q22","v":15.934091936692196},null,{"$f":"IF(B91<>\"\",'Panel Calculations'!D93,0)","v":17.62011210680491},{"$f":"IF(B91<>\"\",'Panel Calculations'!E93,0)","v":15.934091936692196},null,-1.8392608356552689,0.47657064368746482,{"$f":"(J93^2+K93^2)^0.5","v":1.9000000000000006}]
[null,null,null,{"$f":"D93+Information!F56*Q22","v":21.080049831134744},{"$f":"E93+Information!F56*P22","v":29.287260106948644},null,{"$f":"IF(B91<>\"\",'Panel Calculations'!D94,0)","v":21.080049831134744},{"$f":"IF(B91<>\"\",'Panel Calculations'!E94,0)","v":29.287260106948644},null,-3.4599377243298335,-13.353168170256447,{"$f":"(J94^2+K94^2)^0.5","v":13.794138945196638}]
[null,null,null,{"$f":"D91","v":19.240788995479473},{"$f":"E91","v":29.76383075063611},null,{"$f":"IF(B91<>\"\",'Panel Calculations'!D95,0)","v":19.240788995479473},{"$f":"IF(B91<>\"\",'Panel Calculations'!E95,0)","v":29.76383075063611},null,1.8392608356552707,-0.4765706436874666,{"$f":"(J95^2+K95^2)^0.5","v":1.9000000000000028}]
[]
[]
[]
[null,"Profile View"]
[null,null,null,{"$f":"D68+10","v":41.75},{"$f":"E67","v":0},null,{"$f":"IF(Information!$H$17=\"x\",'Panel Calculations'!D100,\"\")","v":41.75},{"$f":"IF(Information!$H$17=\"x\",'Panel Calculations'!E100,\"\")","v":0}]
[null,null,null,{"$f":"D100+Information!D13","v":68.42},{"$f":"E100","v":0},null,{"$f":"IF(Information!$H$17=\"x\",'Panel Calculations'!D101,\"\")","v":68.42},{"$f":"IF(Information!$H$17=\"x\",'Panel Calculations'!E101,\"\")","v":0},null,{"$f":"D100-D101","v":-26.67},{"$f":"E100-E101","v":0},{"$f":"(J101^2+K101^2)^0.5","v":26.67}]
[null,null,null,{"$f":"D101","v":68.42},{"$f":"E69","v":53.34},null,{"$f":"IF(Information!$H$17=\"x\",'Panel Calculations'!D102,\"\")","v":68.42},{"$f":"IF(Information!$H$17=\"x\",'Panel Calculations'!E102,\"\")","v":53.34},null,0,-53.34,{"$f":"(J102^2+K102^2)^0.5","v":53.34}]
[null,null,null,{"$f":"D100","v":41.75},{"$f":"E102","v":53.34},null,{"$f":"IF(Information!$H$17=\"x\",'Panel Calculations'!D103,\"\")","v":41.75},{"$f":"IF(Information!$H$17=\"x\",'Panel Calculations'!E103,\"\")","v":53.34},null,26.67,0,{"$f":"(J103^2+K103^2)^0.5","v":26.67}]
[null,null,null,{"$f":"D100","v":41.75},{"$f":"E100","v":0},null,{"$f":"IF(Information!$H$17=\"x\",'Panel Calculations'!D104,\"\")","v":41.75},{"$f":"IF(Information!$H$17=\"x\",'Panel Calculations'!E104,\"\")","v":0},null,0,53.34,{"$f":"(J104^2+K104^2)^0.5","v":53.34}]
[]
[null,null,null,{"$f":"D100","v":41.75},{"$f":"E100","v":0},null,{"$f":"IF(Information!$H$17=\"x\",'Panel Calculations'!D106,\"\")","v":41.75},{"$f":"IF(Information!$H$17=\"x\",'Panel Calculations'!E106,\"\")","v":0}]
[null,null,null,{"$f":"D106+Information!D52","v":43.65},{"$f":"E106","v":0},null,{"$f":"IF(Information!$H$17=\"x\",'Panel Calculations'!D107,\"\")","v":43.65},{"$f":"IF(Information!$H$17=\"x\",'Panel Calculations'!E107,\"\")","v":0},null,{"$f":"D106-D107","v":-1.8999999999999986},{"$f":"E106-E107","v":0},{"$f":"(J107^2+K107^2)^0.5","v":1.8999999999999986}]
[null,null,null,{"$f":"D107","v":43.65},{"$f":"E102","v":53.34},null,{"$f":"IF(Information!$H$17=\"x\",'Panel Calculations'!D108,\"\")","v":43.65},{"$f":"IF(Information!$H$17=\"x\",'Panel Calculations'!E108,\"\")","v":53.34},null,0,-53.34,{"$f":"(J108^2+K108^2)^0.5","v":53.34}]
[null,null,null,{"$f":"D106","v":41.75},{"$f":"E108","v":53.34},null,{"$f":"IF(Information!$H$17=\"x\",'Panel Calculations'!D109,\"\")","v":41.75},{"$f":"IF(Information!$H$17=\"x\",'Panel Calculations'!E109,\"\")","v":53.34},null,1.8999999999999986,0,{"$f":"(J109^2+K109^2)^0.5","v":1.8999999999999986}]
[null,null,null,{"$f":"D106","v":41.75},{"$f":"E106","v":0},null,{"$f":"IF(Information!$H$17=\"x\",'Panel Calculations'!D110,\"\")","v":41.75},{"$f":"IF(Information!$H$17=\"x\",'Panel Calculations'!E110,\"\")","v":0},null,0,53.34,{"$f":"(J110^2+K110^2)^0.5","v":53.34}]
[]
[null,null,null,{"$f":"D101-Information!D52","v":66.52},{"$f":"E101","v":0},null,{"$f":"IF(Information!$H$17=\"x\",'Panel Calculations'!D112,\"\")","v":66.52},{"$f":"IF(Information!$H$17=\"x\",'Panel Calculations'!E112,\"\")","v":0}]
[null,null,null,{"$f":"D101","v":68.42},{"$f":"E112","v":0},null,{"$f":"IF(Information!$H$17=\"x\",'Panel Calculations'!D113,\"\")","v":68.42},{"$f":"IF(Information!$H$17=\"x\",'Panel Calculations'!E113,\"\")","v":0},null,{"$f":"D112-D113","v":-1.9000000000000057},{"$f":"E112-E113","v":0},{"$f":"(J113^2+K113^2)^0.5","v":1.9000000000000057}]
[null,null,null,{"$f":"D113","v":68.42},{"$f":"E108","v":53.34},null,{"$f":"IF(Information!$H$17=\"x\",'Panel Calculations'!D114,\"\")","v":68.42},{"$f":"IF(Information!$H$17=\"x\",'Panel Calculations'!E114,\"\")","v":53.34},null,0,-53.34,{"$f":"(J114^2+K114^2)^0.5","v":53.34}]
[null,null,null,{"$f":"D112","v":66.52},{"$f":"E114","v":53.34},null,{"$f":"IF(Information!$H$17=\"x\",'Panel Calculations'!D115,\"\")","v":66.52},{"$f":"IF(Information!$H$17=\"x\",'Panel Calculations'!E115,\"\")","v":53.34},null,1.9000000000000057,0,{"$f":"(J115^2+K115^2)^0.5","v":1.9000000000000057}]
[null,null,null,{"$f":"D112","v":66.52},{"$f":"E112","v":0},null,{"$f":"IF(Information!$H$17=\"x\",'Panel Calculations'!D116,\"\")","v":66.52},{"$f":"IF(Information!$H$17=\"x\",'Panel Calculations'!E116,\"\")","v":0},null,0,53.34,{"$f":"(J116^2+K116^2)^0.5","v":53.34}]
[]
[null,null,null,{"$f":"D107","v":43.65},{"$f":"E107","v":0},null,{"$f":"IF(Information!$H$17=\"x\",'Panel Calculations'!D118,\"\")","v":43.65},{"$f":"IF(Information!$H$17=\"x\",'Panel Calculations'!E118,\"\")","v":0}]
[null,null,null,{"$f":"D107","v":43.65},{"$f":"E118+Information!D47","v":1.9},null,{"$f":"IF(Information!$H$17=\"x\",'Panel Calculations'!D119,\"\")","v":43.65},{"$f":"IF(Information!$H$17=\"x\",'Panel Calculations'!E119,\"\")","v":1.9},null,{"$f":"D118-D119","v":0},{"$f":"E118-E119","v":-1.9},{"$f":"(J119^2+K119^2)^0.5","v":1.9}]
[null,null,null,{"$f":"D112","v":66.52},{"$f":"E119","v":1.9},null,{"$f":"IF(Information!$H$17=\"x\",'Panel Calculations'!D120,\"\")","v":66.52},{"$f":"IF(Information!$H$17=\"x\",'Panel Calculations'!E120,\"\")","v":1.9},null,-22.869999999999997,0,{"$f":"(J120^2+K120^2)^0.5","v":22.869999999999997}]
[null,null,null,{"$f":"D120","v":66.52},{"$f":"E118","v":0},null,{"$f":"IF(Information!$H$17=\"x\",'Panel Calculations'!D121,\"\")","v":66.52},{"$f":"IF(Information!$H$17=\"x\",'Panel Calculations'!E121,\"\")","v":0},null,0,1.9,{"$f":"(J121^2+K121^2)^0.5","v":1.9}]
[null,null,null,{"$f":"D118","v":43.65},{"$f":"E118","v":0},null,{"$f":"IF(Information!$H$17=\"x\",'Panel Calculations'!D122,\"\")","v":43.65},{"$f":"IF(Information!$H$17=\"x\",'Panel Calculations'!E122,\"\")","v":0},null,22.869999999999997,0,{"$f":"(J122^2+K122^2)^0.5","v":22.869999999999997}]
[]
[null,null,null,{"$f":"D118","v":43.65},{"$f":"E108","v":53.34},null,{"$f":"IF(Information!$H$17=\"x\",'Panel Calculations'!D124,\"\")","v":43.65},{"$f":"IF(Information!$H$17=\"x\",'Panel Calculations'!E124,\"\")","v":53.34}]
[null,null,null,{"$f":"D115","v":66.52},{"$f":"E124+Information!D59","v":53.34},null,{"$f":"IF(Information!$H$17=\"x\",'Panel Calculations'!D125,\"\")","v":66.52},{"$f":"IF(Information!$H$17=\"x\",'Panel Calculations'!E125,\"\")","v":53.34},null,{"$f":"D124-D125","v":-22.869999999999997},{"$f":"E124-E125","v":0},{"$f":"(J125^2+K125^2)^0.5","v":22.869999999999997}]
[null,null,null,{"$f":"D125","v":66.52},{"$f":"E125-Information!D47","v":51.440000000000005},null,{"$f":"IF(Information!$H$17=\"x\",'Panel Calculations'!D126,\"\")","v":66.52},{"$f":"IF(Information!$H$17=\"x\",'Panel Calculations'!E126,\"\")","v":51.440000000000005},null,0,1.8999999999999986,{"$f":"(J126^2+K126^2)^0.5","v":1.8999999999999986}]
[null,null,null,{"$f":"D124","v":43.65},{"$f":"E126","v":51.440000000000005},null,{"$f":"IF(Information!$H$17=\"x\",'Panel Calculations'!D127,\"\")","v":43.65},{"$f":"IF(Information!$H$17=\"x\",'Panel Calculations'!E127,\"\")","v":51.440000000000005},null,22.869999999999997,0,{"$f":"(J127^2+K127^2)^0.5","v":22.869999999999997}]
[null,null,null,{"$f":"D124","v":43.65},{"$f":"E124","v":53.34},null,{"$f":"IF(Information!$H$17=\"x\",'Panel Calculations'!D128,\"\")","v":43.65},{"$f":"IF(Information!$H$17=\"x\",'Panel Calculations'!E128,\"\")","v":53.34},null,0,-1.8999999999999986,{"$f":"(J128^2+K128^2)^0.5","v":1.8999999999999986}]
[]
[null,null,null,{"$f":"D124","v":43.65},{"$f":"E61","v":4.8951902055093797},null,{"$f":"IF(Information!$H$17=\"x\",'Panel Calculations'!D130,\"\")","v":43.65},{"$f":"IF(Information!$H$17=\"x\",'Panel Calculations'!E130,\"\")","v":4.8951902055093797}]
[null,null,null,{"$f":"D121","v":66.52},{"$f":"E130","v":4.8951902055093797},null,{"$f":"IF(Information!$H$17=\"x\",'Panel Calculations'!D131,\"\")","v":66.52},{"$f":"IF(Information!$H$17=\"x\",'Panel Calculations'!E131,\"\")","v":4.8951902055093797},null,{"$f":"D130-D131","v":-22.869999999999997},{"$f":"E130-E131","v":0},{"$f":"(J131^2+K131^2)^0.5","v":22.869999999999997}]
[null,null,null,{"$f":"D131","v":66.52},{"$f":"E63","v":6.79519020550938},null,{"$f":"IF(Information!$H$17=\"x\",'Panel Calculations'!D132,\"\")","v":66.52},{"$f":"IF(Information!$H$17=\"x\",'Panel Calculations'!E132,\"\")","v":6.79519020550938},null,0,-1.9000000000000004,{"$f":"(J132^2+K132^2)^0.5","v":1.9000000000000004}]
[null,null,null,{"$f":"D130","v":43.65},{"$f":"E132","v":6.79519020550938},null,{"$f":"IF(Information!$H$17=\"x\",'Panel Calculations'!D133,\"\")","v":43.65},{"$f":"IF(Information!$H$17=\"x\",'Panel Calculations'!E133,\"\")","v":6.79519020550938},null,22.869999999999997,0,{"$f":"(J133^2+K133^2)^0.5","v":22.869999999999997}]
[null,null,null,{"$f":"D130","v":43.65},{"$f":"E130","v":4.8951902055093797},null,{"$f":"IF(Information!$H$17=\"x\",'Panel Calculations'!D134,\"\")","v":43.65},{"$f":"IF(Information!$H$17=\"x\",'Panel Calculations'!E134,\"\")","v":4.8951902055093797},null,0,1.9000000000000004,{"$f":"(J134^2+K134^2)^0.5","v":1.9000000000000004}]
[]
[null,null,null,{"$f":"(D108+D120-Information!D53)/2","v":55.084999999999994},{"$f":"E120","v":1.9},null,{"$f":"IF(Information!$H$17=\"x\",'Panel Calculations'!D136,\"\")","v":55.084999999999994},{"$f":"IF(Information!$H$17=\"x\",'Panel Calculations'!E136,\"\")","v":1.9}]
[null,null,null,{"$f":"D136+Information!D53","v":55.084999999999994},{"$f":"E136","v":1.9},null,{"$f":"IF(Information!$H$17=\"x\",'Panel Calculations'!D137,\"\")","v":55.084999999999994},{"$f":"IF(Information!$H$17=\"x\",'Panel Calculations'!E137,\"\")","v":1.9},null,{"$f":"D136-D137","v":0},{"$f":"E136-E137","v":0},{"$f":"(J137^2+K137^2)^0.5","v":0}]
[null,null,null,{"$f":"D137","v":55.084999999999994},{"$f":"E75","v":4.8951902055093797},null,{"$f":"IF(Information!$H$17=\"x\",'Panel Calculations'!D138,\"\")","v":55.084999999999994},{"$f":"IF(Information!$H$17=\"x\",'Panel Calculations'!E138,\"\")","v":4.8951902055093797},null,0,-2.9951902055093798,{"$f":"(J138^2+K138^2)^0.5","v":2.9951902055093798}]
[null,null,null,{"$f":"D136","v":55.084999999999994},{"$f":"E138","v":4.8951902055093797},null,{"$f":"IF(Information!$H$17=\"x\",'Panel Calculations'!D139,\"\")","v":55.084999999999994},{"$f":"IF(Information!$H$17=\"x\",'Panel Calculations'!E139,\"\")","v":4.8951902055093797},null,0,0,{"$f":"(J139^2+K139^2)^0.5","v":0}]
[null,null,null,{"$f":"D136","v":55.084999999999994},{"$f":"E136","v":1.9},null,{"$f":"IF(Information!$H$17=\"x\",'Panel Calculations'!D140,\"\")","v":55.084999999999994},{"$f":"IF(Information!$H$17=\"x\",'Panel Calculations'!E140,\"\")","v":1.9},null,0,2.9951902055093798,{"$f":"(J140^2+K140^2)^0.5","v":2.9951902055093798}]

{"sheet":"Path Calculations","index":2,"n_rows":94,"n_cols":33,"rows_kept":94,"cut":false,"hidden":false,"merged":[]}
[]
[]
[null,"Path Calculations",null,"x","y",null,"x","y",null,"d","x","y","dS","d","L","S",null,null,null,null,null,null,null,null,"Intersection points","x1","y1","x2","y2","a","b","x","y"]
[]
[null,null,null,{"$f":"AF6","v":31.281420441182846},{"$f":"AG6","v":51.440000000000005},null,{"$f":"IF(Information!$H$21=\"x\",D5,0)","v":31.281420441182846},{"$f":"IF(Information!$H$21=\"x\",E5,0)","v":51.440000000000005},{"$f":"SUM(D5:D6)/2","v":29.872879810900894},{"$f":"SUM(E5:E6)/2","v":40.388331408980939},{"$f":"IF(Information!$H$20=\"x\",I5,0)","v":29.872879810900894},{"$f":"IF(Information!$H$20=\"x\",J5,0)","v":40.388331408980939},null,{"$f":"N4","v":0},0,{"$f":"P4","v":0},null,null,null,null,null,null,null,null,"Sample point",{"$f":"D6","v":28.464339180618943},{"$f":"E6","v":29.336662817961876},{"$f":"Z5+10*'Panel Calculations'!Q23","v":29.728617259881361},{"$f":"AA5+10*'Panel Calculations'!P23","v":39.256420926822017},{"$f":"(AC5-AA5)/(AB5-Z5)","v":7.8461837404057064},{"$f":"(AC5*Z5-AA5*AB5)/(Z5-AB5)","v":-193.99977244240355}]
[null,"S1",{"$f":"C2+1","v":1},{"$f":"('Panel Calculations'!D51+D9)/2","v":28.464339180618943},{"$f":"('Panel Calculations'!E55+E9)/2","v":29.336662817961876},null,{"$f":"IF(Information!$H$21=\"x\",D6,0)","v":28.464339180618943},{"$f":"IF(Information!$H$21=\"x\",E6,0)","v":29.336662817961876},null,null,{"$f":"K5","v":29.872879810900894},{"$f":"L5","v":40.388331408980939},null,{"$f":"N5","v":0},{"$f":"O5","v":0},0,null,null,null,null,null,null,null,null,"Panel C",{"$f":"'Panel Calculations'!D37","v":0},{"$f":"'Panel Calculations'!E37","v":51.440000000000005},{"$f":"'Panel Calculations'!D38","v":31.75},{"$f":"'Panel Calculations'!E38","v":51.440000000000005},{"$f":"(AC6-AA6)/(AB6-Z6)","v":0},{"$f":"(AC6*Z6-AA6*AB6)/(Z6-AB6)","v":51.440000000000005},{"$f":"(AE5-AE6)/(AD6-AD5)","v":31.281420441182846},{"$f":"AF6*AD6+AE6","v":51.440000000000005}]
[null,null,null,null,null,null,null,null,null,null,{"$f":"K6","v":29.872879810900894},{"$f":"L6","v":40.388331408980939},null,0,{"$f":"O4+N7","v":0},{"$f":"(((D5-D6)^2+(E5-E6)^2)^0.5)*Information!$D$21","v":509.59238703785121},{"$f":"P7/2","v":254.79619351892561},{"$f":"-Q7","v":-254.79619351892561},{"$f":"(Q7-T7)*2","v":-5.8940635944964015E-3},{"$f":"(($E$93-$E$92)*(O7-$F$92)/($F$93-$F$92)+$E$92)/2","v":254.79914055072285},{"$f":"-T7","v":-254.79914055072285},{"$f":"IF(C6>0,L7,\"\")","v":40.388331408980939}]
[null,null,null,{"$f":"'Panel Calculations'!D51","v":29.85},{"$f":"E5","v":51.440000000000005},null,{"$f":"IF(Information!$H$21=\"x\",D8,0)","v":29.85},{"$f":"IF(Information!$H$21=\"x\",E8,0)","v":51.440000000000005},{"$f":"SUM(D8:D9)/2","v":28.464339180618943},{"$f":"SUM(E8:E9)/2","v":40.567850609255132},{"$f":"IF(Information!$H$20=\"x\",I8,0)","v":28.464339180618943},{"$f":"IF(Information!$H$20=\"x\",J8,0)","v":40.567850609255132},null,{"$f":"N7","v":0},0,{"$f":"P7","v":509.59238703785121},{"$f":"P8/2","v":254.79619351892561},{"$f":"-Q8","v":-254.79619351892561},{"$f":"(Q8-T8)*2","v":-5.8940635944964015E-3},{"$f":"(($E$93-$E$92)*(O8-$F$92)/($F$93-$F$92)+$E$92)/2","v":254.79914055072285},{"$f":"-T8","v":-254.79914055072285},{"$f":"IF(C9>0,L8,\"\")","v":40.567850609255132},null,null,"Sample point",{"$f":"'Panel Calculations'!D51","v":29.85},{"$f":"'Panel Calculations'!E51","v":51.440000000000005},{"$f":"Z8+10*'Panel Calculations'!Q23","v":31.114278079262419},{"$f":"AA8+10*'Panel Calculations'!P23","v":61.359758108860149},{"$f":"(AC8-AA8)/(AB8-Z8)","v":7.8461837404057091},{"$f":"(AC8*Z8-AA8*AB8)/(Z8-AB8)","v":-182.7685846511103}]
[null,null,{"$f":"C6+1","v":2},{"$f":"AF9","v":27.078678361237881},{"$f":"AG9","v":29.695701218510251},null,{"$f":"IF(Information!$H$21=\"x\",D9,0)","v":27.078678361237881},{"$f":"IF(Information!$H$21=\"x\",E9,0)","v":29.695701218510251},null,null,{"$f":"K8","v":28.464339180618943},{"$f":"L8","v":40.567850609255132},null,{"$f":"N8","v":0},0,{"$f":"P8","v":509.59238703785121},254.79619351892561,-254.79619351892561,-5.8940635944964015E-3,{"$f":"(($E$93-$E$92)*(O9-$F$92)/($F$93-$F$92)+$E$92)/2","v":254.79914055072285},-254.79914055072285,{"$f":"IF(C9>0,L9,\"\")","v":40.567850609255132},null,null,"Panel E",{"$f":"'Panel Calculations'!D55","v":29.85},{"$f":"'Panel Calculations'!E55","v":28.977624417413502},{"$f":"'Panel Calculations'!D56","v":19.717359639166936},{"$f":"'Panel Calculations'!E56","v":31.603091586291377},{"$f":"(AC9-AA9)/(AB9-Z9)","v":-0.25910987416729159},{"$f":"(AC9*Z9-AA9*AB9)/(Z9-AB9)","v":36.712054161307158},{"$f":"(AE8-AE9)/(AD9-AD8)","v":27.078678361237881},{"$f":"AF9*AD9+AE9","v":29.695701218510251}]
[null,null,null,null,null,null,null,null,null,null,{"$f":"K9","v":28.464339180618943},{"$f":"L9","v":40.567850609255132},null,{"$f":"((I8-I5)^2+(J8-J5)^2)^0.5","v":1.4199344528611744},{"$f":"O7+N10","v":1.4199344528611744},{"$f":"(((D8-D9)^2+(E8-E9)^2)^0.5)*Information!$D$21","v":501.31475755290717},250.65737877645358,-250.65737877645358,0,{"$f":"(($E$93-$E$92)*(O10-$F$92)/($F$93-$F$92)+$E$92)/2","v":250.65737877645358},-250.65737877645358,{"$f":"IF(C9>0,L10,\"\")","v":40.567850609255132}]
[null,null,null,{"$f":"'Panel Calculations'!D56","v":19.717359639166936},{"$f":"'Panel Calculations'!E56","v":31.603091586291377},null,{"$f":"IF(Information!$H$21=\"x\",D11,0)","v":19.717359639166936},{"$f":"IF(Information!$H$21=\"x\",E11,0)","v":31.603091586291377},{"$f":"SUM(D11:D12)/2","v":20.971328062556339},{"$f":"SUM(E11:E12)/2","v":41.521545793145691},{"$f":"IF(Information!$H$20=\"x\",I11,0)","v":20.971328062556339},{"$f":"IF(Information!$H$20=\"x\",J11,0)","v":41.521545793145691},null,{"$f":"N10","v":1.4199344528611744},1.4199344528611744,{"$f":"P10","v":501.31475755290717},{"$f":"P11/2","v":250.65737877645358},{"$f":"-Q11","v":-250.65737877645358},{"$f":"(Q11-T11)*2","v":0},{"$f":"(($E$93-$E$92)*(O11-$F$92)/($F$93-$F$92)+$E$92)/2","v":250.65737877645358},{"$f":"-T11","v":-250.65737877645358},{"$f":"IF(C12>0,L11,\"\")","v":41.521545793145691}]
[null,null,{"$f":"C9+1","v":3},{"$f":"D11+(E5-E11)*'Panel Calculations'!Q23","v":22.225296485945737},{"$f":"E5","v":51.440000000000005},null,{"$f":"IF(Information!$H$21=\"x\",D12,0)","v":22.225296485945737},{"$f":"IF(Information!$H$21=\"x\",E12,0)","v":51.440000000000005},null,null,{"$f":"K11","v":20.971328062556339},{"$f":"L11","v":41.521545793145691},null,{"$f":"N11","v":1.4199344528611744},1.4199344528611744,{"$f":"P11","v":501.31475755290717},250.65737877645358,-250.65737877645358,0,{"$f":"(($E$93-$E$92)*(O12-$F$92)/($F$93-$F$92)+$E$92)/2","v":250.65737877645358},-250.65737877645358,{"$f":"IF(C12>0,L12,\"\")","v":41.521545793145691}]
[null,null,null,null,null,null,null,null,null,null,{"$f":"K12","v":20.971328062556339},{"$f":"L12","v":41.521545793145691},null,{"$f":"((I11-I8)^2+(J11-J8)^2)^0.5","v":7.5534594802107629},{"$f":"O10+N13","v":8.9733939330719377},{"$f":"(((D11-D12)^2+(E11-E12)^2)^0.5)*Information!$D$21","v":457.28145093737044},228.64072546868522,-228.64072546868522,3.1586204818495389E-2,{"$f":"(($E$93-$E$92)*(O13-$F$92)/($F$93-$F$92)+$E$92)/2","v":228.62493236627597},-228.62493236627597,{"$f":"IF(C12>0,L13,\"\")","v":41.521545793145691}]
[null,null,null,{"$f":"(D12+'Panel Calculations'!D33)/2","v":13.012648242972869},{"$f":"E12","v":51.440000000000005},null,{"$f":"IF(Information!$H$21=\"x\",D14,0)","v":13.012648242972869},{"$f":"IF(Information!$H$21=\"x\",E14,0)","v":51.440000000000005},{"$f":"SUM(D14:D15)/2","v":16.365003941069901},{"$f":"SUM(E14:E15)/2","v":41.521545793145691},{"$f":"IF(Information!$H$20=\"x\",I14,0)","v":16.365003941069901},{"$f":"IF(Information!$H$20=\"x\",J14,0)","v":41.521545793145691},null,{"$f":"N13","v":7.5534594802107629},{"$f":"O13","v":8.9733939330719377},457.28145093737044,228.64072546868522,-228.64072546868522,3.1586204818495389E-2,{"$f":"(($E$93-$E$92)*(O14-$F$92)/($F$93-$F$92)+$E$92)/2","v":228.62493236627597},-228.62493236627597,{"$f":"IF(C15>0,L14,\"\")","v":41.521545793145691}]
[null,null,{"$f":"C12+1","v":4},{"$f":"D11","v":19.717359639166936},{"$f":"E11","v":31.603091586291377},null,{"$f":"IF(Information!$H$21=\"x\",D15,0)","v":19.717359639166936},{"$f":"IF(Information!$H$21=\"x\",E15,0)","v":31.603091586291377},null,null,{"$f":"K14","v":16.365003941069901},{"$f":"L14","v":41.521545793145691},null,{"$f":"N14","v":7.5534594802107629},{"$f":"O14","v":8.9733939330719377},457.28145093737044,228.64072546868522,-228.64072546868522,3.1586204818495389E-2,{"$f":"(($E$93-$E$92)*(O15-$F$92)/($F$93-$F$92)+$E$92)/2","v":228.62493236627597},-228.62493236627597,{"$f":"IF(C15>0,L15,\"\")","v":41.521545793145691}]
[null,null,null,null,null,null,null,null,null,null,{"$f":"K15","v":16.365003941069901},{"$f":"L15","v":41.521545793145691},null,{"$f":"((I14-I11)^2+(J14-J11)^2)^0.5","v":4.6063241214864377},{"$f":"O13+N16","v":13.579718054558375},{"$f":"(((D14-D15)^2+(E14-E15)^2)^0.5)*Information!$D$21","v":478.88277716697536},239.44138858348768,-239.44138858348768,48.504993927796704,{"$f":"(($E$93-$E$92)*(O16-$F$92)/($F$93-$F$92)+$E$92)/2","v":215.18889161958933},-215.18889161958933,{"$f":"IF(C15>0,L16,\"\")","v":41.521545793145691}]
[null,null,null,{"$f":"'Panel Calculations'!D33","v":3.8},{"$f":"(E14+E20)/2","v":42.527744236722441},null,{"$f":"IF(Information!$H$21=\"x\",D17,0)","v":3.8},{"$f":"IF(Information!$H$21=\"x\",E17,0)","v":42.527744236722441},{"$f":"SUM(D17:D18)/2","v":11.758679819583469},{"$f":"SUM(E17:E18)/2","v":37.065417911506913},{"$f":"IF(Information!$H$20=\"x\",I17,0)","v":11.758679819583469},{"$f":"IF(Information!$H$20=\"x\",J17,0)","v":37.065417911506913},null,{"$f":"N16","v":4.6063241214864377},{"$f":"O16","v":13.579718054558375},478.88277716697536,239.44138858348768,-239.44138858348768,48.504993927796704,{"$f":"(($E$93-$E$92)*(O17-$F$92)/($F$93-$F$92)+$E$92)/2","v":215.18889161958933},-215.18889161958933,{"$f":"IF(C18>0,L17,\"\")","v":37.065417911506913}]
[null,null,{"$f":"C15+1","v":5},{"$f":"D15","v":19.717359639166936},{"$f":"E15","v":31.603091586291377},null,{"$f":"IF(Information!$H$21=\"x\",D18,0)","v":19.717359639166936},{"$f":"IF(Information!$H$21=\"x\",E18,0)","v":31.603091586291377},null,null,{"$f":"K17","v":11.758679819583469},{"$f":"L17","v":37.065417911506913},null,{"$f":"N17","v":4.6063241214864377},{"$f":"O17","v":13.579718054558375},478.88277716697536,239.44138858348768,-239.44138858348768,48.504993927796704,{"$f":"(($E$93-$E$92)*(O18-$F$92)/($F$93-$F$92)+$E$92)/2","v":215.18889161958933},-215.18889161958933,{"$f":"IF(C18>0,L18,\"\")","v":37.065417911506913}]
[null,null,null,null,null,null,null,null,null,null,{"$f":"K18","v":11.758679819583469},{"$f":"L18","v":37.065417911506913},null,{"$f":"((I17-I14)^2+(J17-J14)^2)^0.5","v":6.4090012958109357},{"$f":"O16+N19","v":19.988719350369312},{"$f":"(((D17-D18)^2+(E17-E18)^2)^0.5)*Information!$D$21","v":441.52154908781409},220.76077454390705,-220.76077454390705,48.532191102694867,{"$f":"(($E$93-$E$92)*(O19-$F$92)/($F$93-$F$92)+$E$92)/2","v":196.49467899255961},-196.49467899255961,{"$f":"IF(C18>0,L19,\"\")","v":37.065417911506913}]
[null,null,null,{"$f":"D17","v":3.8},{"$f":"E21+(D21-D20)*'Panel Calculations'!Q23","v":33.615488473444884},null,{"$f":"IF(Information!$H$21=\"x\",D20,0)","v":3.8},{"$f":"IF(Information!$H$21=\"x\",E20,0)","v":33.615488473444884},{"$f":"SUM(D20:D21)/2","v":11.758679819583469},{"$f":"SUM(E20:E21)/2","v":32.609290029868134},{"$f":"IF(Information!$H$20=\"x\",I20,0)","v":11.758679819583469},{"$f":"IF(Information!$H$20=\"x\",J20,0)","v":32.609290029868134},null,{"$f":"N19","v":6.4090012958109357},19.988719350369312,441.52154908781409,220.76077454390705,-220.76077454390705,48.532191102694867,{"$f":"(($E$93-$E$92)*(O20-$F$92)/($F$93-$F$92)+$E$92)/2","v":196.49467899255961},-196.49467899255961,{"$f":"IF(C21>0,L20,\"\")","v":32.609290029868134}]
[null,null,{"$f":"C18+1","v":6},{"$f":"D18","v":19.717359639166936},{"$f":"E18","v":31.603091586291377},null,{"$f":"IF(Information!$H$21=\"x\",D21,0)","v":19.717359639166936},{"$f":"IF(Information!$H$21=\"x\",E21,0)","v":31.603091586291377},null,null,{"$f":"K20","v":11.758679819583469},{"$f":"L20","v":32.609290029868134},null,{"$f":"N20","v":6.4090012958109357},19.988719350369312,441.52154908781409,220.76077454390705,-220.76077454390705,48.532191102694867,{"$f":"(($E$93-$E$92)*(O21-$F$92)/($F$93-$F$92)+$E$92)/2","v":196.49467899255961},-196.49467899255961,{"$f":"IF(C21>0,L21,\"\")","v":32.609290029868134}]
[null,null,null,null,null,null,null,null,null,null,{"$f":"K21","v":11.758679819583469},{"$f":"L21","v":32.609290029868134},null,{"$f":"((I20-I17)^2+(J20-J17)^2)^0.5","v":4.4561278816387784},{"$f":"O19+N22","v":24.44484723200809},{"$f":"(((D20-D21)^2+(E20-E21)^2)^0.5)*Information!$D$21","v":366.92780745310688},183.46390372655344,-183.46390372655344,-6.5674336125141508E-2,{"$f":"(($E$93-$E$92)*(O22-$F$92)/($F$93-$F$92)+$E$92)/2","v":183.49674089461601},-183.49674089461601,{"$f":"IF(C21>0,L22,\"\")","v":32.609290029868134}]
[null,null,null,{"$f":"D20","v":3.8},{"$f":"E24+(D24-D23)*'Panel Calculations'!Q23","v":17.925375343681438},null,{"$f":"IF(Information!$H$21=\"x\",D23,0)","v":3.8},{"$f":"IF(Information!$H$21=\"x\",E23,0)","v":17.925375343681438},{"$f":"SUM(D23:D24)/2","v":9.7904256355748203},{"$f":"SUM(E23:E24)/2","v":17.168018962030551},{"$f":"IF(Information!$H$20=\"x\",I23,0)","v":9.7904256355748203},{"$f":"IF(Information!$H$20=\"x\",J23,0)","v":17.168018962030551},null,{"$f":"N22","v":4.4561278816387784},24.44484723200809,366.92780745310688,183.46390372655344,-183.46390372655344,-6.5674336125141508E-2,{"$f":"(($E$93-$E$92)*(O23-$F$92)/($F$93-$F$92)+$E$92)/2","v":183.49674089461601},-183.49674089461601,{"$f":"IF(C24>0,L23,\"\")","v":17.168018962030551}]
[null,null,{"$f":"C21+1","v":7},{"$f":"'Panel Calculations'!$D$92","v":15.780851271149642},{"$f":"'Panel Calculations'!$E$92","v":16.410662580379661},null,{"$f":"IF(Information!$H$21=\"x\",D24,0)","v":15.780851271149642},{"$f":"IF(Information!$H$21=\"x\",E24,0)","v":16.410662580379661},null,null,{"$f":"K23","v":9.7904256355748203},{"$f":"L23","v":17.168018962030551},null,{"$f":"N23","v":4.4561278816387784},24.44484723200809,366.92780745310688,183.46390372655344,-183.46390372655344,-6.5674336125141508E-2,{"$f":"(($E$93-$E$92)*(O24-$F$92)/($F$93-$F$92)+$E$92)/2","v":183.49674089461601},-183.49674089461601,{"$f":"IF(C24>0,L24,\"\")","v":17.168018962030551}]
[null,null,null,null,null,null,null,null,null,null,{"$f":"K24","v":9.7904256355748203},{"$f":"L24","v":17.168018962030551},null,{"$f":"((I23-I20)^2+(J23-J20)^2)^0.5","v":15.566209452635075},{"$f":"O22+N25","v":40.011056684643165},{"$f":"(((D23-D24)^2+(E23-E24)^2)^0.5)*Information!$D$21","v":276.18321053244642},138.09160526622321,-138.09160526622321,-1.1058741408760397E-3,{"$f":"(($E$93-$E$92)*(O25-$F$92)/($F$93-$F$92)+$E$92)/2","v":138.09215820329365},-138.09215820329365,{"$f":"IF(C24>0,L25,\"\")","v":17.168018962030551}]
[null,null,null,{"$f":"D17","v":3.8},{"$f":"(E23+E29)/2","v":12.360282774595408},null,{"$f":"IF(Information!$H$21=\"x\",D26,0)","v":3.8},{"$f":"IF(Information!$H$21=\"x\",E26,0)","v":12.360282774595408},{"$f":"SUM(D26:D27)/2","v":9.7904256355748203},{"$f":"SUM(E26:E27)/2","v":14.385472677487535},{"$f":"IF(Information!$H$20=\"x\",I26,0)","v":9.7904256355748203},{"$f":"IF(Information!$H$20=\"x\",J26,0)","v":14.385472677487535},null,{"$f":"N25","v":15.566209452635075},40.011056684643165,276.18321053244642,138.09160526622321,-138.09160526622321,-1.1058741408760397E-3,{"$f":"(($E$93-$E$92)*(O26-$F$92)/($F$93-$F$92)+$E$92)/2","v":138.09215820329365},-138.09215820329365,{"$f":"IF(C27>0,L26,\"\")","v":14.385472677487535}]
[null,null,{"$f":"C24+1","v":8},{"$f":"D24","v":15.780851271149642},{"$f":"E24","v":16.410662580379661},null,{"$f":"IF(Information!$H$21=\"x\",D27,0)","v":15.780851271149642},{"$f":"IF(Information!$H$21=\"x\",E27,0)","v":16.410662580379661},null,null,{"$f":"K26","v":9.7904256355748203},{"$f":"L26","v":14.385472677487535},null,{"$f":"N26","v":15.566209452635075},40.011056684643165,276.18321053244642,138.09160526622321,-138.09160526622321,-1.1058741408760397E-3,{"$f":"(($E$93-$E$92)*(O27-$F$92)/($F$93-$F$92)+$E$92)/2","v":138.09215820329365},-138.09215820329365,{"$f":"IF(C27>0,L27,\"\")","v":14.385472677487535}]
[null,null,null,null,null,null,null,null,null,null,{"$f":"K27","v":9.7904256355748203},{"$f":"L27","v":14.385472677487535},null,{"$f":"((I26-I23)^2+(J26-J23)^2)^0.5","v":2.7825462845430167},{"$f":"O25+N28","v":42.793602969186182},{"$f":"(((D26-D27)^2+(E26-E27)^2)^0.5)*Information!$D$21","v":289.23667729690806},144.61833864845403,-144.61833864845403,29.285002915779046,{"$f":"(($E$93-$E$92)*(O28-$F$92)/($F$93-$F$92)+$E$92)/2","v":129.9758371905645},-129.9758371905645,{"$f":"IF(C27>0,L28,\"\")","v":14.385472677487535}]
[null,null,null,{"$f":"(D26+D32)/2","v":9.1776772796222836},{"$f":"'Panel Calculations'!E63","v":6.79519020550938},null,{"$f":"IF(Information!$H$21=\"x\",D29,0)","v":9.1776772796222836},{"$f":"IF(Information!$H$21=\"x\",E29,0)","v":6.79519020550938},{"$f":"SUM(D29:D30)/2","v":12.479264275385962},{"$f":"SUM(E29:E30)/2","v":11.602926392944521},{"$f":"IF(Information!$H$20=\"x\",I29,0)","v":12.479264275385962},{"$f":"IF(Information!$H$20=\"x\",J29,0)","v":11.602926392944521},null,{"$f":"N28","v":2.7825462845430167},42.793602969186182,289.23667729690806,144.61833864845403,-144.61833864845403,29.285002915779046,{"$f":"(($E$93-$E$92)*(O29-$F$92)/($F$93-$F$92)+$E$92)/2","v":129.9758371905645},-129.9758371905645,{"$f":"IF(C30>0,L29,\"\")","v":11.602926392944521}]
[null,null,{"$f":"C27+1","v":9},{"$f":"D27","v":15.780851271149642},{"$f":"E27","v":16.410662580379661},null,{"$f":"IF(Information!$H$21=\"x\",D30,0)","v":15.780851271149642},{"$f":"IF(Information!$H$21=\"x\",E30,0)","v":16.410662580379661},null,null,{"$f":"K29","v":12.479264275385962},{"$f":"L29","v":11.602926392944521},null,{"$f":"N29","v":2.7825462845430167},42.793602969186182,289.23667729690806,144.61833864845403,-144.61833864845403,29.285002915779046,{"$f":"(($E$93-$E$92)*(O30-$F$92)/($F$93-$F$92)+$E$92)/2","v":129.9758371905645},-129.9758371905645,{"$f":"IF(C30>0,L30,\"\")","v":11.602926392944521}]
[null,null,null,null,null,null,null,null,null,null,{"$f":"K30","v":12.479264275385962},{"$f":"L30","v":11.602926392944521},null,{"$f":"((I29-I26)^2+(J29-J26)^2)^0.5","v":3.8694207649938455},{"$f":"O28+N31","v":46.66302373418003},{"$f":"(((D29-D30)^2+(E29-E30)^2)^0.5)*Information!$D$21","v":266.76579695408509},133.38289847704254,-133.38289847704254,29.387304004989574,{"$f":"(($E$93-$E$92)*(O31-$F$92)/($F$93-$F$92)+$E$92)/2","v":118.68924647454776},-118.68924647454776,{"$f":"IF(C30>0,L31,\"\")","v":11.602926392944521}]
[null,null,null,{"$f":"AF33","v":14.555354559244568},{"$f":"AG33","v":6.79519020550938},null,{"$f":"IF(Information!$H$21=\"x\",D32,0)","v":14.555354559244568},{"$f":"IF(Information!$H$21=\"x\",E32,0)","v":6.79519020550938},{"$f":"SUM(D32:D33)/2","v":15.168102915197105},{"$f":"SUM(E32:E33)/2","v":11.602926392944521},{"$f":"IF(Information!$H$20=\"x\",I32,0)","v":15.168102915197105},{"$f":"IF(Information!$H$20=\"x\",J32,0)","v":11.602926392944521},null,{"$f":"N31","v":3.8694207649938455},46.66302373418003,266.76579695408509,133.38289847704254,-133.38289847704254,29.387304004989574,{"$f":"(($E$93-$E$92)*(O32-$F$92)/($F$93-$F$92)+$E$92)/2","v":118.68924647454776},-118.68924647454776,{"$f":"IF(C33>0,L32,\"\")","v":11.602926392944521},null,null,"Sample Point",{"$f":"'Panel Calculations'!D92","v":15.780851271149642},{"$f":"'Panel Calculations'!E92","v":16.410662580379661},{"$f":"Z32-10*'Panel Calculations'!Q23","v":14.516573191887225},{"$f":"AA32-10*'Panel Calculations'!P23","v":6.490904471519519},{"$f":"(AC32-AA32)/(AB32-Z32)","v":7.8461837404057189},{"$f":"(AC32*Z32-AA32*AB32)/(Z32-AB32)","v":-107.40879607307559}]
[null,null,{"$f":"C30+1","v":10},{"$f":"D30","v":15.780851271149642},{"$f":"E30","v":16.410662580379661},null,{"$f":"IF(Information!$H$21=\"x\",D33,0)","v":15.780851271149642},{"$f":"IF(Information!$H$21=\"x\",E33,0)","v":16.410662580379661},null,null,{"$f":"K32","v":15.168102915197105},{"$f":"L32","v":11.602926392944521},null,{"$f":"N32","v":3.8694207649938455},46.66302373418003,266.76579695408509,133.38289847704254,-133.38289847704254,29.387304004989574,{"$f":"(($E$93-$E$92)*(O33-$F$92)/($F$93-$F$92)+$E$92)/2","v":118.68924647454776},-118.68924647454776,{"$f":"IF(C33>0,L33,\"\")","v":11.602926392944521},null,null,"Sample Point",{"$f":"'Panel Calculations'!D64","v":0},{"$f":"'Panel Calculations'!E64","v":6.79519020550938},{"$f":"'Panel Calculations'!D63","v":26.85480979449062},{"$f":"'Panel Calculations'!E63","v":6.79519020550938},{"$f":"(AC33-AA33)/(AB33-Z33)","v":0},{"$f":"(AC33*Z33-AA33*AB33)/(Z33-AB33)","v":6.79519020550938},{"$f":"(AE32-AE33)/(AD33-AD32)","v":14.555354559244568},{"$f":"AF33*AD33+AE33","v":6.79519020550938}]
[null,null,null,null,null,null,null,null,null,null,{"$f":"K33","v":15.168102915197105},{"$f":"L33","v":11.602926392944521},null,{"$f":"((I32-I29)^2+(J32-J29)^2)^0.5","v":2.6888386398111432},{"$f":"O31+N34","v":49.351862373991175},{"$f":"(((D32-D33)^2+(E32-E33)^2)^0.5)*Information!$D$21","v":221.68469311451008},110.84234655725504,-110.84234655725504,-7.8235233440295815E-3,{"$f":"(($E$93-$E$92)*(O34-$F$92)/($F$93-$F$92)+$E$92)/2","v":110.84625831892706},-110.84625831892706,{"$f":"IF(C33>0,L34,\"\")","v":11.602926392944521}]
[null,null,null,{"$f":"AF36","v":16.455354559244565},{"$f":"AG36","v":6.79519020550938},null,{"$f":"IF(Information!$H$21=\"x\",D35,0)","v":16.455354559244565},{"$f":"IF(Information!$H$21=\"x\",E35,0)","v":6.79519020550938},{"$f":"SUM(D35:D36)/2","v":17.03773333302474},{"$f":"SUM(E35:E36)/2","v":11.364641071100788},{"$f":"IF(Information!$H$20=\"x\",I35,0)","v":17.03773333302474},{"$f":"IF(Information!$H$20=\"x\",J35,0)","v":11.364641071100788},null,{"$f":"N34","v":2.6888386398111432},49.351862373991175,221.68469311451008,{"$f":"P35/2","v":110.84234655725504},{"$f":"-Q35","v":-110.84234655725504},{"$f":"(Q35-T35)*2","v":-7.8235233440295815E-3},{"$f":"(($E$93-$E$92)*(O35-$F$92)/($F$93-$F$92)+$E$92)/2","v":110.84625831892706},{"$f":"-T35","v":-110.84625831892706},{"$f":"IF(C36>0,L35,\"\")","v":11.364641071100788},null,null,"Sample Point",{"$f":"D36","v":17.62011210680491},{"$f":"E36","v":15.934091936692196},{"$f":"Z35-10*'Panel Calculations'!Q23","v":16.355834027542492},{"$f":"AA35-10*'Panel Calculations'!P23","v":6.0143338278320542},{"$f":"(AC35-AA35)/(AB35-Z35)","v":7.8461837404057073},{"$f":"(AC35*Z35-AA35*AB35)/(Z35-AB35)","v":-122.31654517984626}]
[null,null,{"$f":"C33+1","v":11},{"$f":"'Panel Calculations'!D93","v":17.62011210680491},{"$f":"'Panel Calculations'!E93","v":15.934091936692196},null,{"$f":"IF(Information!$H$21=\"x\",D36,0)","v":17.62011210680491},{"$f":"IF(Information!$H$21=\"x\",E36,0)","v":15.934091936692196},null,null,{"$f":"K35","v":17.03773333302474},{"$f":"L35","v":11.364641071100788},null,{"$f":"N35","v":2.6888386398111432},49.351862373991175,221.68469311451008,110.84234655725504,-110.84234655725504,-7.8235233440295815E-3,{"$f":"(($E$93-$E$92)*(O36-$F$92)/($F$93-$F$92)+$E$92)/2","v":110.84625831892706},-110.84625831892706,{"$f":"IF(C36>0,L36,\"\")","v":11.364641071100788},null,null,"Sample Point",{"$f":"Z33","v":0},{"$f":"AA33","v":6.79519020550938},{"$f":"AB33","v":26.85480979449062},{"$f":"AC33","v":6.79519020550938},{"$f":"(AC36-AA36)/(AB36-Z36)","v":0},{"$f":"(AC36*Z36-AA36*AB36)/(Z36-AB36)","v":6.79519020550938},{"$f":"(AE35-AE36)/(AD36-AD35)","v":16.455354559244565},{"$f":"AF36*AD36+AE36","v":6.79519020550938}]
[null,null,null,null,null,null,null,null,null,null,{"$f":"K36","v":17.03773333302474},{"$f":"L36","v":11.364641071100788},null,{"$f":"((I35-I32)^2+(J35-J32)^2)^0.5","v":1.8847540406834276},{"$f":"O34+N37","v":51.2366164146746},{"$f":"(((D35-D36)^2+(E35-E36)^2)^0.5)*Information!$D$21","v":210.69735803887212},105.34867901943606,-105.34867901943606,-2.1242527736831107E-8,{"$f":"(($E$93-$E$92)*(O37-$F$92)/($F$93-$F$92)+$E$92)/2","v":105.34867903005733},-105.34867903005733,{"$f":"IF(C36>0,L37,\"\")","v":11.364641071100788}]
[null,null,null,{"$f":"(D35+'Panel Calculations'!D82)/2","v":20.705082176867592},{"$f":"(E35+'Panel Calculations'!E82)/2","v":6.79519020550938},null,{"$f":"IF(Information!$H$21=\"x\",D38,0)","v":20.705082176867592},{"$f":"IF(Information!$H$21=\"x\",E38,0)","v":6.79519020550938},{"$f":"SUM(D38:D39)/2","v":19.162597141836251},{"$f":"SUM(E38:E39)/2","v":11.364641071100788},{"$f":"IF(Information!$H$20=\"x\",I38,0)","v":19.162597141836251},{"$f":"IF(Information!$H$20=\"x\",J38,0)","v":11.364641071100788},null,{"$f":"N37","v":1.8847540406834276},51.2366164146746,210.69735803887212,{"$f":"P38/2","v":105.34867901943606},{"$f":"-Q38","v":-105.34867901943606},{"$f":"(Q38-T38)*2","v":-2.1242527736831107E-8},{"$f":"(($E$93-$E$92)*(O38-$F$92)/($F$93-$F$92)+$E$92)/2","v":105.34867903005733},{"$f":"-T38","v":-105.34867903005733},{"$f":"IF(C39>0,L38,\"\")","v":11.364641071100788}]
[null,null,{"$f":"C36+1","v":12},{"$f":"D36","v":17.62011210680491},{"$f":"E36","v":15.934091936692196},null,{"$f":"IF(Information!$H$21=\"x\",D39,0)","v":17.62011210680491},{"$f":"IF(Information!$H$21=\"x\",E39,0)","v":15.934091936692196},null,null,{"$f":"K38","v":19.162597141836251},{"$f":"L38","v":11.364641071100788},null,{"$f":"N38","v":1.8847540406834276},51.2366164146746,210.69735803887212,105.34867901943606,-105.34867901943606,-2.1242527736831107E-8,{"$f":"(($E$93-$E$92)*(O39-$F$92)/($F$93-$F$92)+$E$92)/2","v":105.34867903005733},-105.34867903005733,{"$f":"IF(C39>0,L39,\"\")","v":11.364641071100788}]
[null,null,null,null,null,null,null,null,null,null,{"$f":"K39","v":19.162597141836251},{"$f":"L39","v":11.364641071100788},null,{"$f":"((I38-I35)^2+(J38-J35)^2)^0.5","v":2.1248638088115115},{"$f":"O37+N40","v":53.361480223486112},{"$f":"(((D38-D39)^2+(E38-E39)^2)^0.5)*Information!$D$21","v":220.59364596746423},110.29682298373211,-110.29682298373211,22.292183620887954,{"$f":"(($E$93-$E$92)*(O40-$F$92)/($F$93-$F$92)+$E$92)/2","v":99.150731173288136},-99.150731173288136,{"$f":"IF(C39>0,L40,\"\")","v":11.364641071100788}]
[null,null,null,{"$f":"D44","v":24.954809794490622},{"$f":"(E38+E44)/2","v":10.897235646351813},null,{"$f":"IF(Information!$H$21=\"x\",D41,0)","v":24.954809794490622},{"$f":"IF(Information!$H$21=\"x\",E41,0)","v":10.897235646351813},{"$f":"SUM(D41:D42)/2","v":21.287460950647766},{"$f":"SUM(E41:E42)/2","v":13.415663791522004},{"$f":"IF(Information!$H$20=\"x\",I41,0)","v":21.287460950647766},{"$f":"IF(Information!$H$20=\"x\",J41,0)","v":13.415663791522004},null,{"$f":"N40","v":2.1248638088115115},53.361480223486112,220.59364596746423,{"$f":"P41/2","v":110.29682298373211},{"$f":"-Q41","v":-110.29682298373211},{"$f":"(Q41-T41)*2","v":22.292183620887954},{"$f":"(($E$93-$E$92)*(O41-$F$92)/($F$93-$F$92)+$E$92)/2","v":99.150731173288136},{"$f":"-T41","v":-99.150731173288136},{"$f":"IF(C42>0,L41,\"\")","v":13.415663791522004}]
[null,null,{"$f":"C39+1","v":13},{"$f":"D39","v":17.62011210680491},{"$f":"E39","v":15.934091936692196},null,{"$f":"IF(Information!$H$21=\"x\",D42,0)","v":17.62011210680491},{"$f":"IF(Information!$H$21=\"x\",E42,0)","v":15.934091936692196},null,null,{"$f":"K41","v":21.287460950647766},{"$f":"L41","v":13.415663791522004},null,{"$f":"N41","v":2.1248638088115115},53.361480223486112,220.59364596746423,110.29682298373211,-110.29682298373211,22.292183620887954,{"$f":"(($E$93-$E$92)*(O42-$F$92)/($F$93-$F$92)+$E$92)/2","v":99.150731173288136},-99.150731173288136,{"$f":"IF(C42>0,L42,\"\")","v":13.415663791522004}]
[null,null,null,null,null,null,null,null,null,null,{"$f":"K42","v":21.287460950647766},{"$f":"L42","v":13.415663791522004},null,{"$f":"((I41-I38)^2+(J41-J38)^2)^0.5","v":2.9532592852103288},{"$f":"O40+N43","v":56.314739508696441},{"$f":"(((D41-D42)^2+(E41-E42)^2)^0.5)*Information!$D$21","v":203.48865909862931},101.74432954931466,-101.74432954931466,22.415733452945091,{"$f":"(($E$93-$E$92)*(O43-$F$92)/($F$93-$F$92)+$E$92)/2","v":90.536462822842111},-90.536462822842111,{"$f":"IF(C42>0,L43,\"\")","v":13.415663791522004}]
[null,null,null,{"$f":"AF45","v":24.954809794490622},{"$f":"AG45","v":14.999281087194246},null,{"$f":"IF(Information!$H$21=\"x\",D44,0)","v":24.954809794490622},{"$f":"IF(Information!$H$21=\"x\",E44,0)","v":14.999281087194246},{"$f":"SUM(D44:D45)/2","v":21.287460950647766},{"$f":"SUM(E44:E45)/2","v":15.466686511943221},{"$f":"IF(Information!$H$20=\"x\",I44,0)","v":21.287460950647766},{"$f":"IF(Information!$H$20=\"x\",J44,0)","v":15.466686511943221},null,{"$f":"N43","v":2.9532592852103288},56.314739508696441,203.48865909862931,101.74432954931466,-101.74432954931466,22.415733452945091,{"$f":"(($E$93-$E$92)*(O44-$F$92)/($F$93-$F$92)+$E$92)/2","v":90.536462822842111},-90.536462822842111,{"$f":"IF(C45>0,L44,\"\")","v":15.466686511943221},null,null,"Sample Point",{"$f":"D54","v":24.954809794490622},{"$f":"E54","v":24.095190205509383},{"$f":"'Panel Calculations'!$D$82","v":24.954809794490622},{"$f":"'Panel Calculations'!$D$82","v":24.954809794490622},{"$f":"IF(AB44-Z44<>0,(AC44-AA44)/(AB44-Z44),\"vertical\")","v":"vertical"},{"$f":"IF(AD44<>\"vertical\",(AC44*Z44-AA44*AB44)/(Z44-AB44),AA44)","v":24.095190205509383}]
[null,null,{"$f":"C42+1","v":14},{"$f":"D39","v":17.62011210680491},{"$f":"E39","v":15.934091936692196},null,{"$f":"IF(Information!$H$21=\"x\",D45,0)","v":17.62011210680491},{"$f":"IF(Information!$H$21=\"x\",E45,0)","v":15.934091936692196},null,null,{"$f":"K44","v":21.287460950647766},{"$f":"L44","v":15.466686511943221},null,{"$f":"N44","v":2.9532592852103288},56.314739508696441,203.48865909862931,101.74432954931466,-101.74432954931466,22.415733452945091,{"$f":"(($E$93-$E$92)*(O45-$F$92)/($F$93-$F$92)+$E$92)/2","v":90.536462822842111},-90.536462822842111,{"$f":"IF(C45>0,L45,\"\")","v":15.466686511943221},null,null,"Sample Point",{"$f":"D45","v":17.62011210680491},{"$f":"E45","v":15.934091936692196},{"$f":"Z45+10*'Panel Calculations'!P23","v":27.539870215665054},{"$f":"AA45-10*'Panel Calculations'!Q23","v":14.66981385742978},{"$f":"(AC45-AA45)/(AB45-Z45)","v":-0.1274504947991813},{"$f":"(AC45*Z45-AA45*AB45)/(Z45-AB45)","v":18.179783943121532},{"$f":"IF(AD44<>\"vertical\",(AE44-AE45)/(AD45-AD44),Z44)","v":24.954809794490622},{"$f":"AF45*AD45+AE45","v":14.999281087194246}]
[null,null,null,null,null,null,null,null,null,null,{"$f":"K45","v":21.287460950647766},{"$f":"L45","v":15.466686511943221},null,{"$f":"((I44-I41)^2+(J44-J41)^2)^0.5","v":2.0510227204212175},{"$f":"O43+N46","v":58.365762229117657},{"$f":"(((D44-D45)^2+(E44-E45)^2)^0.5)*Information!$D$21","v":169.10143803561695},84.550719017808476,-84.550719017808476,-6.3613544416227796E-3,{"$f":"(($E$93-$E$92)*(O46-$F$92)/($F$93-$F$92)+$E$92)/2","v":84.553899695029287},-84.553899695029287,{"$f":"IF(C45>0,L46,\"\")","v":15.466686511943221}]
[null,null,null,{"$f":"AF48","v":19.901608561246032},{"$f":"AG48","v":24.739223203006247},null,{"$f":"IF(Information!$H$21=\"x\",D47,0)","v":19.901608561246032},{"$f":"IF(Information!$H$21=\"x\",E47,0)","v":24.739223203006247},{"$f":"SUM(D47:D48)/2","v":22.428209177868325},{"$f":"SUM(E47:E48)/2","v":24.417206704257815},{"$f":"IF(Information!$H$20=\"x\",I47,0)","v":22.428209177868325},{"$f":"IF(Information!$H$20=\"x\",J47,0)","v":24.417206704257815},null,{"$f":"N46","v":2.0510227204212175},{"$f":"O46","v":58.365762229117657},{"$f":"P46","v":169.10143803561695},{"$f":"P47/2","v":84.550719017808476},{"$f":"-Q47","v":-84.550719017808476},{"$f":"(Q47-T47)*2","v":-6.3613544416227796E-3},{"$f":"(($E$93-$E$92)*(O47-$F$92)/($F$93-$F$92)+$E$92)/2","v":84.553899695029287},{"$f":"-T47","v":-84.553899695029287},{"$f":"IF(C48>0,L47,\"\")","v":24.417206704257815},null,null,"Sample Point",{"$f":"D45","v":17.62011210680491},{"$f":"E45","v":15.934091936692196},{"$f":"'Panel Calculations'!$D$94","v":21.080049831134744},{"$f":"'Panel Calculations'!$E$94","v":29.287260106948644},{"$f":"IF(AB47-Z47<>0,(AC47-AA47)/(AB47-Z47),\"vertical\")","v":3.8593666228032659},{"$f":"IF(AD47<>\"vertical\",(AC47*Z47-AA47*AB47)/(Z47-AB47),AA47)","v":-52.068380618362418}]
[null,null,{"$f":"C45+1","v":15},{"$f":"D54","v":24.954809794490622},{"$f":"E54","v":24.095190205509383},null,{"$f":"IF(Information!$H$21=\"x\",D48,0)","v":24.954809794490622},{"$f":"IF(Information!$H$21=\"x\",E48,0)","v":24.095190205509383},null,null,{"$f":"K47","v":22.428209177868325},{"$f":"L47","v":24.417206704257815},null,{"$f":"N47","v":2.0510227204212175},58.365762229117657,169.10143803561695,84.550719017808476,-84.550719017808476,-6.3613544416227796E-3,{"$f":"(($E$93-$E$92)*(O48-$F$92)/($F$93-$F$92)+$E$92)/2","v":84.553899695029287},-84.553899695029287,{"$f":"IF(C48>0,L48,\"\")","v":24.417206704257815},null,null,"Sample Point",{"$f":"D48","v":24.954809794490622},{"$f":"E48","v":24.095190205509383},{"$f":"Z48-10*'Panel Calculations'!P23","v":15.03505168563048},{"$f":"AA48+10*'Panel Calculations'!Q23","v":25.3594682847718},{"$f":"(AC48-AA48)/(AB48-Z48)","v":-0.1274504947991815},{"$f":"(AC48*Z48-AA48*AB48)/(Z48-AB48)","v":27.27569306143668},{"$f":"IF(AD47<>\"vertical\",(AE47-AE48)/(AD48-AD47),Z47)","v":19.901608561246032},{"$f":"AF48*AD48+AE48","v":24.739223203006247}]
[null,null,null,null,null,null,null,null,null,null,{"$f":"K48","v":22.428209177868325},{"$f":"L48","v":24.417206704257815},null,{"$f":"((I47-I44)^2+(J47-J44)^2)^0.5","v":9.0229218233861541},{"$f":"O46+N49","v":67.388684052503805},{"$f":"(((D47-D48)^2+(E47-E48)^2)^0.5)*Information!$D$21","v":116.50154261431211},58.250771307156057,-58.250771307156057,3.109225824360351E-2,{"$f":"(($E$93-$E$92)*(O49-$F$92)/($F$93-$F$92)+$E$92)/2","v":58.235225178034256},-58.235225178034256,{"$f":"IF(C48>0,L49,\"\")","v":24.417206704257815}]
[null,null,null,{"$f":"(D47+'Panel Calculations'!D94)/2","v":20.49082919619039},{"$f":"(E47+'Panel Calculations'!E94)/2","v":27.013241654977445},null,{"$f":"IF(Information!$H$21=\"x\",D50,0)","v":20.49082919619039},{"$f":"IF(Information!$H$21=\"x\",E50,0)","v":27.013241654977445},{"$f":"SUM(D50:D51)/2","v":22.722819495340506},{"$f":"SUM(E50:E51)/2","v":25.554215930243416},{"$f":"IF(Information!$H$20=\"x\",I50,0)","v":22.722819495340506},{"$f":"IF(Information!$H$20=\"x\",J50,0)","v":25.554215930243416},null,{"$f":"N49","v":9.0229218233861541},{"$f":"O49","v":67.388684052503805},{"$f":"P49","v":116.50154261431211},{"$f":"P50/2","v":58.250771307156057},{"$f":"-Q50","v":-58.250771307156057},{"$f":"(Q50-T50)*2","v":3.109225824360351E-2},{"$f":"(($E$93-$E$92)*(O50-$F$92)/($F$93-$F$92)+$E$92)/2","v":58.235225178034256},{"$f":"-T50","v":-58.235225178034256},{"$f":"IF(C51>0,L50,\"\")","v":25.554215930243416}]
[null,null,{"$f":"C48+1","v":16},{"$f":"D48","v":24.954809794490622},{"$f":"E48","v":24.095190205509383},null,{"$f":"IF(Information!$H$21=\"x\",D51,0)","v":24.954809794490622},{"$f":"IF(Information!$H$21=\"x\",E51,0)","v":24.095190205509383},null,null,{"$f":"K50","v":22.722819495340506},{"$f":"L50","v":25.554215930243416},null,{"$f":"N50","v":9.0229218233861541},67.388684052503805,116.50154261431211,58.250771307156057,-58.250771307156057,3.109225824360351E-2,{"$f":"(($E$93-$E$92)*(O51-$F$92)/($F$93-$F$92)+$E$92)/2","v":58.235225178034256},-58.235225178034256,{"$f":"IF(C51>0,L51,\"\")","v":25.554215930243416}]
[null,null,null,null,null,null,null,null,null,null,{"$f":"K51","v":22.722819495340506},{"$f":"L51","v":25.554215930243416},null,{"$f":"((I50-I47)^2+(J50-J47)^2)^0.5","v":1.1745574567203745},{"$f":"O49+N52","v":68.563241509224184},{"$f":"(((D50-D51)^2+(E50-E51)^2)^0.5)*Information!$D$21","v":121.96840746317793},60.984203731588963,-60.984203731588963,12.350015899154243,{"$f":"(($E$93-$E$92)*(O52-$F$92)/($F$93-$F$92)+$E$92)/2","v":54.809195782011841},-54.809195782011841,{"$f":"IF(C51>0,L52,\"\")","v":25.554215930243416}]
[null,null,null,{"$f":"('Panel Calculations'!D94+'Path Calculations'!D56)/2","v":23.275784508771856},{"$f":"('Panel Calculations'!E94+'Path Calculations'!E56)/2","v":28.718323570921338},null,{"$f":"IF(Information!$H$21=\"x\",D53,0)","v":23.275784508771856},{"$f":"IF(Information!$H$21=\"x\",E53,0)","v":28.718323570921338},{"$f":"SUM(D53:D54)/2","v":24.115297151631239},{"$f":"SUM(E53:E54)/2","v":26.406756888215362},{"$f":"IF(Information!$H$20=\"x\",I53,0)","v":24.115297151631239},{"$f":"IF(Information!$H$20=\"x\",J53,0)","v":26.406756888215362},null,{"$f":"N52","v":1.1745574567203745},{"$f":"O52","v":68.563241509224184},{"$f":"P52","v":121.96840746317793},60.984203731588963,-60.984203731588963,12.350015899154243,{"$f":"(($E$93-$E$92)*(O53-$F$92)/($F$93-$F$92)+$E$92)/2","v":54.809195782011841},-54.809195782011841,{"$f":"IF(C54>0,L53,\"\")","v":26.406756888215362}]
[null,null,{"$f":"C48+1","v":16},{"$f":"D57","v":24.954809794490622},{"$f":"E57","v":24.095190205509383},null,{"$f":"IF(Information!$H$21=\"x\",D54,0)","v":24.954809794490622},{"$f":"IF(Information!$H$21=\"x\",E54,0)","v":24.095190205509383},null,null,{"$f":"K53","v":24.115297151631239},{"$f":"L53","v":26.406756888215362},null,{"$f":"N53","v":1.1745574567203745},68.563241509224184,121.96840746317793,60.984203731588963,-60.984203731588963,12.350015899154243,{"$f":"(($E$93-$E$92)*(O54-$F$92)/($F$93-$F$92)+$E$92)/2","v":54.809195782011841},-54.809195782011841,{"$f":"IF(C54>0,L54,\"\")","v":26.406756888215362}]
[null,null,null,null,null,null,null,null,null,null,{"$f":"K54","v":24.115297151631239},{"$f":"L54","v":26.406756888215362},null,{"$f":"((I53-I50)^2+(J53-J50)^2)^0.5","v":1.6327339367725098},{"$f":"O52+N55","v":70.195975445996694},{"$f":"(((D53-D54)^2+(E53-E54)^2)^0.5)*Information!$D$21","v":112.48806132032414},56.244030660162068,-56.244030660162068,12.394609436791058,{"$f":"(($E$93-$E$92)*(O55-$F$92)/($F$93-$F$92)+$E$92)/2","v":50.046725941766539},-50.046725941766539,{"$f":"IF(C54>0,L55,\"\")","v":26.406756888215362}]
[null,null,null,{"$f":"AF57","v":25.471519186408965},{"$f":"AG57","v":28.149387034894033},null,{"$f":"IF(Information!$H$21=\"x\",D56,0)","v":25.471519186408965},{"$f":"IF(Information!$H$21=\"x\",E56,0)","v":28.149387034894033},{"$f":"SUM(D56:D57)/2","v":25.213164490449792},{"$f":"SUM(E56:E57)/2","v":26.122288620201708},{"$f":"IF(Information!$H$20=\"x\",I56,0)","v":25.213164490449792},{"$f":"IF(Information!$H$20=\"x\",J56,0)","v":26.122288620201708},null,{"$f":"N55","v":1.6327339367725098},{"$f":"O55","v":70.195975445996694},{"$f":"P55","v":112.48806132032414},56.244030660162068,-56.244030660162068,12.394609436791058,{"$f":"(($E$93-$E$92)*(O56-$F$92)/($F$93-$F$92)+$E$92)/2","v":50.046725941766539},-50.046725941766539,{"$f":"IF(C57>0,L56,\"\")","v":26.122288620201708},null,null,"Panel E (bottom)",{"$f":"Z59","v":19.240788995479473},{"$f":"AA59","v":29.76383075063611},{"$f":"AB59","v":29.373429356312538},{"$f":"AC59","v":27.138363581758234},{"$f":"(AC56-AA56)/(AB56-Z56)","v":-0.25910987416729159},{"$f":"(AC56*Z56-AA56*AB56)/(Z56-AB56)","v":34.749309166134204}]
[null,null,{"$f":"C54+1","v":17},{"$f":"'Panel Calculations'!D81","v":24.954809794490622},{"$f":"'Panel Calculations'!E81","v":24.095190205509383},null,{"$f":"IF(Information!$H$21=\"x\",D57,0)","v":24.954809794490622},{"$f":"IF(Information!$H$21=\"x\",E57,0)","v":24.095190205509383},null,null,{"$f":"K56","v":25.213164490449792},{"$f":"L56","v":26.122288620201708},null,{"$f":"N56","v":1.6327339367725098},70.195975445996694,112.48806132032414,56.244030660162068,-56.244030660162068,12.394609436791058,{"$f":"(($E$93-$E$92)*(O57-$F$92)/($F$93-$F$92)+$E$92)/2","v":50.046725941766539},-50.046725941766539,{"$f":"IF(C57>0,L57,\"\")","v":26.122288620201708},null,null,"Sample Point",{"$f":"D57","v":24.954809794490622},{"$f":"E57","v":24.095190205509383},{"$f":"Z57+10*'Panel Calculations'!Q23","v":26.21908787375304},{"$f":"AA57+10*'Panel Calculations'!P23","v":34.014948314369526},{"$f":"(AC57-AA57)/(AB57-Z57)","v":7.8461837404057091},{"$f":"(AC57*Z57-AA57*AB57)/(Z57-AB57)","v":-171.70483264894006},{"$f":"(AE56-AE57)/(AD57-AD56)","v":25.471519186408965},{"$f":"AF57*AD57+AE57","v":28.149387034894033}]
[null,null,null,null,null,null,null,null,null,null,{"$f":"K57","v":25.213164490449792},{"$f":"L57","v":26.122288620201708},null,{"$f":"((I56-I53)^2+(J56-J53)^2)^0.5","v":1.134122960331559},{"$f":"O55+N58","v":71.330098406328247},{"$f":"(((D56-D57)^2+(E56-E57)^2)^0.5)*Information!$D$21","v":93.469498419736325},46.734749209868163,-46.734749209868163,-7.7788721354323798E-3,{"$f":"(($E$93-$E$92)*(O58-$F$92)/($F$93-$F$92)+$E$92)/2","v":46.738638645935879},-46.738638645935879,{"$f":"IF(C57>0,L58,\"\")","v":26.122288620201708}]
[null,null,null,{"$f":"AF60","v":27.310780022064232},{"$f":"AG60","v":27.672816391206567},null,{"$f":"IF(Information!$H$21=\"x\",D59,0)","v":27.310780022064232},{"$f":"IF(Information!$H$21=\"x\",E59,0)","v":27.672816391206567},{"$f":"SUM(D59:D60)/2","v":27.082794908277428},{"$f":"SUM(E59:E60)/2","v":25.884003298357975},{"$f":"IF(Information!$H$20=\"x\",I59,0)","v":27.082794908277428},{"$f":"IF(Information!$H$20=\"x\",J59,0)","v":25.884003298357975},null,{"$f":"N58","v":1.134122960331559},71.330098406328247,93.469498419736325,{"$f":"P59/2","v":46.734749209868163},{"$f":"-Q59","v":-46.734749209868163},{"$f":"(Q59-T59)*2","v":-7.7788721354323798E-3},{"$f":"(($E$93-$E$92)*(O59-$F$92)/($F$93-$F$92)+$E$92)/2","v":46.738638645935879},{"$f":"-T59","v":-46.738638645935879},{"$f":"IF(C60>0,L59,\"\")","v":25.884003298357975},null,null,"Panel E (bottom)",{"$f":"'Panel Calculations'!D57","v":19.240788995479473},{"$f":"'Panel Calculations'!E57","v":29.76383075063611},{"$f":"'Panel Calculations'!D58","v":29.373429356312538},{"$f":"'Panel Calculations'!E58","v":27.138363581758234},{"$f":"(AC59-AA59)/(AB59-Z59)","v":-0.25910987416729159},{"$f":"(AC59*Z59-AA59*AB59)/(Z59-AB59)","v":34.749309166134204}]
[null,null,{"$f":"C57+1","v":18},{"$f":"'Panel Calculations'!$D$80","v":26.85480979449062},{"$f":"'Panel Calculations'!$E$80","v":24.095190205509383},null,{"$f":"IF(Information!$H$21=\"x\",D60,0)","v":26.85480979449062},{"$f":"IF(Information!$H$21=\"x\",E60,0)","v":24.095190205509383},null,null,{"$f":"K59","v":27.082794908277428},{"$f":"L59","v":25.884003298357975},null,{"$f":"N59","v":1.134122960331559},71.330098406328247,93.469498419736325,46.734749209868163,-46.734749209868163,-7.7788721354323798E-3,{"$f":"(($E$93-$E$92)*(O60-$F$92)/($F$93-$F$92)+$E$92)/2","v":46.738638645935879},-46.738638645935879,{"$f":"IF(C60>0,L60,\"\")","v":25.884003298357975},null,null,"Sample Point",{"$f":"'Panel Calculations'!D80","v":26.85480979449062},{"$f":"'Panel Calculations'!E80","v":24.095190205509383},{"$f":"Z60+10*'Panel Calculations'!Q23","v":28.119087873753038},{"$f":"AA60+10*'Panel Calculations'!P23","v":34.014948314369526},{"$f":"(AC60-AA60)/(AB60-Z60)","v":7.8461837404057091},{"$f":"(AC60*Z60-AA60*AB60)/(Z60-AB60)","v":-186.61258175571089},{"$f":"(AE59-AE60)/(AD60-AD59)","v":27.310780022064232},{"$f":"AF60*AD60+AE60","v":27.672816391206567}]
[null,null,null,null,null,null,null,null,null,null,{"$f":"K60","v":27.082794908277428},{"$f":"L60","v":25.884003298357975},null,{"$f":"((I59-I56)^2+(J59-J56)^2)^0.5","v":1.8847540406834293},{"$f":"O58+N61","v":73.21485244701168},{"$f":"(((D59-D60)^2+(E59-E60)^2)^0.5)*Information!$D$21","v":82.482163344098311},41.241081672049155,-41.241081672049155,4.4629966069464899E-5,{"$f":"(($E$93-$E$92)*(O61-$F$92)/($F$93-$F$92)+$E$92)/2","v":41.241059357066121},-41.241059357066121,{"$f":"IF(C60>0,L61,\"\")","v":25.884003298357975}]
[null,null,null,{"$f":"(D59+AF63)/2","v":28.580390011032115},{"$f":"(E59+AG63)/2","v":27.343847906723557},null,{"$f":"IF(Information!$H$21=\"x\",D62,0)","v":28.580390011032115},{"$f":"IF(Information!$H$21=\"x\",E62,0)","v":27.343847906723557},{"$f":"SUM(D62:D63)/2","v":27.717599902761368},{"$f":"SUM(E62:E63)/2","v":25.719519056116468},{"$f":"IF(Information!$H$20=\"x\",I62,0)","v":27.717599902761368},{"$f":"IF(Information!$H$20=\"x\",J62,0)","v":25.719519056116468},null,{"$f":"N61","v":1.8847540406834293},73.21485244701168,82.482163344098311,41.241081672049155,-41.241081672049155,4.4629966069464899E-5,{"$f":"(($E$93-$E$92)*(O62-$F$92)/($F$93-$F$92)+$E$92)/2","v":41.241059357066121},-41.241059357066121,{"$f":"IF(C63>0,L62,\"\")","v":25.719519056116468},null,null,"Panel E (bottom)",{"$f":"'Panel Calculations'!D57","v":19.240788995479473},{"$f":"'Panel Calculations'!E57","v":29.76383075063611},{"$f":"'Panel Calculations'!D58","v":29.373429356312538},{"$f":"'Panel Calculations'!E58","v":27.138363581758234},{"$f":"(AC62-AA62)/(AB62-Z62)","v":-0.25910987416729159},{"$f":"(AC62*Z62-AA62*AB62)/(Z62-AB62)","v":34.749309166134204}]
[null,null,{"$f":"C60+1","v":19},{"$f":"D60","v":26.85480979449062},{"$f":"E60","v":24.095190205509383},null,{"$f":"IF(Information!$H$21=\"x\",D63,0)","v":26.85480979449062},{"$f":"IF(Information!$H$21=\"x\",E63,0)","v":24.095190205509383},null,null,{"$f":"K62","v":27.717599902761368},{"$f":"L62","v":25.719519056116468},null,{"$f":"N62","v":1.8847540406834293},73.21485244701168,82.482163344098311,41.241081672049155,-41.241081672049155,4.4629966069464899E-5,{"$f":"(($E$93-$E$92)*(O63-$F$92)/($F$93-$F$92)+$E$92)/2","v":41.241059357066121},-41.241059357066121,{"$f":"IF(C63>0,L63,\"\")","v":25.719519056116468},null,null,"Sample Point",{"$f":"'Panel Calculations'!D50","v":29.85},{"$f":"'Panel Calculations'!E50","v":1.9},{"$f":"'Panel Calculations'!D51","v":29.85},{"$f":"'Panel Calculations'!E51","v":51.440000000000005},{"$f":"IF(Z63<>AB63,(AC63-AA63)/(AB63-Z63),\"\")","v":""},{"$f":"IF(Z63<>AB63,(AC63*Z63-AA63*AB63)/(Z63-AB63),\"\")","v":""},{"$f":"IF(AD63<>\"\",(AE62-AE63)/(AD63-AD62),Z63)","v":29.85},{"$f":"AF63*AD62+AE62","v":27.014879422240547}]
[null,null,null,null,null,null,null,null,null,null,{"$f":"K63","v":27.717599902761368},{"$f":"L63","v":25.719519056116468},null,{"$f":"((I62-I59)^2+(J62-J59)^2)^0.5","v":0.65576859254428865},{"$f":"O61+N64","v":73.870621039555971},{"$f":"(((D62-D63)^2+(E62-E63)^2)^0.5)*Information!$D$21","v":84.127424608102515},42.063712304051258,-42.063712304051258,5.4708871155448975,{"$f":"(($E$93-$E$92)*(O64-$F$92)/($F$93-$F$92)+$E$92)/2","v":39.328268746278809},-39.328268746278809,{"$f":"IF(C63>0,L64,\"\")","v":25.719519056116468}]
[null,null,null,{"$f":"('Panel Calculations'!D50+AF63)/2","v":29.85},{"$f":"(E66+AG63)/2","v":25.555034813874965},null,{"$f":"IF(Information!$H$21=\"x\",D65,0)","v":29.85},{"$f":"IF(Information!$H$21=\"x\",E65,0)","v":25.555034813874965},{"$f":"SUM(D65:D66)/2","v":28.352404897245311},{"$f":"SUM(E65:E66)/2","v":24.825112509692175},{"$f":"IF(Information!$H$20=\"x\",I65,0)","v":28.352404897245311},{"$f":"IF(Information!$H$20=\"x\",J65,0)","v":24.825112509692175},null,{"$f":"N64","v":0.65576859254428865},73.870621039555971,84.127424608102515,42.063712304051258,-42.063712304051258,5.4708871155448975,{"$f":"(($E$93-$E$92)*(O65-$F$92)/($F$93-$F$92)+$E$92)/2","v":39.328268746278809},-39.328268746278809,{"$f":"IF(C66>0,L65,\"\")","v":24.825112509692175}]
[null,null,{"$f":"C63+1","v":20},{"$f":"D63","v":26.85480979449062},{"$f":"E63","v":24.095190205509383},null,{"$f":"IF(Information!$H$21=\"x\",D66,0)","v":26.85480979449062},{"$f":"IF(Information!$H$21=\"x\",E66,0)","v":24.095190205509383},null,null,{"$f":"K65","v":28.352404897245311},{"$f":"L65","v":24.825112509692175},null,{"$f":"N65","v":0.65576859254428865},73.870621039555971,84.127424608102515,42.063712304051258,-42.063712304051258,5.4708871155448975,{"$f":"(($E$93-$E$92)*(O66-$F$92)/($F$93-$F$92)+$E$92)/2","v":39.328268746278809},-39.328268746278809,{"$f":"IF(C66>0,L66,\"\")","v":24.825112509692175}]
[null,null,null,null,null,null,null,null,null,null,{"$f":"K66","v":28.352404897245311},{"$f":"L66","v":24.825112509692175},null,{"$f":"((I65-I62)^2+(J65-J62)^2)^0.5","v":1.0967864200966335},{"$f":"O64+N67","v":74.967407459652605},{"$f":"(((D65-D66)^2+(E65-E66)^2)^0.5)*Information!$D$21","v":76.203137363483421},38.101568681741711,-38.101568681741711,3.9449629223193767,{"$f":"(($E$93-$E$92)*(O67-$F$92)/($F$93-$F$92)+$E$92)/2","v":36.129087220582022},-36.129087220582022,{"$f":"IF(C66>0,L67,\"\")","v":24.825112509692175}]
[null,null,null,{"$f":"D65","v":29.85},{"$f":"E66","v":24.095190205509383},null,{"$f":"IF(Information!$H$21=\"x\",D68,0)","v":29.85},{"$f":"IF(Information!$H$21=\"x\",E68,0)","v":24.095190205509383},{"$f":"SUM(D68:D69)/2","v":28.352404897245311},{"$f":"SUM(E68:E69)/2","v":24.095190205509383},{"$f":"IF(Information!$H$20=\"x\",I68,0)","v":28.352404897245311},{"$f":"IF(Information!$H$20=\"x\",J68,0)","v":24.095190205509383},null,{"$f":"N67","v":1.0967864200966335},74.967407459652605,76.203137363483421,38.101568681741711,-38.101568681741711,3.9449629223193767,{"$f":"(($E$93-$E$92)*(O68-$F$92)/($F$93-$F$92)+$E$92)/2","v":36.129087220582022},-36.129087220582022,{"$f":"IF(C69>0,L68,\"\")","v":24.095190205509383}]
[null,"S3",{"$f":"C66+1","v":21},{"$f":"D66","v":26.85480979449062},{"$f":"E66","v":24.095190205509383},null,{"$f":"IF(Information!$H$21=\"x\",D69,0)","v":26.85480979449062},{"$f":"IF(Information!$H$21=\"x\",E69,0)","v":24.095190205509383},null,null,{"$f":"K68","v":28.352404897245311},{"$f":"L68","v":24.095190205509383},null,{"$f":"N68","v":1.0967864200966335},74.967407459652605,76.203137363483421,38.101568681741711,-38.101568681741711,3.9449629223193767,{"$f":"(($E$93-$E$92)*(O69-$F$92)/($F$93-$F$92)+$E$92)/2","v":36.129087220582022},-36.129087220582022,{"$f":"IF(C69>0,L69,\"\")","v":24.095190205509383}]
[null,null,null,null,null,null,null,null,null,null,{"$f":"K69","v":28.352404897245311},{"$f":"L69","v":24.095190205509383},null,{"$f":"((I68-I65)^2+(J68-J65)^2)^0.5","v":0.72992230418279291},{"$f":"O67+N70","v":75.697329763835398},{"$f":"(((D68-D69)^2+(E68-E69)^2)^0.5)*Information!$D$21-M70","v":68.499999999999545},34.249999999999773,-34.249999999999773,0.49999999999954525,{"$f":"(($E$93-$E$92)*(O70-$F$92)/($F$93-$F$92)+$E$92)/2","v":34},-34,{"$f":"IF(C69>0,L70,\"\")","v":24.095190205509383}]
[null,null,null,{"$f":"D68","v":29.85},{"$f":"'Panel Calculations'!E61","v":4.8951902055093797},null,{"$f":"IF(Information!$H$21=\"x\",D71,0)","v":29.85},{"$f":"IF(Information!$H$21=\"x\",E71,0)","v":4.8951902055093797},{"$f":"SUM(D71:D72)/2","v":28.352404897245311},{"$f":"SUM(E71:E72)/2","v":4.8951902055093797},{"$f":"IF(Information!$H$20=\"x\",I71,0)","v":28.352404897245311},{"$f":"IF(Information!$H$20=\"x\",J71,0)","v":4.8951902055093797},null,{"$f":"N70","v":0.72992230418279291},75.697329763835398,68.499999999999545,34.249999999999773,-34.249999999999773,0,{"$f":"$P$70/2","v":34.249999999999773},{"$f":"-T71","v":-34.249999999999773},{"$f":"IF(C72>0,L71,\"\")","v":4.8951902055093797}]
[null,null,{"$f":"C69+1","v":22},{"$f":"D69","v":26.85480979449062},{"$f":"E71","v":4.8951902055093797},null,{"$f":"IF(Information!$H$21=\"x\",D72,0)","v":26.85480979449062},{"$f":"IF(Information!$H$21=\"x\",E72,0)","v":4.8951902055093797},null,null,{"$f":"K71","v":28.352404897245311},{"$f":"L71","v":4.8951902055093797},null,{"$f":"N71","v":0.72992230418279291},75.697329763835398,68.499999999999545,34.249999999999773,-34.249999999999773,0,{"$f":"$P$70/2","v":34.249999999999773},-34.249999999999773,{"$f":"IF(C72>0,L72,\"\")","v":4.8951902055093797}]
[null,null,null,null,null,null,null,null,null,null,{"$f":"K72","v":28.352404897245311},{"$f":"L72","v":4.8951902055093797},null,{"$f":"((I71-I68)^2+(J71-J68)^2)^0.5","v":19.200000000000003},{"$f":"O70+N73","v":94.897329763835401},{"$f":"(((D71-D72)^2+(E71-E72)^2)^0.5)*Information!$D$21-M73","v":68.499999999999545},34.249999999999773,-34.249999999999773,0,34.249999999999773,-34.249999999999773,{"$f":"IF(C72>0,L73,\"\")","v":4.8951902055093797}]
[null,null,null,{"$f":"D65","v":29.85},{"$f":"(E72+E77)/2","v":3.39759510275469},null,{"$f":"IF(Information!$H$21=\"x\",D74,0)","v":29.85},{"$f":"IF(Information!$H$21=\"x\",E74,0)","v":3.39759510275469},{"$f":"SUM(D74:D75)/2","v":28.352404897245311},{"$f":"SUM(E74:E75)/2","v":4.1463926541320344},{"$f":"IF(Information!$H$20=\"x\",I74,0)","v":28.352404897245311},{"$f":"IF(Information!$H$20=\"x\",J74,0)","v":4.1463926541320344},null,{"$f":"N73","v":19.200000000000003},94.897329763835401,68.499999999999545,34.249999999999773,-34.249999999999773,0,34.249999999999773,-34.249999999999773,{"$f":"IF(C75>0,L74,\"\")","v":4.1463926541320344}]
[null,null,{"$f":"C72+1","v":23},{"$f":"D66","v":26.85480979449062},{"$f":"E72","v":4.8951902055093797},null,{"$f":"IF(Information!$H$21=\"x\",D75,0)","v":26.85480979449062},{"$f":"IF(Information!$H$21=\"x\",E75,0)","v":4.8951902055093797},null,null,{"$f":"K74","v":28.352404897245311},{"$f":"L74","v":4.1463926541320344},null,{"$f":"N74","v":19.200000000000003},94.897329763835401,68.499999999999545,34.249999999999773,-34.249999999999773,0,34.249999999999773,-34.249999999999773,{"$f":"IF(C75>0,L75,\"\")","v":4.1463926541320344}]
[null,null,null,null,null,null,null,null,null,null,{"$f":"K75","v":28.352404897245311},{"$f":"L75","v":4.1463926541320344},{"$f":"'Panel Calculations'!L137*'Panel Calculations'!L138","v":0},{"$f":"((I74-I71)^2+(J74-J71)^2)^0.5","v":0.74879755137734527},{"$f":"O73+N76","v":95.646127315212752},{"$f":"(((D74-D75)^2+(E74-E75)^2)^0.5)*Information!$D$21-M76","v":76.585328229367292},38.292664114683646,-38.292664114683646,8.0853282293677466,34.249999999999773,-34.249999999999773,{"$f":"IF(C75>0,L76,\"\")","v":4.1463926541320344}]
[null,null,null,{"$f":"(D78+'Panel Calculations'!D50)/2","v":28.352404897245311},{"$f":"'Panel Calculations'!E50","v":1.9},null,{"$f":"IF(Information!$H$21=\"x\",D77,0)","v":28.352404897245311},{"$f":"IF(Information!$H$21=\"x\",E77,0)","v":1.9},{"$f":"SUM(D77:D78)/2","v":27.603607345867964},{"$f":"SUM(E77:E78)/2","v":3.39759510275469},{"$f":"IF(Information!$H$20=\"x\",I77,0)","v":27.603607345867964},{"$f":"IF(Information!$H$20=\"x\",J77,0)","v":3.39759510275469},null,{"$f":"N76","v":0.74879755137734527},95.646127315212752,76.585328229367292,38.292664114683646,-38.292664114683646,8.0853282293677466,34.249999999999773,-34.249999999999773,{"$f":"IF(C78>0,L77,\"\")","v":3.39759510275469}]
[null,null,{"$f":"C75+1","v":24},{"$f":"D75","v":26.85480979449062},{"$f":"E75","v":4.8951902055093797},null,{"$f":"IF(Information!$H$21=\"x\",D78,0)","v":26.85480979449062},{"$f":"IF(Information!$H$21=\"x\",E78,0)","v":4.8951902055093797},null,null,{"$f":"K77","v":27.603607345867964},{"$f":"L77","v":3.39759510275469},null,{"$f":"N77","v":0.74879755137734527},95.646127315212752,76.585328229367292,38.292664114683646,-38.292664114683646,8.0853282293677466,34.249999999999773,-34.249999999999773,{"$f":"IF(C78>0,L78,\"\")","v":3.39759510275469}]
[null,null,null,null,null,null,null,null,null,null,{"$f":"K78","v":27.603607345867964},{"$f":"L78","v":3.39759510275469},{"$f":"M76","v":0},{"$f":"((I77-I74)^2+(J77-J74)^2)^0.5","v":1.0589596526296068},{"$f":"O76+N79","v":96.705086967842362},{"$f":"(((D77-D78)^2+(E77-E78)^2)^0.5)*Information!$D$21-M79","v":76.585328229367263},38.292664114683632,-38.292664114683632,8.0853282293677182,34.249999999999773,-34.249999999999773,{"$f":"IF(C78>0,L79,\"\")","v":3.39759510275469}]
[null,null,null,{"$f":"D81","v":26.85480979449062},{"$f":"'Panel Calculations'!E53","v":1.9},null,{"$f":"IF(Information!$H$21=\"x\",D80,0)","v":26.85480979449062},{"$f":"IF(Information!$H$21=\"x\",E80,0)","v":1.9},{"$f":"SUM(D80:D81)/2","v":26.85480979449062},{"$f":"SUM(E80:E81)/2","v":3.39759510275469},{"$f":"IF(Information!$H$20=\"x\",I80,0)","v":26.85480979449062},{"$f":"IF(Information!$H$20=\"x\",J80,0)","v":3.39759510275469},null,{"$f":"N79","v":1.0589596526296068},96.705086967842362,76.585328229367263,38.292664114683632,-38.292664114683632,8.0853282293677182,34.249999999999773,-34.249999999999773,{"$f":"IF(C81>0,L80,\"\")","v":3.39759510275469}]
[null,null,{"$f":"C78+1","v":25},{"$f":"D78","v":26.85480979449062},{"$f":"E78","v":4.8951902055093797},null,{"$f":"IF(Information!$H$21=\"x\",D81,0)","v":26.85480979449062},{"$f":"IF(Information!$H$21=\"x\",E81,0)","v":4.8951902055093797},null,null,{"$f":"K80","v":26.85480979449062},{"$f":"L80","v":3.39759510275469},null,{"$f":"N80","v":1.0589596526296068},96.705086967842362,76.585328229367263,38.292664114683632,-38.292664114683632,8.0853282293677182,34.249999999999773,-34.249999999999773,{"$f":"IF(C81>0,L81,\"\")","v":3.39759510275469}]
[null,null,null,null,null,null,null,null,null,null,{"$f":"K81","v":26.85480979449062},{"$f":"L81","v":3.39759510275469},{"$f":"M79","v":0},{"$f":"((I80-I77)^2+(J80-J77)^2)^0.5","v":0.7487975513773435},{"$f":"O79+N82","v":97.453884519219713},{"$f":"(((D80-D81)^2+(E80-E81)^2)^0.5)*Information!$D$21-M82","v":68.499999999999517},34.249999999999758,-34.249999999999758,-2.8421709430404007E-14,34.249999999999773,-34.249999999999773,{"$f":"IF(C81>0,L82,\"\")","v":3.39759510275469}]
[null,null,null,{"$f":"D84","v":0},{"$f":"E81","v":4.8951902055093797},null,{"$f":"IF(Information!$H$21=\"x\",D83,0)","v":0},{"$f":"IF(Information!$H$21=\"x\",E83,0)","v":4.8951902055093797},{"$f":"SUM(D83:D84)/2","v":0},{"$f":"SUM(E83:E84)/2","v":3.39759510275469},{"$f":"IF(Information!$H$20=\"x\",I83,0)","v":0},{"$f":"IF(Information!$H$20=\"x\",J83,0)","v":3.39759510275469},null,{"$f":"N82","v":0.7487975513773435},97.453884519219713,68.499999999999517,34.249999999999758,-34.249999999999758,-2.8421709430404007E-14,34.249999999999773,-34.249999999999773,{"$f":"IF(C84>0,L83,\"\")","v":3.39759510275469}]
[null,"S4",{"$f":"C81+1","v":26},{"$f":"'Panel Calculations'!D47","v":0},{"$f":"'Panel Calculations'!E47","v":1.9},null,{"$f":"IF(Information!$H$21=\"x\",D84,0)","v":0},{"$f":"IF(Information!$H$21=\"x\",E84,0)","v":1.9},null,null,{"$f":"K83","v":0},{"$f":"L83","v":3.39759510275469},null,{"$f":"N83","v":0.7487975513773435},97.453884519219713,68.499999999999517,34.249999999999758,-34.249999999999758,-2.8421709430404007E-14,34.249999999999773,-34.249999999999773,{"$f":"IF(C84>0,L84,\"\")","v":3.39759510275469}]
[null,null,null,null,null,null,null,null,null,null,{"$f":"K84","v":0},{"$f":"L84","v":3.39759510275469},{"$f":"M82","v":0},{"$f":"((I83-I80)^2+(J83-J80)^2)^0.5","v":26.85480979449062},{"$f":"O82+N85","v":124.30869431371033},{"$f":"(((D83-D84)^2+(E83-E84)^2)^0.5)*Information!$D$21-M85","v":68.499999999999517},34.249999999999758,-34.249999999999758,-2.8421709430404007E-14,34.249999999999773,-34.249999999999773,{"$f":"IF(C84>0,L85,\"\")","v":3.39759510275469}]
[]
[]
[]
[null,"S2 (Calc)",null,null,null,null,null,null,null,null,null,null,null,null,{"$f":"O25-Information!D19","v":35.011056684643165},{"$f":"(($P$70-$P$7)*O89/$O$70+$P$7)","v":305.58108817265963}]
[]
[]
[null,null,null,"a1",{"$f":"P10","v":501.31475755290717},{"$f":"O10","v":1.4199344528611744}]
[null,null,null,"a2",{"$f":"Information!D26","v":68},{"$f":"O70","v":75.697329763835398}]
[null,null,null,"a3",{"$f":"P70","v":68.499999999999545},{"$f":"O70","v":75.697329763835398}]

{"sheet":"Guides","index":3,"n_rows":28,"n_cols":18,"rows_kept":28,"cut":false,"hidden":false,"merged":[]}
["Guides",null,"x","y",null,"x","y",null,null,"x1","y1","x2","y2","a","b","x","y","l"]
[]
[null,null,{"$f":"'Panel Calculations'!D61","v":0},{"$f":"'Panel Calculations'!E61","v":4.8951902055093797},null,{"$f":"IF(Information!$H$22=\"x\",C3,0)","v":0},{"$f":"IF(Information!$H$22=\"x\",D3,0)","v":4.8951902055093797}]
[null,1,{"$f":"'Panel Calculations'!D49","v":31.75},{"$f":"D3","v":4.8951902055093797},null,{"$f":"IF(Information!$H$22=\"x\",C4,0)","v":31.75},{"$f":"IF(Information!$H$22=\"x\",D4,0)","v":4.8951902055093797}]
[]
[null,null,{"$f":"'Panel Calculations'!D33","v":3.8},{"$f":"'Panel Calculations'!E40","v":53.34},null,{"$f":"IF(Information!$H$22=\"x\",C6,0)","v":3.8},{"$f":"IF(Information!$H$22=\"x\",D6,0)","v":53.34}]
[null,2,{"$f":"C6","v":3.8},{"$f":"'Panel Calculations'!E45","v":0},null,{"$f":"IF(Information!$H$22=\"x\",C7,0)","v":3.8},{"$f":"IF(Information!$H$22=\"x\",D7,0)","v":0}]
[]
[null,null,{"$f":"P10","v":31.75},{"$f":"Q10","v":26.522570661322696},null,{"$f":"IF(Information!$H$22=\"x\",C9,0)","v":31.75},{"$f":"IF(Information!$H$22=\"x\",D9,0)","v":26.522570661322696},null,{"$f":"'Panel Calculations'!B55","v":"Panel E"},{"$f":"'Panel Calculations'!D57","v":19.240788995479473},{"$f":"'Panel Calculations'!E57","v":29.76383075063611},{"$f":"'Panel Calculations'!D58","v":29.373429356312538},{"$f":"'Panel Calculations'!E58","v":27.138363581758234},{"$f":"(M9-K9)/(L9-J9)","v":-0.25910987416729159},{"$f":"(M9*J9-K9*L9)/(J9-L9)","v":34.749309166134204}]
[null,3,{"$f":"P11","v":0},{"$f":"Q11","v":34.749309166134204},null,{"$f":"IF(Information!$H$22=\"x\",C10,0)","v":0},{"$f":"IF(Information!$H$22=\"x\",D10,0)","v":34.749309166134204},null,{"$f":"'Panel Calculations'!B67","v":"Panel G"},{"$f":"'Panel Calculations'!D68","v":31.75},{"$f":"'Panel Calculations'!E68","v":0},{"$f":"'Panel Calculations'!D69","v":31.75},{"$f":"'Panel Calculations'!E69","v":53.34},{"$f":"IF(J10<>L10,(M10-K10)/(L10-J10),\"\")","v":""},{"$f":"IF(J10<>L10,(M10*J10-K10*L10)/(J10-L10),\"\")","v":""},{"$f":"IF(N10<>\"\",(O9-O10)/(N10-N9),J10)","v":31.75},{"$f":"P10*N9+O9","v":26.522570661322696},{"$f":"(P10^2+Q10^2)^0.5","v":41.370391036160818}]
[null,null,null,null,null,null,null,null,{"$f":"'Panel Calculations'!B67","v":"Panel G"},{"$f":"'Panel Calculations'!D67","v":0},{"$f":"'Panel Calculations'!E67","v":0},{"$f":"'Panel Calculations'!D70","v":0},{"$f":"'Panel Calculations'!E70","v":53.34},{"$f":"IF(J11<>L11,(M11-K11)/(L11-J11),\"\")","v":""},{"$f":"IF(J11<>L11,(M11*J11-K11*L11)/(J11-L11),\"\")","v":""},{"$f":"IF(N11<>\"\",(O9-O11)/(N11-N9),J11)","v":0},{"$f":"P11*N9+O9","v":34.749309166134204},{"$f":"(P11^2+Q11^2)^0.5","v":34.749309166134204}]
[null,null,null,null,null,{"$f":"IF(Information!$H$22=\"x\",C12,0)","v":0},{"$f":"IF(Information!$H$22=\"x\",D12,0)","v":0}]
[null,4,null,null,null,{"$f":"IF(Information!$H$22=\"x\",C13,0)","v":0},{"$f":"IF(Information!$H$22=\"x\",D13,0)","v":0}]
[]
[null,null,null,null,null,{"$f":"IF(Information!$H$22=\"x\",C15,0)","v":0},{"$f":"IF(Information!$H$22=\"x\",D15,0)","v":0}]
[null,5,null,null,null,{"$f":"IF(Information!$H$22=\"x\",C16,0)","v":0},{"$f":"IF(Information!$H$22=\"x\",D16,0)","v":0}]
[]
[null,null,null,null,null,{"$f":"IF(Information!$H$22=\"x\",C18,0)","v":0},{"$f":"IF(Information!$H$22=\"x\",D18,0)","v":0}]
[null,6,null,null,null,{"$f":"IF(Information!$H$22=\"x\",C19,0)","v":0},{"$f":"IF(Information!$H$22=\"x\",D19,0)","v":0}]
[]
[]
[]
[]
[null,null,0,{"$f":"0","v":0},null,{"$f":"IF(Information!$H$22=\"x\",C24,0)","v":0},{"$f":"IF(Information!$H$22=\"x\",D24,0)","v":0}]
[null,"X",0,{"$f":"MAX(C3:D20)","v":53.34},null,{"$f":"IF(Information!$H$22=\"x\",C25,0)","v":0},{"$f":"IF(Information!$H$22=\"x\",D25,0)","v":53.34}]
[]
[null,null,0,{"$f":"0","v":0},null,{"$f":"IF(Information!$H$22=\"x\",C27,0)","v":0},{"$f":"IF(Information!$H$22=\"x\",D27,0)","v":0}]
[null,"Y",{"$f":"D25","v":53.34},{"$f":"D27","v":0},null,{"$f":"IF(Information!$H$22=\"x\",C28,0)","v":53.34},{"$f":"IF(Information!$H$22=\"x\",D28,0)","v":0}]